BEGIN:VCALENDAR
VERSION:2.0
PRODID:-//https://fadeu-old.urantiacos.cl///NONSGML kigkonsult.se iCalcreator 2.10.15//
METHOD:PUBLISH
BEGIN:VEVENT
UID:20260420T094152UTC-30031bR7CG@https://fadeu-old.urantiacos.cl/
DTSTAMP:20260420T094152Z
DESCRIPTION:Luis Eduardo Bresciani Lecannelier\, Director de la Escuela de 
 Arquitectura\, y Juan Infante Claro\, Presidente del Centro de Alumnos de 
 Arquitectura\, le invitan cordialmente a la inauguraci&oacute\;n de la obr
 a 'nuestro patio' realizada por los estudiantes de arquitectura con la col
 aboraci&oacute\;n de BITUMIX.&nbsp\;Esta se realizar&aacute\; el jueves 3 
 de enero a las 13.00 horas\, en Thomas Sommerscale 4188\, Puente Alto.&nbs
 p\;\n&nbsp\;\n https://fadeu-old.urantiacos.cl/agenda/evento/1785-inaugura
 cion-nuestro-patio
DTSTART:20190103T160000Z
DTEND:20190103T170000Z
LOCATION:Thomas Sommerscale 4188\, Puente Alto (Thomas Sommerscale 4188\, P
 uente Alto)
SUMMARY:Inauguración 'Nuestro patio'
URL:https://fadeu-old.urantiacos.cl/agenda/evento/1785-inauguracion-nuestro
 -patio
END:VEVENT
END:VCALENDAR
