BEGIN:VCALENDAR
VERSION:2.0
PRODID:-//https://fadeu-old.urantiacos.cl///NONSGML kigkonsult.se iCalcreator 2.10.15//
METHOD:PUBLISH
BEGIN:VEVENT
UID:20260423T224349UTC-5280xl37bh@https://fadeu-old.urantiacos.cl/
DTSTAMP:20260423T224349Z
DESCRIPTION:El desarrollo local es un proceso que está en constante debate.
  En él\, convergen perspectivas y planteamientos que no necesariamente son
  complementarios. La orientación del desarrollo\, la distribución de sus e
 fectos y las responsabilidades tras dichas decisiones forma parte de la ag
 enda actual que discute los roles de diferentes actores\, las escalas de r
 eferencia sobre las cuales intervenir\, los mecanismos de asignación de re
 cursos y los aspectos éticos en la toma de decisiones y en la incorporació
 n de diferentes grupos de interés.\nEl coloquio propone una revisión de la
  relación entre las partes interesadas que tienen injerencia sobre el desa
 rrollo. A partir de la revisión conceptual y del levantamiento de casos de
  estudio en distintas regiones del país\, los expositores presentarán enfo
 ques y resultados preliminares que enfatizan la necesidad de una vinculaci
 ón de la investigación con los desafíos a nivel local de descentralización
 \, calidad de vida y equidad.\nInscripcionesrosalas@uc.cl\nOrganizanCentro
  de Desarrollo Urbano Sustentable e Instituto de Estudios Urbanos y Territ
 oriales UC.*\n* Los organizadores agradecen el apoyo del proyecto Fondecyt
  Regular 2016 1161417 y del Centro de Desarrollo Urbano Sustentable.\n+ Re
 visa el programa completo&nbsp\;aquí.\n&nbsp\;\n https://fadeu-old.urantia
 cos.cl/agenda/evento/691-coloquio-cedeus-ieut-2017-la-articulacion-publico
 -privada-en-el-desarrollo-local
DTSTART:20170105T114500Z
DTEND:20170105T160000Z
LOCATION:Sala de Doctorado\, 2do piso\, Campus Lo Contador (El Comendador 1
 970\, Providencia\, Región Metropolitana\, Chile)
SUMMARY:Coloquio CEDEUS + IEUT 2017: La articulación público-privada en el 
 desarrollo local
URL:https://fadeu-old.urantiacos.cl/agenda/evento/691-coloquio-cedeus-ieut-
 2017-la-articulacion-publico-privada-en-el-desarrollo-local
END:VEVENT
END:VCALENDAR
