BEGIN:VCALENDAR
VERSION:2.0
PRODID:-//https://fadeu-old.urantiacos.cl///NONSGML kigkonsult.se iCalcreator 2.10.15//
METHOD:PUBLISH
BEGIN:VEVENT
UID:20260420T093120UTC-9356hVBaS8@https://fadeu-old.urantiacos.cl/
DTSTAMP:20260420T093120Z
DESCRIPTION:Queremos invitarlos cordialmente a la inauguraci&oacute\;n de l
 a exposici&oacute\;n 'Propuesta Celebrativa del Dise&ntilde\;o' del dise&n
 tilde\;ador Ricardo Lang\, a realizarse el martes 8 de enero\, a las 19:30
  horas\, en la Sala el Refectorio\, en el Campus Lo Contador (El Comendado
 r 1916\, Providencia).\nResumen\nCelebrar es tambi&eacute\;n en su sentido
  original reunir\; celebrar entonces es un venir de muchos\, de &ldquo\;mu
 ltitud&rdquo\;: venir en una ocasi&oacute\;n abierta para disminuir el esp
 esor insoslayable de la distancia entre las personas.\nA trav&eacute\;s de
 l dibujo y la definici&oacute\;n de las formas\, Ricardo Lang y su oficio 
 del dise&ntilde\;o han recogido el eco de la poes&iacute\;a y han dado for
 ma a estos actos humanos a trav&eacute\;s de la celebraci&oacute\;n del &l
 dquo\;hecho mismo&rdquo\;\, exactamente ah&iacute\; donde la poes&iacute\;
 a se concilia con la acci&oacute\;n que se emprende: un campo donde lo des
 conocido revela finalmente lo nuevo. Aqu&iacute\; el bello testimonio que 
 da cuenta de una heredad que recibe de la poes&iacute\;a su posici&oacute\
 ;n en el mundo\; esta &ldquo\;leve transgresi&oacute\;n&rdquo\; de lo coti
 diano en obra de arte\, parece erigir en el trabajo que aqu&iacute\; se ex
 pone un manifiesto sobre los actos humanos y la forma que toman &ldquo\;ca
 da vez&rdquo\;.\nEl acto celebrativo es una construcci&oacute\;n y como ta
 l proyecta y ejecuta: espacio\, elementos\, alimento\, bebida. Ahora bien\
 , el gesto del brindis ha tomado un espesor en el dise&ntilde\;o y creaci&
 oacute\;n de diversos soportes para la comida\, los que han sido construid
 os con una austeridad que da paso al realce de aquello que contiene y se e
 ntrega al comensal como un regalo.\nFinanciado por Fondart Nacional - L&ia
 cute\;nea Dise&ntilde\;o\, modalidad Investigaci&oacute\;n 2018.\n&nbsp\;
 \nRicardo Lang Viacava. Dise&ntilde\;ador Industrial y profesor titular de
  la Pontificia Universidad Cat&oacute\;lica de Valpara&iacute\;so. Ha ejer
 cido la docencia en forma continua desde 1981 en la Escuela de Arquitectur
 a y Dise&ntilde\;o PUCV. Es miembro de la Corporaci&oacute\;n Cultural Ame
 reida\, 'Ciudad Abierta'.\nA partir de 1984 y en conjunto con los talleres
  de la Escuela de Arquitectura y Dise&ntilde\;o de la PUCV\, realiza a&nti
 lde\;o a a&ntilde\;o viajes de Traves&iacute\;as por Am&eacute\;rica\, exp
 eriencias de estudio y obra ejecutadas en distintos puntos del continente.
 &nbsp\;\nHa realizado investigaciones originadas en la tem&aacute\;tica 'd
 ise&ntilde\;o\, acto y celebraci&oacute\;n'\, presentada por primera vez e
 n L&acute\;Ensci-Les Ateliers\, Paris en 1987\, en seminarios y charlas en
  universidades nacionales y del extranjero\, Bienales de Dise&ntilde\;o na
 cionales\, como tambi&eacute\;n en publicaciones especializadas en el &aac
 ute\;rea de la arquitectura y del dise&ntilde\;o. En 2008 publica&nbsp\;Di
 se&ntilde\;o\, Acto y Celebraci&oacute\;n\, la diversi&oacute\;n del h&aac
 ute\;bito\, reeditado en 2014.\nHa sido invitado a participar de talleres 
 de arquitectura y dise&ntilde\;o en distintas universidades del pa&iacute\
 ;s\, y tambi&eacute\;n como jurado de concursos nacionales e internacional
 es de dise&ntilde\;o.\n&nbsp\;\nFecha: Martes 8 enero 2019Hora: 19:30 hrs.
 Lugar: Sala el RefectorioExposici&oacute\;n: desde 8 al 12 de enero 2019\n
  https://fadeu-old.urantiacos.cl/agenda/evento/1783-inauguracion-exposicio
 n-propuesta-celebrativa-del-diseno
DTSTART:20190108T223000Z
DTEND:20190108T233000Z
LOCATION:Sala el Refectorio (El Comendador 1916\, providencia)
SUMMARY:Inauguración exposición 'Propuesta celebrativa del diseño'
URL:https://fadeu-old.urantiacos.cl/agenda/evento/1783-inauguracion-exposic
 ion-propuesta-celebrativa-del-diseno
END:VEVENT
BEGIN:VEVENT
UID:20260420T093120UTC-9369Z99Id9@https://fadeu-old.urantiacos.cl/
DTSTAMP:20260420T093120Z
DESCRIPTION:Alessandro Baricco\, renombrado escritor\, dramaturgo y m&uacut
 e\;sico italiano\, autor de&nbsp\;Tierras de cristal&nbsp\;y&nbsp\;Oc&eacu
 te\;ano mar\,&nbsp\;es el nuevo invitado al afamado proyecto 'La Ciudad y 
 las Palabras'\, Programa dependiente del Doctorado en Arquitectura y Estud
 ios Urbanos de la Pontificia Universidad Cat&oacute\;lica de Chile y auspi
 ciado por 'La Tercera'. Baricco dictar&aacute\; una charla el d&iacute\;a 
 08 de enero a las 18.30 h. en el auditorio de la Facultad de Arquitectura\
 , Dise&ntilde\;o y Estudios Urbanos UC.&nbsp\;\n&nbsp\;&nbsp\;\nAlessandro
  Baricco (Turin\, 1958)\n&nbsp\;\nEscritor\, dramaturgo y m&uacute\;sico i
 taliano. Tras licenciarse en Filosof&iacute\;a y estudiar Piano\, sus prim
 eros escritos fueron ensayos de cr&iacute\;tica musical\, centr&aacute\;nd
 ose en la relaci&oacute\;n entre la m&uacute\;sica y la modernidad. Colabo
 r&oacute\; como cr&iacute\;tico musical en publicaciones como&nbsp\;La Rep
 ubblica&nbsp\;y&nbsp\;La Stampa. Ha escrito y dirigido varias obras de tea
 tro. Varias de sus novelas han sido adaptadas al cine\, y ha obtenido nume
 rosos premios\, entre allos el&nbsp\;Premio M&eacute\;dicis&nbsp\;en 1991 
 por&nbsp\;Tierras de cristal&nbsp\;y el&nbsp\;Premio Viareggio&nbsp\;en 19
 93 por&nbsp\;Oc&eacute\;ano mar.\n&nbsp\;\nInscripciones_**Entrada liberad
 a\, cupos limitados\, inscripciones al correo&nbsp\;lvillarr@uc.cl\n&nbsp\
 ;\nFecha_Martes 08 de enero de 2019\, 18.30 h.\n&nbsp\;\nLugar_Auditorio F
 ADEU\, Campus Lo Contador. El Comendador 1916\, Providencia.\n&nbsp\;\nOrg
 aniza_\nProyecto 'La Ciudad y las Palabras'Doctorado en Arquitectura y Est
 udios Urbanos UC.\n&nbsp\;\nAuspician_\nAngloAmericanLa TerceraTironi Asoc
 iadosIMELLibrer&iacute\;as UC\n&nbsp\;\n&nbsp\;\nNoticiasContacto:&nbsp\;r
 edesarq@uc.cl&nbsp\;| +56 2 2354 7747www.arquitectura.uc.cl https://fadeu-
 old.urantiacos.cl/agenda/evento/1782-la-ciudad-y-las-palabras-alessandro-b
 aricco
DTSTART:20190108T213000Z
DTEND:20190108T223000Z
LOCATION:Auditorio FADEU\, Campus Lo Contador PUC (El Comendador 1916\, Pro
 videncia\, Providencia\, Región Metropolitana\, Chile)
SUMMARY:La Ciudad y Las Palabras | Alessandro Baricco
URL:https://fadeu-old.urantiacos.cl/agenda/evento/1782-la-ciudad-y-las-pala
 bras-alessandro-baricco
END:VEVENT
BEGIN:VEVENT
UID:20260420T093120UTC-9377uau3vF@https://fadeu-old.urantiacos.cl/
DTSTAMP:20260420T093120Z
DESCRIPTION:&nbsp\;\nEl&nbsp\;Taller de Propiedad Intelectual y Transferenc
 ia Tecnol&oacute\;gica\, se realizar&aacute\; el pr&oacute\;ximo&nbsp\;mar
 tes 8 de enero&nbsp\;de&nbsp\;9 a 18 horas en la sala L&aacute\;mpara\, ed
 ificio de la Escuela de&nbsp\;Dise&ntilde\;o\, dirigido por la Direcci&oac
 ute\;n de Transferencia y Desarrollo de nuestra Universidad. El programa d
 el Seminario lo pueden descargar de&nbsp\;aqu&iacute\;.\n\n&nbsp\;\nEste T
 aller no solo&nbsp\;es muy importante para todos aquellos acad&eacute\;mic
 os que actualmente est&aacute\;n trabajando o tienen inter&eacute\;s en&nb
 sp\;postular a proyectos de I+D (del tipo FONDEF\, CORFO u otros)\, sino q
 ue constituye un requisito de postulaci&oacute\;n&nbsp\;para el concurso&n
 bsp\;Semilla FADEU 'Desaf&iacute\;os desde la Industria' cuya convocatoria
  cierra el&nbsp\;martes 22 de enero. En &eacute\;sta\, los equipos postula
 ntes deber&aacute\;n responder a uno de los desaf&iacute\;os&nbsp\;propues
 tos por alguna de las 3 empresas socias del concurso. M&aacute\;s informac
 i&oacute\;n la pueden encontrar&nbsp\;aqu&iacute\;.&nbsp\;\n&nbsp\;\n\n ht
 tps://fadeu-old.urantiacos.cl/agenda/evento/1786-taller-de-propiedad-intel
 ectual-y-transferencia-tecnologica
DTSTART:20190108T120000Z
DTEND:20190108T210000Z
LOCATION:Sala Lámpara\, Campus Lo Contador (El Comendador 1916\, Providenci
 a\, Providencia\, Región Metropolitana\, Chile)
SUMMARY:Taller de Propiedad Intelectual y Transferencia Tecnológica
URL:https://fadeu-old.urantiacos.cl/agenda/evento/1786-taller-de-propiedad-
 intelectual-y-transferencia-tecnologica
END:VEVENT
END:VCALENDAR
