BEGIN:VCALENDAR
VERSION:2.0
PRODID:-//https://fadeu-old.urantiacos.cl///NONSGML kigkonsult.se iCalcreator 2.10.15//
METHOD:PUBLISH
BEGIN:VEVENT
UID:20260420T095021UTC-3025vW7wpV@https://fadeu-old.urantiacos.cl/
DTSTAMP:20260420T095021Z
DESCRIPTION:&nbsp\;\n\n\n\nSe acerca la celebraci&oacute\;n de los 50 a&nti
 lde\;os de Dise&ntilde\;o UC. Si eres ex-alumno y est&aacute\;s interesado
  en asistir\,&nbsp\; a&uacute\;n est&aacute\;s a tiempo de inscribirte en 
 este encuentro que contempla en lanzamiento de la publicaci&oacute\;n 50 A
 &ntilde\;os Dise&ntilde\;o UC\, un repaso por la trayectoria\, hitos y per
 sonajes que han construido esta escuela.&nbsp\;https://goo.gl/forms/s9lCu7
 ZvfsKFIm2i2\n\n\n https://fadeu-old.urantiacos.cl/agenda/evento/1787-celeb
 racion-de-los-50-anos-de-la-escuela-de-diseno-uc
DTSTART:20190109T220000Z
DTEND:20190109T230000Z
LOCATION:Patio de madera\, Campus Lo Contador (El Comendador 1916\, Provide
 ncia\, Providencia\, Región Metropolitana\, Chile)
SUMMARY:Celebración de los 50 años de la Escuela de Diseño UC
URL:https://fadeu-old.urantiacos.cl/agenda/evento/1787-celebracion-de-los-5
 0-anos-de-la-escuela-de-diseno-uc
END:VEVENT
END:VCALENDAR
