BEGIN:VCALENDAR
VERSION:2.0
PRODID:-//https://fadeu-old.urantiacos.cl///NONSGML kigkonsult.se iCalcreator 2.10.15//
METHOD:PUBLISH
BEGIN:VEVENT
UID:20260421T051219UTC-3474axmkLm@https://fadeu-old.urantiacos.cl/
DTSTAMP:20260421T051219Z
DESCRIPTION:'La Arquitectura como Medio&rdquo\; expondr&aacute\; el trabajo
  realizado por el arquitecto Alfredo Thiermannen los &uacute\;ltimos a&nti
 lde\;os. A trav&eacute\;s del an&aacute\;lisis de referentes hist&oacute\;
 ricos y de proyectos construidos\, lacharla ahondar&aacute\; en la relaci&
 oacute\;n e intersecci&oacute\;n del proyecto de arquitectura con otros me
 diosponiendo en relevancia la importancia de la cultura material en el mun
 do en el que todo parecetender a lo virtual.\nAlfredo Thiermann es arquite
 cto y candidato a doctor en la ETH en Zurich. Su trabajo ha sidopublicado 
 y exhibido en Thersholds Journal of Architecture\, ARQ\, Potlatch y Real R
 eview\; en elMuseo Nacional de Bellas Artes\, Museo de Arte Moderno de Nue
 va York (MoMA) y la Bienal deDise&ntilde\;o de Estambul\, entre otros medi
 os e instituciones. Alfredo vive\, trabaja y cuidad de sushijos Pedro y Ju
 an entre Berl&iacute\;n\, Zurich y Santiago\, desarrollando su pr&aacute\;
 ctica y una investigaci&oacute\;ntitulada provisoriamente &ldquo\;Radio-Ac
 tivities: The Architecture of Broadcasting in Cold War Berlin&rdquo\;.\nFe
 cha_Mi&eacute\;rcoles 10 de enero de 2018\, 18.30 hrs.\nLugar_Sala Multius
 o -1\, El Comendador 1916. Providencia\nInvita_Arquitectura UC https://fad
 eu-old.urantiacos.cl/agenda/evento/1433-conferencia-alfredo-thiermann
DTSTART:20180110T213000Z
DTEND:20180110T223000Z
LOCATION:Sala Multiuso -1 (El Comendador 1916\, Providencia\, Región Metrop
 olitana\, Chile)
SUMMARY:Conferencia Alfredo Thiermann
URL:https://fadeu-old.urantiacos.cl/agenda/evento/1433-conferencia-alfredo-
 thiermann
END:VEVENT
END:VCALENDAR
