BEGIN:VCALENDAR
VERSION:2.0
PRODID:-//https://fadeu-old.urantiacos.cl///NONSGML kigkonsult.se iCalcreator 2.10.15//
METHOD:PUBLISH
BEGIN:VEVENT
UID:20260420T094147UTC-6114dgLszt@https://fadeu-old.urantiacos.cl/
DTSTAMP:20260420T094147Z
DESCRIPTION:Plans and Situated (Algorithmic) Actions:Networked Medical Devi
 ces as Sites of Feminist Technoscience or&nbsp\;Encountering the More Than
  Human in the Middle of the NightPresents:&nbsp\;Laura Forlano\nHow do you
  study people\, things and futures that do not yet exist? And\, what does 
 a feminist approach to designing futures look like? Based on 10 years of s
 cholarship and creative practice\, this talk will draw on theories around 
 the posthuman and the more-than-human in order to understand the emergent 
 aesthetics\, ethics and politics at the intersection of design and technol
 ogy. This paper takes on the tensions between the imaginaries of automatio
 n and in networked medical devices and the realities of lived experience b
 y analyzing &ldquo\;the world&rsquo\;s first hybrid closed loop system\,&r
 dquo\; a recently released insulin pump and&nbsp\;continuous glucose monit
 or (CGM) system.\nCu&aacute\;ndo: jueves 10 de enero\, 12:00 hrs.D&oacute\
 ;nde: Sal&oacute\;n Sergio Larra&iacute\;n\, Campus Lo ContadorInscripcion
 es:&nbsp\;https://goo.gl/forms/fiD8QRrm9KiKULvk2\nLaura Forlano&nbsp\;es e
 scritora\, cient&iacute\;fica social e investigadora en dise&ntilde\;o. Ac
 tualmente es Profesora Asociada del Instituto de Dise&ntilde\;o del Illino
 is Institute of Technology en Chicago\, donde dirige el&nbsp\;Critical Fut
 ures Lab. Es investigadora visitante en la&nbsp\;Digital Life Initiative&n
 bsp\;en Cornell Tech en la ciudad de Nueva York y profesora asociada en el
 &nbsp\;Berkman Klein Center for Internet &amp\; Society&nbsp\;en la Univer
 sidad de Harvard. Con su investigaci&oacute\;n explora la intersecci&oacut
 e\;n entre las tecnolog&iacute\;as emergentes\, las pr&aacute\;cticas mate
 riales y el futuro de las ciudades\, abordando temas como los veh&iacute\;
 culos aut&oacute\;nomos\, las impresiones 3D\, los textiles inteligentes y
  las tecnolog&iacute\;as m&eacute\;dicas portables. Forlano recibi&oacute\
 ; su Ph.D. en Comunicaciones de la Universidad de Columbia.\nInvitada por 
 el&nbsp\;Proyecto Fondecyt N&ordm\; 1180062&nbsp\;a cargo de Mart&iacute\;
 n Tironi\, con la colaboraci&oacute\;n de la revista&nbsp\;Dise&ntilde\;a.
  Su conferencia forma parte del seminario regular&nbsp\;Sociedad\, Dise&nt
 ilde\;o y Tecnolog&iacute\;a (SDT).\n&nbsp\;\n https://fadeu-old.urantiaco
 s.cl/agenda/evento/1788-charla-laura-forlano
DTSTART:20190110T150000Z
DTEND:20190110T160000Z
LOCATION:Salón Sergio Larraín\, Campus Lo Contador ()
SUMMARY:Charla Laura Forlano 
URL:https://fadeu-old.urantiacos.cl/agenda/evento/1788-charla-laura-forlano
END:VEVENT
END:VCALENDAR
