BEGIN:VCALENDAR
VERSION:2.0
PRODID:-//https://fadeu-old.urantiacos.cl///NONSGML kigkonsult.se iCalcreator 2.10.15//
METHOD:PUBLISH
BEGIN:VEVENT
UID:20260421T045951UTC-98194LsCUF@https://fadeu-old.urantiacos.cl/
DTSTAMP:20260421T045951Z
DESCRIPTION:El pr&oacute\;ximo jueves se realizar&aacute\; en los pasillos 
 de la Casona la muestra que selecciona los mejores trabajos realizados por
  los alumnos del ''Taller de Fotograf&iacute\;a de Arquitectura y Paisaje:
  la serie fotogr&aacute\;fica'' durante el primer y segundo semestre de 20
 17. El curso\, que cumpli&oacute\; su sexta versi&oacute\;n a cargo del ar
 quitecto y fot&oacute\;grafo Felipe Fontecilla\, en el &aacute\;rea de Edu
 caci&oacute\;n Continua Arquitectura UC busca ''estudiar la fotograf&iacut
 e\;a como una forma disciplinada de ver y expresar ideas. El trabajar con 
 el concepto de serie fotogr&aacute\;fica\, como metodolog&iacute\;a de tra
 bajo personal\, permite al alumno construir una estrategia de narrativa vi
 sual cargada de sentido que va m&aacute\;s all&aacute\; de una simple reco
 lecci&oacute\;n de im&aacute\;genes notables''.\nFecha_Jueves 11 de enero 
 de 2018\, 18.30 hrs.\nLugar_Estudio Com&uacute\;n\, Hall de Acceso Edifici
 o EARQ UC. El Comendador 1936. Providencia.\nInvita_Arquitectura UCEducaci
 &oacute\;n Continua UC\n&nbsp\;\n https://fadeu-old.urantiacos.cl/agenda/e
 vento/1437-inauguracion-exposicion-fotografia-de-arquitectura-y-paisaje
DTSTART:20180111T213000Z
DTEND:20180111T223000Z
LOCATION:Hall Acceso Edificio escuela de Arquitectura UC (El Comendador 193
 6\, Providencia\, Región Metropolitana\, Chile)
SUMMARY:Inauguración Exposición Fotografía de Arquitectura y Paisaje
URL:https://fadeu-old.urantiacos.cl/agenda/evento/1437-inauguracion-exposic
 ion-fotografia-de-arquitectura-y-paisaje
END:VEVENT
BEGIN:VEVENT
UID:20260421T045951UTC-98241AlBcB@https://fadeu-old.urantiacos.cl/
DTSTAMP:20260421T045951Z
DESCRIPTION:El seminario se realizar&aacute\; los d&iacute\;as 11 y 12 de e
 nero en el Campus Lo Contador de la Pontificia Universidad Cat&oacute\;lic
 a de Chile. El Comendador 1916\, Providencia\, Santiago. Todas las activid
 ades de este evento ser&aacute\;n gratuitas: postulaci&oacute\;n\, present
 aci&oacute\;n\, etc\nM&aacute\;s Informaci&oacute\;n del evento en visdato
 s.cl\nOrganizan Escuela de Dise&ntilde\;o UC | Proyecto apoyado por CorfoC
 olabora Facultad de Comunicaciones UC https://fadeu-old.urantiacos.cl/agen
 da/evento/1426-seminario-en-visualizacion-de-datos-visdatos-santiago-2018
DTSTART:20180111T030000Z
LOCATION:Campus Lo Contador (El Comendador 1916\, Providencia\, Providencia
 \, Región Metropolitana\, Chile)
SUMMARY:Seminario en Visualización de Datos VISDatos| Santiago 2018
URL:https://fadeu-old.urantiacos.cl/agenda/evento/1426-seminario-en-visuali
 zacion-de-datos-visdatos-santiago-2018
END:VEVENT
END:VCALENDAR
