BEGIN:VCALENDAR
VERSION:2.0
PRODID:-//https://fadeu-old.urantiacos.cl///NONSGML kigkonsult.se iCalcreator 2.10.15//
METHOD:PUBLISH
BEGIN:VEVENT
UID:20260421T051217UTC-8518CU6zZ8@https://fadeu-old.urantiacos.cl/
DTSTAMP:20260421T051217Z
DESCRIPTION:Maria Encarna&ccedil\;&atilde\;o Beltr&atilde\;o Sposito es pro
 fesora del Departamento de Geografia de la Universidade Estadual Paulista 
 (Unesp). Doctora en Geograf&iacute\;a Humana\, Universidade de S&atilde\;o
  Paulo (USP). Coordina la Rede de Pesquisadores sobre Cidades M&eacute\;di
 as (ReCiMe) e &eacute\; membro do Grupo de Estudos Urbanos (GEU). Es coord
 inadora editorial de la revista cient&iacute\;fica Cidades e investigadora
  del CNPq.\nLa profesora Beltr&atilde\;o sostendr&aacute\; una conversaci&
 oacute\;n con profesores y estudiantes del programa a partir de reflexione
 s sobre las tendencias dominantes de la investigaci&oacute\;n brasile&ntil
 de\;a en torno a la producci&oacute\;n del espacio urbano.\nEsta actividad
  estar&aacute\; moderada por el profesor del Programa Carlos de Mattos. Se
  realizar&aacute\; el d&iacute\;a 12 de enero\, a las 15.30\, en el Doctor
 ado en Arquitectura y Estudios Urbanos.\nInscripciones a: infodocarq@uc.cl
 \n&nbsp\;\n https://fadeu-old.urantiacos.cl/agenda/evento/1438-charla-con-
 maria-encarnacao-beltrao-sposito
DTSTART:20180112T183000Z
DTEND:20180112T193000Z
LOCATION:Doctorado Arquitectura (El Comendador 1970\, Providencia\, Región 
 Metropolitana\, Chile)
SUMMARY:Charla con Maria Encarnação Beltrão Sposito
URL:https://fadeu-old.urantiacos.cl/agenda/evento/1438-charla-con-maria-enc
 arnacao-beltrao-sposito
END:VEVENT
END:VCALENDAR
