BEGIN:VCALENDAR
VERSION:2.0
PRODID:-//https://fadeu-old.urantiacos.cl///NONSGML kigkonsult.se iCalcreator 2.10.15//
METHOD:PUBLISH
BEGIN:VEVENT
UID:20260419T150057UTC-8665I3p4Ct@https://fadeu-old.urantiacos.cl/
DTSTAMP:20260419T150057Z
DESCRIPTION:En este workshop se discutir&aacute\;n los primeros hallazgos d
 el proyecto identidades algor&iacute\;tmicas desarrollado entre acad&eacut
 e\;micos del Centre of Interdisciplinary Methods (CIM) de la Universidad d
 e Warwick y la Pontificia Universidad Cat&oacute\;lica de Chile. En el mar
 co de una intervenci&oacute\;n en dise&ntilde\;o experimental\, orientado 
 a la creaci&oacute\;n de una app (denominada Big Sister) y posterior entre
 vistas con usuarios voluntarios en Chile y Reino Unido\, esta investigaci&
 oacute\;n en curso analiza c&oacute\;mo las personas reaccionan y tematiza
 n la extracci&oacute\;n de datos digitales y las inferencias que los algor
 itmos realizan sobre sus vidas.\n&nbsp\;\nEn el workshop\, y con la presen
 cia de investigadores de diferentes campos disciplinares vinculados cultur
 a digital nacional e internacional\, se reflexionar&aacute\; en torno a la
 s conceptualizaciones\, metodolog&iacute\;as y dise&ntilde\;os involucrado
 s en los procesos de perfilamiento y recomendaci&oacute\;n algor&iacute\;t
 mica. En este debate abierto\, situado en el entrecruce entre computaci&oa
 cute\;n\, dise&ntilde\;o\, sociolog&iacute\;a\, filosof&iacute\;a\, arte y
  activismo\, esperamos avanzar hacia nuevas comprensiones sobre c&oacute\;
 mo se construye y escenifica las personas en un mundo crecientemente digit
 alizado.\n\n\nFecha: Jueves 14 de enero de 2020\nHora: 15.30 &ndash\; 18h
 \nLugar: Salon Sergio Larra&iacute\;n\, Campus Lo Contador\, El Comendador
  1916\, Providencia.\n\n\n https://fadeu-old.urantiacos.cl/agenda/evento/2
 077-workshop-identidades-algoritmicas-disenos-experiencias-y-afectos-ante-
 el-extractivismo-de-datos-digitales
DTSTART:20200114T183000Z
DTEND:20200114T210000Z
LOCATION:Salón Sergio Larraín\, Campus Lo Contador ()
SUMMARY:Workshop Identidades Algorítmicas Diseños\, experiencias y afectos 
 ante el extractivismo de datos digitales
URL:https://fadeu-old.urantiacos.cl/agenda/evento/2077-workshop-identidades
 -algoritmicas-disenos-experiencias-y-afectos-ante-el-extractivismo-de-dato
 s-digitales
END:VEVENT
END:VCALENDAR
