BEGIN:VCALENDAR
VERSION:2.0
PRODID:-//https://fadeu-old.urantiacos.cl///NONSGML kigkonsult.se iCalcreator 2.10.15//
METHOD:PUBLISH
BEGIN:VEVENT
UID:20260423T224349UTC-99721ODaPk@https://fadeu-old.urantiacos.cl/
DTSTAMP:20260423T224349Z
DESCRIPTION:Nuevos campos de Investigación\, conversación con von Moos\nFAD
 EU UC invita cordialmente a una conversación con el profesor Stanislaus vo
 n Moos\, profesor emérito de Historia del Arte Moderno de la Universidad d
 e Zurich. Ha sido profesor invitado a enseñar en Universidades Europeas y 
 de Estados Unidos\, centrando sus investigaciones en la arquitectura y dis
 eño industrial moderno\, particularmente en el trabajo de Le Corbusier\, V
 enturi y recientemente en la de Louis Kahn.\nLuego de la conversación se o
 frecerá un vino de honor.\nOrganizanFacultad de Arquitectura y Urbanismo\,
  Universidad ChileDoctorado en Arquitectura y Estudios Urbanos UCCentro de
 l Patrimonio Cultural UCFacultad de Arquitectura\, Diseño y Estudios Urban
 os UC\n&nbsp\;\n https://fadeu-old.urantiacos.cl/agenda/evento/701-charla-
 nuevos-campos-de-investigacion-conversacion-con-von-moos
DTSTART:20170116T213000Z
DTEND:20170116T230000Z
LOCATION:Salón Sergio Larraín\, Campus Lo Contador ()
SUMMARY:Charla: Nuevos campos de Investigación\, conversación con von Moos
URL:https://fadeu-old.urantiacos.cl/agenda/evento/701-charla-nuevos-campos-
 de-investigacion-conversacion-con-von-moos
END:VEVENT
BEGIN:VEVENT
UID:20260423T224349UTC-9983Bd9aXn@https://fadeu-old.urantiacos.cl/
DTSTAMP:20260423T224349Z
DESCRIPTION:La Bienal de Diseño de Chile es un espacio de reflexión en torn
 o a la disciplina que cada dos años permite establecer el estado del arte 
 del Diseño\, destacando y profundizando en su producción reciente a través
  de exposiciones\, conferencias y mesas de trabajo.\nChile enfrenta catást
 rofes naturales que lo convierten en un laboratorio concreto de experienci
 as e ideas que surgen en estos contextos.\nExiste una oportunidad real en 
 este ámbito para el DISEÑO y su rol para prevenir\, mitigar y limitar el i
 mpacto de desastres. Insertándose como articulador de acciones en temática
 s país.\n6a Bienal DISEÑO en ALERTA viene a constituir una plataforma de v
 isibilización de los proyectos de diseño que nacen en contexto de ALERTA.
 \nEl DISEÑO juega un rol decisivo en la articulación de la ALERTA\, en el 
 momento de preparación\, durante y posterior al desastre. El DISEÑO permit
 e tomar decisiones oportunas y actuar de manera óptima en los momentos cla
 ves.\nObjetivos Bienal 2017\nContribuir al reconocimiento de la disciplina
  del Diseño como articuladora de ideas\, proyectos y soluciones de interés
  país en el ámbito de la alerta\, para con eso apoyar una cultura de segur
 idad y resiliencia en Chile a través de la educación\, el conocimiento y l
 a innovación.\nGenerar un espacio de reflexión\, difusión y visibilización
  del diseño contemporáneo chileno\, poniendo de manifiesto las múltiples y
  diversas interrelaciones que trascienden la disciplina\, posibilitando nu
 evas visiones y focos de acción.\nMuestra académica\nLa MUESTRA ACADÉMICA 
 es el espacio destinado a mostrar los procesos y resultados obtenidos por 
 las instituciones que imparten la enseñanza del Diseño\, bajo el concepto 
 DISEÑO en ALERTA\, reconociendo en esta disciplina una herramienta de desa
 rrollo de la creatividad y la innovación.\nEstá dirigida a todas las insti
 tuciones que imparten la carrera de Diseño en Chile\, en sus diferentes gr
 ados y visiones\, con proyectos entre marzo de 2013 y el primer semestre d
 e 2016.\nMuestra profesional\nLa MUESTRA PROFESIONAL se presenta como una 
 oportunidad para reflexionar sobre el estado de la profesión del Diseño en
  Chile\, expone los mejores referentes de la disciplina en el ámbito priva
 do y público. Los proyectos postulados\, corresponden a trabajos de excele
 ncia que son aportes concretos en la solución de problemáticas país\, dest
 acando los campos diversos del acontecer nacional en un periodo de tiempo 
 que comprende Marzo de 2013 y 2016.\n+ Más nformación y programación compl
 eta en: www.bienaldediseno.cl\nProgramaLunes 16 de enero\n19:00 a 20:00 hr
 s\, Sala Camilo Mori (100 vacantes)Charla INNOVACIÓN CENTRADO EN EL HUMANO
  – DISEÑO CON LAS PERSONAS EN MENTE\nJames Toleman (UK) es diseñador indus
 trial de Central St Martins\, Londres y es docente en The Sustainable Desi
 gn School de Francia. Ha desarrollado productos para Origin\, SGI\, Airshi
 elds Vickers\, Abaxis\, Toshiba\, Baxter\, Diba\, Psion\, y Decathlon entr
 e otros. En su empresa Industrial Design Innovation hacen cosas para estar
  en las manos de los usuarios: Diseño por investigación y experimentación 
 - crear\, probar\, refinar\, y así sucesivamente - a lo que denominan dise
 ño biótico. Su trabajo\, reconocido internacionalmente\, refleja una ampli
 a gama de capacidades e intereses.\nIdioma: Inglés con traducción simultán
 ea para las primeras 50 personas.\nInscripcionesGarantiza tu cupo para est
 a actividad a través de la APP gratuita y disponible prontamente para desc
 arga. También hay cupos disponibles para quienes lleguen sin reserva previ
 a\, por orden de llegada y hasta llenar disponibilidad de cada sala. En ca
 so de que no poder asistir\, por favor liberar su registro para que otra p
 ersona pueda inscribirse.\n&nbsp\;\n https://fadeu-old.urantiacos.cl/agend
 a/evento/739-6-bienal-diseno-en-alerta
DTSTART:20170116T143000Z
DTEND:20170117T003000Z
LOCATION:Estación Mapocho (Estación Mapocho\, Santiago\, Región Metropolita
 na\, Chile)
SUMMARY:6ª Bienal Diseño en Alerta
URL:https://fadeu-old.urantiacos.cl/agenda/evento/739-6-bienal-diseno-en-al
 erta
END:VEVENT
BEGIN:VEVENT
UID:20260423T224349UTC-0013zjVuNu@https://fadeu-old.urantiacos.cl/
DTSTAMP:20260423T224349Z
DESCRIPTION:Revista Diseña de la Escuela de Diseño UC\, tiene el agrado de 
 anunciar la convocatoria a presentación de trabajos para el número 11 de l
 a publicación sobre el tema “Diseño y Política”. El plazo de recepción de 
 contribuciones es hasta el lunes 16 de enero de 2017.\nLos trabajos recibi
 dos serán evaluados en primera instancia por el editor invitado del número
 \, la directora de la revista y el editor general de la publicación. Luego
 \, si procede\, por revisores externos que evaluarán su relevancia\, su or
 iginalidad\, la calidad de la escritura y la pertinencia de la bibliografí
 a.\n+ Más información sobre la convocatoria Diseña Nº11 aquí.\n+ Bases com
 pletas de la convocatoria aquí.\n https://fadeu-old.urantiacos.cl/agenda/e
 vento/679-cierre-convocatoria-revista-disena-n-11
DTSTART:20170116T030000Z
LOCATION:Escuela de Diseño UC\, Campus Lo Contador (El Comendador\, Provide
 ncia\, Providencia\, Región Metropolitana\, Chile)
SUMMARY:Cierre convocatoria: Revista Diseña Nº 11
URL:https://fadeu-old.urantiacos.cl/agenda/evento/679-cierre-convocatoria-r
 evista-disena-n-11
END:VEVENT
BEGIN:VEVENT
UID:20260423T224350UTC-0024ipVVSr@https://fadeu-old.urantiacos.cl/
DTSTAMP:20260423T224349Z
DESCRIPTION:La Bienal de Diseño de Chile es un espacio de reflexión en torn
 o a la disciplina que cada dos años permite establecer el estado del arte 
 del Diseño\, destacando y profundizando en su producción reciente a través
  de exposiciones\, conferencias y mesas de trabajo.\nChile enfrenta catást
 rofes naturales que lo convierten en un laboratorio concreto de experienci
 as e ideas que surgen en estos contextos.\nExiste una oportunidad real en 
 este ámbito para el DISEÑO y su rol para prevenir\, mitigar y limitar el i
 mpacto de desastres. Insertándose como articulador de acciones en temática
 s país.\n6a Bienal DISEÑO en ALERTA viene a constituir una plataforma de v
 isibilización de los proyectos de diseño que nacen en contexto de ALERTA.
 \nEl DISEÑO juega un rol decisivo en la articulación de la ALERTA\, en el 
 momento de preparación\, durante y posterior al desastre. El DISEÑO permit
 e tomar decisiones oportunas y actuar de manera óptima en los momentos cla
 ves.\nObjetivos Bienal 2017\nContribuir al reconocimiento de la disciplina
  del Diseño como articuladora de ideas\, proyectos y soluciones de interés
  país en el ámbito de la alerta\, para con eso apoyar una cultura de segur
 idad y resiliencia en Chile a través de la educación\, el conocimiento y l
 a innovación.\nGenerar un espacio de reflexión\, difusión y visibilización
  del diseño contemporáneo chileno\, poniendo de manifiesto las múltiples y
  diversas interrelaciones que trascienden la disciplina\, posibilitando nu
 evas visiones y focos de acción.\nMuestra académica\nLa MUESTRA ACADÉMICA 
 es el espacio destinado a mostrar los procesos y resultados obtenidos por 
 las instituciones que imparten la enseñanza del Diseño\, bajo el concepto 
 DISEÑO en ALERTA\, reconociendo en esta disciplina una herramienta de desa
 rrollo de la creatividad y la innovación.\nEstá dirigida a todas las insti
 tuciones que imparten la carrera de Diseño en Chile\, en sus diferentes gr
 ados y visiones\, con proyectos entre marzo de 2013 y el primer semestre d
 e 2016.\nMuestra profesional\nLa MUESTRA PROFESIONAL se presenta como una 
 oportunidad para reflexionar sobre el estado de la profesión del Diseño en
  Chile\, expone los mejores referentes de la disciplina en el ámbito priva
 do y público. Los proyectos postulados\, corresponden a trabajos de excele
 ncia que son aportes concretos en la solución de problemáticas país\, dest
 acando los campos diversos del acontecer nacional en un periodo de tiempo 
 que comprende Marzo de 2013 y 2016.\n+ Más nformación y programación compl
 eta en: www.bienaldediseno.cl\n&nbsp\;\n https://fadeu-old.urantiacos.cl/a
 genda/evento/737-6-bienal-diseno-en-alerta
DTSTART:20170115T143000Z
DTEND:20170116T003000Z
LOCATION:Estación Mapocho (Estación Mapocho\, Santiago\, Región Metropolita
 na\, Chile)
SUMMARY:6ª Bienal Diseño en Alerta
URL:https://fadeu-old.urantiacos.cl/agenda/evento/737-6-bienal-diseno-en-al
 erta
END:VEVENT
END:VCALENDAR
