BEGIN:VCALENDAR
VERSION:2.0
PRODID:-//https://fadeu-old.urantiacos.cl///NONSGML kigkonsult.se iCalcreator 2.10.15//
METHOD:PUBLISH
BEGIN:VEVENT
UID:20260420T094710UTC-3436vgPkvK@https://fadeu-old.urantiacos.cl/
DTSTAMP:20260420T094710Z
DESCRIPTION:Alejandro Crispiani\, Tom&aacute\;s Err&aacute\;zuriz y Dino Bo
 zzi\, acad&eacute\;micos de la escuela de Arquitectura UC\, dictar&aacute\
 ;n la charla 'Di&aacute\;logos de Patrimonio: a ochenta a&ntilde\;os del t
 erremoto de 1939' en el foro 'Las transformaciones del espacio p&uacute\;b
 lico y privado en los d&iacute\;as posteriores al sismo'\, a realizarse en
  el Centro de Extensi&oacute\;n Cultural Alfonso Lagos de la Universidad d
 e Concepci&oacute\;n. El evento se llevar&aacute\; a cabo en el marco de l
 a muestra 'Auxilio: la Asistencia P&uacute\;blica en los d&iacute\;as post
 eriores al Terremoto de 1939&rdquo\;\, la que incluye material del proyect
 o Fondecyt &ldquo\;Espacio p&uacute\;blico / espacio privado. Destrucci&oa
 cute\;n y reconfiguraci&oacute\;n de los l&iacute\;mites del habitar cotid
 iano en la experiencia post-terremoto&rdquo\; desarrollado por los profeso
 res Crispiani y Err&aacute\;zuriz.\nInscripciones_https://docs.google.com/
 forms/d/1k13ooFtfPGg62e7AgKIl8YuAeKHIa-Ad1Y2LmtY3Pn8/viewform?ts=5c35f70b&
 amp\;edit_requested=true\nFecha_Jueves 17 de enero de 2018\, 19.00 h.\nLug
 ar_Centro de Extensi&oacute\;n Cultural Alfonso Lagos de la Universidad de
  Concepci&oacute\;nIsabel Riquelme 479\, Chill&aacute\;n\nOrganizan_Unidad
  de Patrimonio (UPA) de la Municipalidad de Chill&aacute\;nSEREMI regi&oac
 ute\;n de &Ntilde\;uble\, Ministerio de las Culturas\, las Artes y el Patr
 imonioPontificia Universidad Cat&oacute\;lica de ChileCentro del Patrimoni
 o Cultural UCCentro de Extensi&oacute\;n Cultural Alfonso Lagos (CECAL)\, 
 Universidad de Concepci&oacute\;n\n&nbsp\;\n\n&nbsp\;\nNoticiasContacto: r
 edesarq@uc.cl | +56 2 2354 7747www.arquitectura.uc.cl https://fadeu-old.ur
 antiacos.cl/agenda/evento/1791-alejandro-crispiani-tomas-errazuriz-y-dino-
 bozzi-en-foro-sobre-el-terremoto-de-chillan-de-1939-17-de-enero
DTSTART:20190117T220000Z
DTEND:20190117T230000Z
LOCATION:Centro de Extensión Cultural Alfonso Lagos de la Universidad de Co
 ncepción (Isabel Riquelme 479\, Chillán )
SUMMARY:Alejandro Crispiani\, Tomás Errázuriz y Dino Bozzi en foro sobre el
  terremoto de Chillán de 1939 | 17 de enero
URL:https://fadeu-old.urantiacos.cl/agenda/evento/1791-alejandro-crispiani-
 tomas-errazuriz-y-dino-bozzi-en-foro-sobre-el-terremoto-de-chillan-de-1939
 -17-de-enero
END:VEVENT
END:VCALENDAR
