BEGIN:VCALENDAR
VERSION:2.0
PRODID:-//https://fadeu-old.urantiacos.cl///NONSGML kigkonsult.se iCalcreator 2.10.15//
METHOD:PUBLISH
BEGIN:VEVENT
UID:20260423T224349UTC-4932OuR1w6@https://fadeu-old.urantiacos.cl/
DTSTAMP:20260423T224349Z
DESCRIPTION:Charla magistral &amp\; lanzamiento ARQDOCSAndrés Jaque\, Offic
 e For Political Innovation&nbsp\;'Transmaterial / Calculable'\nProyecto or
 ganizado por Santiago Research Cell y Editorial ARQ con el apoyo de Columb
 ia Global Center Santiago\nApoyan el eventoFacultad de Arquitectura y Urba
 nismo\, Universidad de ChileEscuela de Arquitectura\, PUC\n&nbsp\;\n&nbsp\
 ; https://fadeu-old.urantiacos.cl/agenda/evento/703-charla-magistral-lanza
 miento-arqdocs-por-andres-jaque
DTSTART:20170118T220000Z
DTEND:20170118T233000Z
LOCATION:Auditorio Arquitectura UC\, Campus Lo Contador (el comendador 1916
 \, providencia)
SUMMARY:Charla magistral + Lanzamiento ARQDOCS\, por Andrés Jaque
URL:https://fadeu-old.urantiacos.cl/agenda/evento/703-charla-magistral-lanz
 amiento-arqdocs-por-andres-jaque
END:VEVENT
BEGIN:VEVENT
UID:20260423T224349UTC-4936wXCVaN@https://fadeu-old.urantiacos.cl/
DTSTAMP:20260423T224349Z
DESCRIPTION:La Bienal de Diseño de Chile es un espacio de reflexión en torn
 o a la disciplina que cada dos años permite establecer el estado del arte 
 del Diseño\, destacando y profundizando en su producción reciente a través
  de exposiciones\, conferencias y mesas de trabajo.\nChile enfrenta catást
 rofes naturales que lo convierten en un laboratorio concreto de experienci
 as e ideas que surgen en estos contextos.\nExiste una oportunidad real en 
 este ámbito para el DISEÑO y su rol para prevenir\, mitigar y limitar el i
 mpacto de desastres. Insertándose como articulador de acciones en temática
 s país.\n6a Bienal DISEÑO en ALERTA viene a constituir una plataforma de v
 isibilización de los proyectos de diseño que nacen en contexto de ALERTA.
 \nEl DISEÑO juega un rol decisivo en la articulación de la ALERTA\, en el 
 momento de preparación\, durante y posterior al desastre. El DISEÑO permit
 e tomar decisiones oportunas y actuar de manera óptima en los momentos cla
 ves.\nObjetivos Bienal 2017\nContribuir al reconocimiento de la disciplina
  del Diseño como articuladora de ideas\, proyectos y soluciones de interés
  país en el ámbito de la alerta\, para con eso apoyar una cultura de segur
 idad y resiliencia en Chile a través de la educación\, el conocimiento y l
 a innovación.\nGenerar un espacio de reflexión\, difusión y visibilización
  del diseño contemporáneo chileno\, poniendo de manifiesto las múltiples y
  diversas interrelaciones que trascienden la disciplina\, posibilitando nu
 evas visiones y focos de acción.\nMuestra académica\nLa MUESTRA ACADÉMICA 
 es el espacio destinado a mostrar los procesos y resultados obtenidos por 
 las instituciones que imparten la enseñanza del Diseño\, bajo el concepto 
 DISEÑO en ALERTA\, reconociendo en esta disciplina una herramienta de desa
 rrollo de la creatividad y la innovación.\nEstá dirigida a todas las insti
 tuciones que imparten la carrera de Diseño en Chile\, en sus diferentes gr
 ados y visiones\, con proyectos entre marzo de 2013 y el primer semestre d
 e 2016.\nMuestra profesional\nLa MUESTRA PROFESIONAL se presenta como una 
 oportunidad para reflexionar sobre el estado de la profesión del Diseño en
  Chile\, expone los mejores referentes de la disciplina en el ámbito priva
 do y público. Los proyectos postulados\, corresponden a trabajos de excele
 ncia que son aportes concretos en la solución de problemáticas país\, dest
 acando los campos diversos del acontecer nacional en un periodo de tiempo 
 que comprende Marzo de 2013 y 2016.\n+ Más nformación y programación compl
 eta en: www.bienaldediseno.cl\nProgramaMiércoles 18 de enero\n15:30 a 16:3
 0 hrs\, Sala Camilo Mori (100 vacantes)Charla LÍDER CREATIVA DE TRIDIMAGE:
  ADRIANA CORTESE\nAdriana\, es la líder creativa de Tridimage y uno de sus
  socios fundadores. Es responsable de inspirar\, dirigir y motivar los equ
 ipos creativos para desarrollar poderosas soluciones de diseño. Su formaci
 ón es en Diseño Industrial y Comunicación Visual. Asimismo orientó su carr
 era hacia la investigación y docencia del diseño en las Universidades de B
 uenos Aires y La Plata.\nTridimage es una agencia Argentina de diseño líde
 r en 3D branding y diseño estructural &amp\; gráfico de packaging.\nInscri
 pcionesGarantiza tu cupo para esta actividad a través de la APP gratuita y
  disponible prontamente para descarga. También hay cupos disponibles para 
 quienes lleguen sin reserva previa\, por orden de llegada y hasta llenar d
 isponibilidad de cada sala. En caso de que no poder asistir\, por favor li
 berar su registro para que otra persona pueda inscribirse.\n&nbsp\;\n http
 s://fadeu-old.urantiacos.cl/agenda/evento/743-6-bienal-diseno-en-alerta
DTSTART:20170118T143000Z
DTEND:20170119T003000Z
LOCATION:Estación Mapocho (Estación Mapocho\, Santiago\, Región Metropolita
 na\, Chile)
SUMMARY:6ª Bienal Diseño en Alerta
URL:https://fadeu-old.urantiacos.cl/agenda/evento/743-6-bienal-diseno-en-al
 erta
END:VEVENT
BEGIN:VEVENT
UID:20260423T224349UTC-4947AlZJrt@https://fadeu-old.urantiacos.cl/
DTSTAMP:20260423T224349Z
DESCRIPTION:La Bienal de Diseño de Chile es un espacio de reflexión en torn
 o a la disciplina que cada dos años permite establecer el estado del arte 
 del Diseño\, destacando y profundizando en su producción reciente a través
  de exposiciones\, conferencias y mesas de trabajo.\nChile enfrenta catást
 rofes naturales que lo convierten en un laboratorio concreto de experienci
 as e ideas que surgen en estos contextos.\nExiste una oportunidad real en 
 este ámbito para el DISEÑO y su rol para prevenir\, mitigar y limitar el i
 mpacto de desastres. Insertándose como articulador de acciones en temática
 s país.\n6a Bienal DISEÑO en ALERTA viene a constituir una plataforma de v
 isibilización de los proyectos de diseño que nacen en contexto de ALERTA.
 \nEl DISEÑO juega un rol decisivo en la articulación de la ALERTA\, en el 
 momento de preparación\, durante y posterior al desastre. El DISEÑO permit
 e tomar decisiones oportunas y actuar de manera óptima en los momentos cla
 ves.\nObjetivos Bienal 2017\nContribuir al reconocimiento de la disciplina
  del Diseño como articuladora de ideas\, proyectos y soluciones de interés
  país en el ámbito de la alerta\, para con eso apoyar una cultura de segur
 idad y resiliencia en Chile a través de la educación\, el conocimiento y l
 a innovación.\nGenerar un espacio de reflexión\, difusión y visibilización
  del diseño contemporáneo chileno\, poniendo de manifiesto las múltiples y
  diversas interrelaciones que trascienden la disciplina\, posibilitando nu
 evas visiones y focos de acción.\nMuestra académica\nLa MUESTRA ACADÉMICA 
 es el espacio destinado a mostrar los procesos y resultados obtenidos por 
 las instituciones que imparten la enseñanza del Diseño\, bajo el concepto 
 DISEÑO en ALERTA\, reconociendo en esta disciplina una herramienta de desa
 rrollo de la creatividad y la innovación.\nEstá dirigida a todas las insti
 tuciones que imparten la carrera de Diseño en Chile\, en sus diferentes gr
 ados y visiones\, con proyectos entre marzo de 2013 y el primer semestre d
 e 2016.\nMuestra profesional\nLa MUESTRA PROFESIONAL se presenta como una 
 oportunidad para reflexionar sobre el estado de la profesión del Diseño en
  Chile\, expone los mejores referentes de la disciplina en el ámbito priva
 do y público. Los proyectos postulados\, corresponden a trabajos de excele
 ncia que son aportes concretos en la solución de problemáticas país\, dest
 acando los campos diversos del acontecer nacional en un periodo de tiempo 
 que comprende Marzo de 2013 y 2016.\n+ Más nformación y programación compl
 eta en: www.bienaldediseno.cl\nProgramaMartes 17 de enero\n19:00 a 20:00 h
 rs\, Sala Camilo Mori (100 vacantes)Charla MARIANA AMATULLO/ DESIGNMATTERS
  / ART CENTER COLLEGE OF DESIGN\nMariana Amatullo crea y es vicepresidente
  de Designmatters en el Art Center College of Design\, con sede en Pasaden
 a\, California en 2001. Programa cuyo objetivo es desarrollar diseño de im
 pacto social. Este programa desarrolla alianzas estratégicas educativas\, 
 de investigación y publicaciones a nivel mundial que promueven la enseñanz
 a del diseño para aportar en dar soluciones a problemas humanitarios urgen
 tes.\nInscripcionesGarantiza tu cupo para esta actividad a través de la AP
 P gratuita y disponible prontamente para descarga. También hay cupos dispo
 nibles para quienes lleguen sin reserva previa\, por orden de llegada y ha
 sta llenar disponibilidad de cada sala. En caso de que no poder asistir\, 
 por favor liberar su registro para que otra persona pueda inscribirse.\n&n
 bsp\;\n https://fadeu-old.urantiacos.cl/agenda/evento/741-6-bienal-diseno-
 en-alerta
DTSTART:20170117T143000Z
DTEND:20170118T003000Z
LOCATION:Estación Mapocho (Estación Mapocho\, Santiago\, Región Metropolita
 na\, Chile)
SUMMARY:6ª Bienal Diseño en Alerta
URL:https://fadeu-old.urantiacos.cl/agenda/evento/741-6-bienal-diseno-en-al
 erta
END:VEVENT
END:VCALENDAR
