BEGIN:VCALENDAR
VERSION:2.0
PRODID:-//https://fadeu-old.urantiacos.cl///NONSGML kigkonsult.se iCalcreator 2.10.15//
METHOD:PUBLISH
BEGIN:VEVENT
UID:20260423T224349UTC-3925mvoOu1@https://fadeu-old.urantiacos.cl/
DTSTAMP:20260423T224349Z
DESCRIPTION:La Bienal de Diseño de Chile es un espacio de reflexión en torn
 o a la disciplina que cada dos años permite establecer el estado del arte 
 del Diseño\, destacando y profundizando en su producción reciente a través
  de exposiciones\, conferencias y mesas de trabajo.\nChile enfrenta catást
 rofes naturales que lo convierten en un laboratorio concreto de experienci
 as e ideas que surgen en estos contextos.\nExiste una oportunidad real en 
 este ámbito para el DISEÑO y su rol para prevenir\, mitigar y limitar el i
 mpacto de desastres. Insertándose como articulador de acciones en temática
 s país.\n6a Bienal DISEÑO en ALERTA viene a constituir una plataforma de v
 isibilización de los proyectos de diseño que nacen en contexto de ALERTA.
 \nEl DISEÑO juega un rol decisivo en la articulación de la ALERTA\, en el 
 momento de preparación\, durante y posterior al desastre. El DISEÑO permit
 e tomar decisiones oportunas y actuar de manera óptima en los momentos cla
 ves.\nObjetivos Bienal 2017\nContribuir al reconocimiento de la disciplina
  del Diseño como articuladora de ideas\, proyectos y soluciones de interés
  país en el ámbito de la alerta\, para con eso apoyar una cultura de segur
 idad y resiliencia en Chile a través de la educación\, el conocimiento y l
 a innovación.\nGenerar un espacio de reflexión\, difusión y visibilización
  del diseño contemporáneo chileno\, poniendo de manifiesto las múltiples y
  diversas interrelaciones que trascienden la disciplina\, posibilitando nu
 evas visiones y focos de acción.\nMuestra académica\nLa MUESTRA ACADÉMICA 
 es el espacio destinado a mostrar los procesos y resultados obtenidos por 
 las instituciones que imparten la enseñanza del Diseño\, bajo el concepto 
 DISEÑO en ALERTA\, reconociendo en esta disciplina una herramienta de desa
 rrollo de la creatividad y la innovación.\nEstá dirigida a todas las insti
 tuciones que imparten la carrera de Diseño en Chile\, en sus diferentes gr
 ados y visiones\, con proyectos entre marzo de 2013 y el primer semestre d
 e 2016.\nMuestra profesional\nLa MUESTRA PROFESIONAL se presenta como una 
 oportunidad para reflexionar sobre el estado de la profesión del Diseño en
  Chile\, expone los mejores referentes de la disciplina en el ámbito priva
 do y público. Los proyectos postulados\, corresponden a trabajos de excele
 ncia que son aportes concretos en la solución de problemáticas país\, dest
 acando los campos diversos del acontecer nacional en un periodo de tiempo 
 que comprende Marzo de 2013 y 2016.\n+ Más nformación y programación compl
 eta en: www.bienaldediseno.cl\n&nbsp\;\n https://fadeu-old.urantiacos.cl/a
 genda/evento/747-6-bienal-diseno-en-alerta
DTSTART:20170120T143000Z
DTEND:20170121T003000Z
LOCATION:Estación Mapocho (Estación Mapocho\, Santiago\, Región Metropolita
 na\, Chile)
SUMMARY:6ª Bienal Diseño en Alerta
URL:https://fadeu-old.urantiacos.cl/agenda/evento/747-6-bienal-diseno-en-al
 erta
END:VEVENT
BEGIN:VEVENT
UID:20260423T224349UTC-3935MkL2ur@https://fadeu-old.urantiacos.cl/
DTSTAMP:20260423T224349Z
DESCRIPTION:La Bienal de Diseño de Chile es un espacio de reflexión en torn
 o a la disciplina que cada dos años permite establecer el estado del arte 
 del Diseño\, destacando y profundizando en su producción reciente a través
  de exposiciones\, conferencias y mesas de trabajo.\nChile enfrenta catást
 rofes naturales que lo convierten en un laboratorio concreto de experienci
 as e ideas que surgen en estos contextos.\nExiste una oportunidad real en 
 este ámbito para el DISEÑO y su rol para prevenir\, mitigar y limitar el i
 mpacto de desastres. Insertándose como articulador de acciones en temática
 s país.\n6a Bienal DISEÑO en ALERTA viene a constituir una plataforma de v
 isibilización de los proyectos de diseño que nacen en contexto de ALERTA.
 \nEl DISEÑO juega un rol decisivo en la articulación de la ALERTA\, en el 
 momento de preparación\, durante y posterior al desastre. El DISEÑO permit
 e tomar decisiones oportunas y actuar de manera óptima en los momentos cla
 ves.\nObjetivos Bienal 2017\nContribuir al reconocimiento de la disciplina
  del Diseño como articuladora de ideas\, proyectos y soluciones de interés
  país en el ámbito de la alerta\, para con eso apoyar una cultura de segur
 idad y resiliencia en Chile a través de la educación\, el conocimiento y l
 a innovación.\nGenerar un espacio de reflexión\, difusión y visibilización
  del diseño contemporáneo chileno\, poniendo de manifiesto las múltiples y
  diversas interrelaciones que trascienden la disciplina\, posibilitando nu
 evas visiones y focos de acción.\nMuestra académica\nLa MUESTRA ACADÉMICA 
 es el espacio destinado a mostrar los procesos y resultados obtenidos por 
 las instituciones que imparten la enseñanza del Diseño\, bajo el concepto 
 DISEÑO en ALERTA\, reconociendo en esta disciplina una herramienta de desa
 rrollo de la creatividad y la innovación.\nEstá dirigida a todas las insti
 tuciones que imparten la carrera de Diseño en Chile\, en sus diferentes gr
 ados y visiones\, con proyectos entre marzo de 2013 y el primer semestre d
 e 2016.\nMuestra profesional\nLa MUESTRA PROFESIONAL se presenta como una 
 oportunidad para reflexionar sobre el estado de la profesión del Diseño en
  Chile\, expone los mejores referentes de la disciplina en el ámbito priva
 do y público. Los proyectos postulados\, corresponden a trabajos de excele
 ncia que son aportes concretos en la solución de problemáticas país\, dest
 acando los campos diversos del acontecer nacional en un periodo de tiempo 
 que comprende Marzo de 2013 y 2016.\n+ Más nformación y programación compl
 eta en: www.bienaldediseno.cl\nProgramaJueves 19 de enero\n15:30 a 16:30 h
 rs\, Sala Camilo Mori (100 vacantes)Charla DISEÑO PARA EL OTRO 90%\; CONTE
 XTO SUDÁFRICA\nSe hablará sobre la responsabilidad social del diseño y la 
 exploración de las distintas relaciones entre ambas en el contexto de Sud 
 África.\nDes Laubscher trae consigo varias décadas de experiencia no sólo 
 en la educación de Diseño\, sino también el funcionamiento de las organiza
 ciones profesionales. Como uno de los miembros ejecutivos de ico-D en Áfri
 ca\, el Greenside Design Center College of Design ha sido un miembro activ
 o durante casi 20 años. Organizó y coordinó la Conferencia de Educación Cu
 mulus para el arte\, el diseño y los nuevos medios en Johannesburgo\, Sudá
 frica en 2014.\nIco-D\, el Consejo Internacional de Diseño es un organismo
  mundial de diseño profesional. Es una red sin fines de lucro\, basada en 
 los miembros de organizaciones independientes y partes interesadas que tra
 bajan dentro del ámbito multidisciplinario del diseño\nIdioma: Inglés con 
 traducción simultánea para las primeras 50 personas.\nInscripcionesGaranti
 za tu cupo para esta actividad a través de la APP gratuita y disponible pr
 ontamente para descarga. También hay cupos disponibles para quienes llegue
 n sin reserva previa\, por orden de llegada y hasta llenar disponibilidad 
 de cada sala. En caso de que no poder asistir\, por favor liberar su regis
 tro para que otra persona pueda inscribirse.\n&nbsp\;\n https://fadeu-old.
 urantiacos.cl/agenda/evento/745-6-bienal-diseno-en-alerta
DTSTART:20170119T143000Z
DTEND:20170120T003000Z
LOCATION:Estación Mapocho (Estación Mapocho\, Santiago\, Región Metropolita
 na\, Chile)
SUMMARY:6ª Bienal Diseño en Alerta
URL:https://fadeu-old.urantiacos.cl/agenda/evento/745-6-bienal-diseno-en-al
 erta
END:VEVENT
END:VCALENDAR
