BEGIN:VCALENDAR
VERSION:2.0
PRODID:-//https://fadeu-old.urantiacos.cl///NONSGML kigkonsult.se iCalcreator 2.10.15//
METHOD:PUBLISH
BEGIN:VEVENT
UID:20260421T050508UTC-3139k8u4It@https://fadeu-old.urantiacos.cl/
DTSTAMP:20260421T050508Z
DESCRIPTION:El lunes 22 de enero 2018\, a las 19.00 pm\, tendr&aacute\; lug
 ar la charla magistral: &ldquo\;Pensar desde Los M&aacute\;rgenes Ut&oacut
 e\;picos&rdquo\; de Avery Gordon\, profesora titular de Sociolog&iacute\;a
  de la Universidad de California\, Santa B&aacute\;rbara y profesora visit
 ante de la Escuela de Derecho de Birbeck\, Universidad de Londres\, Reino 
 Unido.\nEl trabajo de Gordon se enfoca en la teor&iacute\;a radical\, y su
 s pr&aacute\;cticas. Es autora de The Hawthorn Archive: Letters from the U
 topian Margins (Fordham University Press 2017)\, The Workhouse: The Breite
 nau Room (con Ines Schaber) y Ghostly Matters: Haunting and the Sociologic
 al Imagination.\nLa charla es organizada por el proyecto de postdoctorado 
 31606565\, con la colaboraci&oacute\;n de Foro Urbano. Cuenta con el patro
 cinio de COES\, la Escuela de Sociolog&iacute\;a de la UNAB\, el Doctorado
  en Arquitectura y Urbanismo de la Universidad Cat&oacute\;lica\, el Museo
  de la Memoria\, y la Vicerrector&iacute\;a Acad&eacute\;mica de la Univer
 sidad Cat&oacute\;lica.\nLa charla ser&aacute\; en ingl&eacute\;s con trad
 ucci&oacute\;n simult&aacute\;nea. Al finalizar\, se ofrecer&aacute\; un v
 ino de honor.\nSobre la charla_El fil&oacute\;sofo Ernst Bloch plante&oacu
 te\; que 'toda existencia dada y todo el mismo sertiene m&aacute\;rgenes u
 t&oacute\;picos que rodean lo real de posibilidades concretas y objetivas&
 rdquo\;.A partir del concepto de los m&aacute\;rgenes ut&oacute\;picos\, G
 ordon explora aquellas historias queasechan a lo ut&oacute\;pico. Bas&aacu
 te\;ndose en archivos y documentaci&oacute\;nencontrada en The Hawthorn Ar
 chive la charla invita a pensar en nuevas formas de utopismo\, tales como 
 el cimarronaje\, el deambular o la vagancia\, la rebeli&oacute\;n\, la des
 erci&oacute\;n de soldados y otras -a menudo ilegibles- formas de escape\,
  resistencia y modos de vida alternativos.\nFecha_Lunes 22 de enero de 201
 8. 19.00 hrs.\nLugar_Auditorio Museo de la Memoria. Matucana 501. Quinta N
 ormal.\n&nbsp\;\n https://fadeu-old.urantiacos.cl/agenda/evento/1439-charl
 a-magistral-avery-gordon
DTSTART:20180122T220000Z
DTEND:20180122T230000Z
LOCATION:Museo de la Memoria y los Derechos Humanos\, Av. Matucana 501\, Sa
 ntiago (Matucana 501\, Santiago\, Santiago\, Región Metropolitana\, Chile)
SUMMARY:Charla Magistral Avery Gordon
URL:https://fadeu-old.urantiacos.cl/agenda/evento/1439-charla-magistral-ave
 ry-gordon
END:VEVENT
END:VCALENDAR
