BEGIN:VCALENDAR
VERSION:2.0
PRODID:-//https://fadeu-old.urantiacos.cl///NONSGML kigkonsult.se iCalcreator 2.10.15//
METHOD:PUBLISH
BEGIN:VEVENT
UID:20260420T081335UTC-1932BZ2MN3@https://fadeu-old.urantiacos.cl/
DTSTAMP:20260420T081335Z
DESCRIPTION:\n\nHabi&eacute\;ndose constituido con fecha 13 de noviembre 20
 18\, el&nbsp\;Comit&eacute\; de B&uacute\;squeda de Director de la Escuela
  de Dise&ntilde\;o\,&nbsp\;dio inicio a su tarea\, reuni&eacute\;ndose en&
 nbsp\;12 sesiones&nbsp\;con invitados y trabajo interno. Consultando a m&a
 acute\;s de 60 personas miembros de la comunidad de la escuela: acad&eacut
 e\;micos\, estudiantes\, administrativos\, miembros de la Facultad e invit
 ados externos. Procurando el car&aacute\;cter m&aacute\;s amplio e informa
 do posible a &eacute\;ste proceso\, conforme lo establecen los Estatutos d
 e la Facultad de Arquitectura\, Dise&ntilde\;o y Estudios Urbanos.\nA la l
 uz de las opiniones recibidas en este proceso &nbsp\;en que se nombr&oacut
 e\; a un grupo importante de posibles candidatos\, el Comit&eacute\; invit
 &oacute\; a una entrevista a 6 de ellos. Luego de hechas las consultas a a
 lgunos de ellos sobre su disponibilidad y de un trabajo de reflexi&oacute\
 ;n interna\, este Comit&eacute\; ha culminado el proceso con la nominaci&o
 acute\;n un&aacute\;nime de los profesores:\nRodrigo Ram&iacute\;rez Monte
 cinos&nbsp\;y&nbsp\;Andr&eacute\;s Villela Chac&oacute\;n\, como &uacute\;
 nicos&nbsp\;dos candidatos&nbsp\;a Director de la Escuela de Dise&ntilde\;
 o.\nSe informa a la comunidad que se realizar&aacute\; una&nbsp\;reuni&oac
 ute\;n abierta con profesores\, estudiantes y administrativos de la Escuel
 a de Dise&ntilde\;o\, &nbsp\;en la que ambos candidatos expondr&aacute\;n 
 sus ideas y visi&oacute\;n para la escuela en los pr&oacute\;ximos a&ntild
 e\;os y recibir&aacute\;n las preguntas de la comunidad.\nEsta reuni&oacut
 e\;n se realizar&aacute\; el lunes 28 de enero a las 17:30 hrs.\, en el Au
 ditorio FADEU.\nEl&nbsp\;acto eleccionario se realizar&aacute\; el mi&eacu
 te\;rcoles 30 de enero entre 9:00 y 16:00 hrs.\, en la Sala de Consejo de 
 la Facultad&nbsp\;y a &eacute\;ste ser&aacute\;n convocados los profesores
  con categor&iacute\;a ordinaria de la Escuela de Dise&ntilde\;o.\nINFORMA
 CI&Oacute\;N PERIOD&Iacute\;STICA\nESCUELA DE DISE&Ntilde\;O UC&nbsp\;\n&n
 bsp\;\n\n&nbsp\;\n\n https://fadeu-old.urantiacos.cl/agenda/evento/1792-re
 union-ampliada-candidatos-a-director-diseno-uc
DTSTART:20190128T203000Z
DTEND:20190128T213000Z
LOCATION:Auditorio FADEU\, Campus Lo Contador PUC (El Comendador 1916\, Pro
 videncia\, Providencia\, Región Metropolitana\, Chile)
SUMMARY:Reunión ampliada: Candidatos a Director Diseño UC
URL:https://fadeu-old.urantiacos.cl/agenda/evento/1792-reunion-ampliada-can
 didatos-a-director-diseno-uc
END:VEVENT
END:VCALENDAR
