BEGIN:VCALENDAR
VERSION:2.0
PRODID:-//https://fadeu-old.urantiacos.cl///NONSGML kigkonsult.se iCalcreator 2.10.15//
METHOD:PUBLISH
BEGIN:VEVENT
UID:20260423T212516UTC-838927rvC9@https://fadeu-old.urantiacos.cl/
DTSTAMP:20260423T212516Z
DESCRIPTION:La Facultad de Arquitectura\, Diseño y Estudios Urbanos UC se e
 ncontrará cerrada por período de vacaciones de verano 2017. https://fadeu-
 old.urantiacos.cl/agenda/evento/753-vacaciones-de-verano
DTSTART:20170128T030000Z
DTEND:20170226T030000Z
LOCATION:Campus Lo Contador (El Comendador 1916\, Providencia\, Providencia
 \, Región Metropolitana\, Chile)
SUMMARY:VACACIONES DE VERANO
URL:https://fadeu-old.urantiacos.cl/agenda/evento/753-vacaciones-de-verano
END:VEVENT
END:VCALENDAR
