BEGIN:VCALENDAR
VERSION:2.0
PRODID:-//https://fadeu-old.urantiacos.cl///NONSGML kigkonsult.se iCalcreator 2.10.15//
METHOD:PUBLISH
BEGIN:VEVENT
UID:20260423T201534UTC-9121vGgJ9L@https://fadeu-old.urantiacos.cl/
DTSTAMP:20260423T201534Z
DESCRIPTION:Todos los estudiantes de 1er año están invitados a participar e
 n la Bienvenida Novato UC 2017\, la instancia oficial con la cual la unive
 rsidad recibe a sus nuevos alumnos. Esta instancia se realizará el miércol
 es 1° de marzo de 2017\, desde las 9:00 horas\, en la explanada central de
 l campus San Joaquín.\nLuego de una misa de bienvenida\, se realizará una 
 feria de stands y diversas actividades\, mediante las cuales los estudiant
 es podrán conocer a sus compañeros\, informarse más sobre sus carreras y a
 lgunas unidades de servicio\, como Bibliotecas\, Salud Estudiantil\, Depor
 tes\, Vida Universitaria y Oficina de Sustentabilidad\, entre otras. Ese d
 ía los novatos también podrán disfrutar de shows en vivo\, concursos\, pre
 mios\, actividades deportivas y dinámicas de integración\, tours por el ca
 mpus\, charlas y otras iniciativas orientadas a que comiencen a disfrutar 
 de su vida universitaria desde el primer día.\nRecuerda llevar contigo la 
 invitación a la Bienvenida Novato UC 2017 que se entregó cuando te matricu
 laste\, pues con ella podrás canjear un regalo el día de la bienvenida.\nD
 esde ya te invitamos a seguir las redes sociales Vive la UC (Facebook\, Tw
 itter\, YouTube e Instagram)\, para estar siempre al día sobre la vida uni
 versitaria en la UC.\n¡Busca el evento en Facebook y súmate!\n¡Te esperamo
 s!\nLugarCampus San Joaquín - Explanada central del campus San Joaquín (fr
 ente al templo).\n&nbsp\;\n https://fadeu-old.urantiacos.cl/agenda/evento/
 761-bienvenida-novato-uc-2017
DTSTART:20170301T120000Z
DTEND:20170301T160000Z
LOCATION:Campus San Joaquin (Vicuña Mackenna 4860\, Macul\, Región Metropol
 itana\, Chile)
SUMMARY:Bienvenida Novato UC 2017
URL:https://fadeu-old.urantiacos.cl/agenda/evento/761-bienvenida-novato-uc-
 2017
END:VEVENT
END:VCALENDAR
