BEGIN:VCALENDAR
VERSION:2.0
PRODID:-//https://fadeu-old.urantiacos.cl///NONSGML kigkonsult.se iCalcreator 2.10.15//
METHOD:PUBLISH
BEGIN:VEVENT
UID:20260423T201636UTC-3100L1lbwg@https://fadeu-old.urantiacos.cl/
DTSTAMP:20260423T201636Z
DESCRIPTION:Conferencias Inaugurales Arquitectura UC\nAl inicio de cada sem
 estre\, profesores de la Escuela de Arquitectura UC realizan una serie cla
 ses magistrales que inauguran el semestre académico de cada uno de los cic
 los de talleres de nuestra carrera. Para el 1° semestre de 2017 la confere
 ncia de Talleres Optativos de Proyecto será realizada por:\nAntonio Liptha
 yAntonio Lipthay es arquitecto de la Pontificia Universidad Católica de Ch
 ile (1998) y Master en Diseño Urbano y Ciencias Sociales de la London Scho
 ol of Economics (2001). Junto a Sebastián Morandé y Patricio Browne es soc
 io de la oficina MOBIL Arquitectos\, fundada el año 2005.\nLa oficina trab
 aja en distintas escalas\, con trabajo que va desde edificios inmobiliario
 s y equipamiento a gran escala\, a vivienda unifamiliar. Una de sus obras 
 recientes más destacadas ha sido la Plaza Mayor de Maipú\, seleccionada me
 diante concurso público\, destacando en el proyecto urbano\, en la cual se
  enfoca Antonio Lipthay al interior de Mobil.\nInvitanEscuela Arquitectura
  UC\n&nbsp\;\n\n\n https://fadeu-old.urantiacos.cl/agenda/evento/755-confe
 rencia-antonio-lipthay
DTSTART:20170302T183000Z
DTEND:20170302T200000Z
LOCATION:Auditorio Arquitectura UC\, Campus Lo Contador (el comendador 1916
 \, providencia)
SUMMARY:Conferencia Antonio Lipthay
URL:https://fadeu-old.urantiacos.cl/agenda/evento/755-conferencia-antonio-l
 ipthay
END:VEVENT
END:VCALENDAR
