BEGIN:VCALENDAR
VERSION:2.0
PRODID:-//https://fadeu-old.urantiacos.cl///NONSGML kigkonsult.se iCalcreator 2.10.15//
METHOD:PUBLISH
BEGIN:VEVENT
UID:20260420T063813UTC-67213NHi6b@https://fadeu-old.urantiacos.cl/
DTSTAMP:20260420T063813Z
DESCRIPTION:Entre el 4 y 8 de marzo se realizar&aacute\; en Arquitectura UC
  el workshop &ldquo\;Santiago: Big Ideas &ndash\; Small Moves&rdquo\; para
  el desarrollo de propuestas de arquitectura y proyecto urbano en torno a 
 la L&iacute\;nea 6 del Metro. Participan estudiantes y 7 oficinas j&oacute
 \;venes invitadas.\nEn abril de 2013\, la RIBA\, UCL (the Bartlett School 
 of Architecture) y el British Council colaboraron en un workshop de dise&n
 tilde\;o en Doha\, Katar. RIBA identific&oacute\; seis oficinas j&oacute\;
 venes y UCL las sum&oacute\; a seis equipos locales en Katar\, organizando
  un workshop de una semana para desarrollar propuestas de conservaci&oacut
 e\;n y regeneraci&oacute\;n en Old Doha. En esta oportunidad la RIBA est&a
 acute\; extendiendo esta metodolog&iacute\;a a Santiago y Lagos.\nSantiago
 _&nbsp\;Luego de la construcci&oacute\;n de las &uacute\;ltimas l&iacute\;
 neas de Metro\, se han identificado alrededor de 40 peque&ntilde\;os sitio
 s que han quedado disponibles en Santiago para ser intervenidos. Esto incl
 uye sitios de construcci&oacute\;n\, sitios alrededor de ventilaciones y p
 osibles desarrollos sobre las nuevas estaciones de Metro\, entre otros. Si
 ete equipos compuestos por tres estudiantes de Arquitectura UC y una ofici
 na joven\, desarrollar&aacute\;n propuestas para estos sitios\, los que se
 r&aacute\;n evaluados por un panel de oficinas RIBA en Londres.\nPrograma 
 abierto a p&uacute\;blico\nLunes 4 de marzo\n10:00 &ndash\; 11.00 h. Tempo
 rary and Incremental Urbanism. Peter Bishop (Auditorio FCV)\n11:00 &ndash\
 ; 12.00 h. Presentaci&oacute\;n Oficinas (Auditorio FCV)\n&nbsp\;\nMartes 
 5 de marzo\n18.30 &ndash\; 19.30 h. Estaciones L&iacute\;nea 6 de Metro An
 tonio Lipthay &ndash\; MOBIL Arquitectos (lugar por anunciar)\n&nbsp\;\nMi
 &eacute\;rcoles 6 de marzo\n16.00 &ndash\; 18.00 h. Cr&iacute\;ticas Peter
  Bishop y Luis Eduardo Bresciani L. (Taller 332+333)\n&nbsp\;\nViernes 8 d
 e marzo\n13:00 &ndash\; 17.00 h. RIBA Panel Peter Bishop + RIBA (lugar por
  anunciar)\n&nbsp\;\nEstudiantes participantes\nFernando Avenda&ntilde\;o\
 , Gianluca Baghetti\, Tom&aacute\;s Charles\, Mar&iacute\;a Ignacia Cister
 nas\, Valentina Coloma\, Vicente Fern&aacute\;ndez\, Paula Gonz&aacute\;le
 z\, Mar&iacute\;a Josefina Hormann\, Daniela Manzur\, Sof&iacute\;a Mingo\
 , Pascale Mondion\, Dominga Muzard\, Deborah Ojeda\, Macarena Oyarzun\, Ca
 talina Palma\, Tomas P&eacute\;rez\, Javiera Rodr&iacute\;guez\, Mart&iacu
 te\;n Rojas\, Gonzalo Subiabre\, Tom&aacute\;s Vial y Agustina Wetzig.\nOf
 icinas invitadas\nAlvaro Arancibia&nbsp\;/ www.alvaroarancibia.com\nCSM De
 sign&nbsp\;/ www.csmdesign.com\nEB Arquitectos&nbsp\;/ www.ebarquitectos.c
 l\nEM Arquitectos&nbsp\;/ www.emarquitectos.cl\nLaura Signorelli + Stefano
  Rolla&nbsp\;/ www.stefanorolla.com\nNicole Rochette&nbsp\;/ www.nicoleroc
 hette.com\nTironi Bartlau&nbsp\;/ www.tironibartlau.com&nbsp\;\n&nbsp\;\nO
 rganizaci&oacute\;n Workshop\nPeter Bishop. Profesor Titular en Dise&ntild
 e\;o Urbano en The Bartlett School of Architecture UCL\nFrancisco j. Quint
 ana. Profesor Asistente de Arquitectura y Proyecto Urbano en Arquitectura 
 UC\nCatalina Alberti. Ayudante en Proyecto Urbano en Arquitectura UC\n&nbs
 p\;\nFecha_\nLunes 04 a viernes 08 de marzo de 2019\n&nbsp\;\nLugar_\nCamp
 us Lo Contador\nEl Comendador 1936\, Providencia\n&nbsp\;&nbsp\;\n\n&nbsp\
 ;\nImagen 'Estaci&oacute\;n &Ntilde\;u&ntilde\;oa. Levantamiento contexto 
 L&iacute\;nea 6 realizado por Plan Com&uacute\;n + Diego Grass + Osvaldo L
 arra&iacute\;n para MOBIL Arquitectos.'\n&nbsp\;\nNoticiasContacto:&nbsp\;
 redesarq@uc.cl&nbsp\;| +56 2 2354 7747www.arquitectura.uc.cl https://fadeu
 -old.urantiacos.cl/agenda/evento/1802-workshop-santiago-big-ideas-small-mo
 ves-peter-bishop-francisco-quintana
DTSTART:20190304T112700Z
DTEND:20190304T132700Z
LOCATION:Campus Lo Contador (El Comendador 1916\, Providencia\, Providencia
 \, Región Metropolitana\, Chile)
SUMMARY:Workshop “Santiago: Big Ideas – Small Moves” | Peter Bishop + Franc
 isco Quintana
URL:https://fadeu-old.urantiacos.cl/agenda/evento/1802-workshop-santiago-bi
 g-ideas-small-moves-peter-bishop-francisco-quintana
END:VEVENT
END:VCALENDAR
