BEGIN:VCALENDAR
VERSION:2.0
PRODID:-//https://fadeu-old.urantiacos.cl///NONSGML kigkonsult.se iCalcreator 2.10.15//
METHOD:PUBLISH
BEGIN:VEVENT
UID:20260423T201616UTC-1714uo4AB5@https://fadeu-old.urantiacos.cl/
DTSTAMP:20260423T201616Z
DESCRIPTION:Conferencias Inaugurales Arquitectura UC\nAl inicio de cada sem
 estre\, profesores de la Escuela de Arquitectura UC realizan una serie cla
 ses magistrales que inauguran el semestre académico de cada uno de los cic
 los de talleres de nuestra carrera. Para el 1° semestre de 2017 la confere
 ncia de Talleres de Formación será realizada por:\nAlejandro AravenaAlejan
 dro Aravena (Santiago de Chile 1967). Recibió el título de Arquitecto en l
 a Pontificia Universidad Católica de Chile en 1992. Luego hizo estudios de
  Teoría e Historia en el IUAV de Venecia. En 1994\, estableció su propia o
 ficina\, Alejandro Aravena Arquitectos. Desde 2000 hasta 2005\, fue profes
 or en la Universidad de Harvard. En 2010 fue nombrado International Fellow
  del Royal Institute of British Architects. Fue Curador de la 15ª Biennale
  di Venezia. En 2016 recibió el premio Pritzker. Desde 2001 dirige ELEMENT
 AL.\nInvitanEscuela Arquitectura UC\n&nbsp\;\n\n\n\n\n&nbsp\;\n&nbsp\;\n&n
 bsp\;\n&nbsp\;\n&nbsp\; https://fadeu-old.urantiacos.cl/agenda/evento/759-
 conferencia-alejandro-aravena
DTSTART:20170306T183000Z
DTEND:20170306T200000Z
LOCATION:Auditorio FADEU\, Campus Lo Contador PUC (El Comendador 1916\, Pro
 videncia\, Providencia\, Región Metropolitana\, Chile)
SUMMARY:Conferencia Alejandro Aravena
URL:https://fadeu-old.urantiacos.cl/agenda/evento/759-conferencia-alejandro
 -aravena
END:VEVENT
END:VCALENDAR
