BEGIN:VCALENDAR
VERSION:2.0
PRODID:-//https://fadeu-old.urantiacos.cl///NONSGML kigkonsult.se iCalcreator 2.10.15//
METHOD:PUBLISH
BEGIN:VEVENT
UID:20260423T201616UTC-07393ceuuH@https://fadeu-old.urantiacos.cl/
DTSTAMP:20260423T201616Z
DESCRIPTION:Conferencia de Alejandro SoffiaDiseño de bajo costo\nAlejandro 
 Soffia\, arquitecto y magister en arquitectura UC (2011) es docente\, inve
 stigador y arquitecto enfocado en Investigación y Desarrollo en temas como
  museografía\, tecnologías constructivas y diseño sustentable. Ha sido ade
 más recientemente seleccionado para ser parte de la Bienal Iberoamericana 
 de Arquitectura de Pamplona de 2017.\nInvitanArquitectura UC\n&nbsp\;\n ht
 tps://fadeu-old.urantiacos.cl/agenda/evento/767-conferencia-alejandro-soff
 ia
DTSTART:20170308T220000Z
DTEND:20170308T233000Z
LOCATION:Auditorio FADEU\, Campus Lo Contador PUC (El Comendador 1916\, Pro
 videncia\, Providencia\, Región Metropolitana\, Chile)
SUMMARY:Conferencia Alejandro Soffia
URL:https://fadeu-old.urantiacos.cl/agenda/evento/767-conferencia-alejandro
 -soffia
END:VEVENT
END:VCALENDAR
