BEGIN:VCALENDAR
VERSION:2.0
PRODID:-//https://fadeu-old.urantiacos.cl///NONSGML kigkonsult.se iCalcreator 2.10.15//
METHOD:PUBLISH
BEGIN:VEVENT
UID:20260423T201724UTC-1520R1JUb8@https://fadeu-old.urantiacos.cl/
DTSTAMP:20260423T201724Z
DESCRIPTION:Conferencia Martin HurtadoConferencia Inaugural para Magíster e
 n Arquitectura Sustentable y Energía UC\nAl inicio de cada semestre\, prof
 esores de la Escuela de Arquitectura UC realizan una serie clases magistra
 les que inauguran el semestre académico de cada uno de los ciclos de nuest
 ra carrera. Para el 1° semestre de 2017 la conferencia del Magister en Arq
 uitectura Sustentable y Energía será realizada por:\nMartín HurtadoProfeso
 r de Arquitectura UC. Arquitecto UC (1989). Funda Martín Hurtado Arquitect
 os en 1993.www.martinhurtado.cl\nInvitanEscuela Arquitectura UCMagister en
  Arquitectura Sustentable y Energía UC\n&nbsp\;\n\n\n\n https://fadeu-old.
 urantiacos.cl/agenda/evento/769-conferencia-martin-hurtado
DTSTART:20170309T183000Z
DTEND:20170309T200000Z
LOCATION:Auditorio Arquitectura UC\, Campus Lo Contador (el comendador 1916
 \, providencia)
SUMMARY:Conferencia Martín Hurtado
URL:https://fadeu-old.urantiacos.cl/agenda/evento/769-conferencia-martin-hu
 rtado
END:VEVENT
BEGIN:VEVENT
UID:20260423T201724UTC-1525DEu7ox@https://fadeu-old.urantiacos.cl/
DTSTAMP:20260423T201724Z
DESCRIPTION:Como parte del proceso de elección para un nuevo Director de la
  Escuela de Arquitectura UC\, invitamos a todos los profesores\, administr
 ativos y estudiantes a asistir a las presentaciones que harán los candidat
 os Emilio De la Cerda E. y Enrique Del Río O.\, donde expondrán sus propue
 stas para el próximo período de la escuela. https://fadeu-old.urantiacos.c
 l/agenda/evento/787-presentaciones-de-candidatos-a-director-escuela-de-arq
 uitectura-uc-2017-2019
DTSTART:20170309T160000Z
DTEND:20170309T183000Z
LOCATION:Auditorio FADEU\, Campus Lo Contador PUC (El Comendador 1916\, Pro
 videncia\, Providencia\, Región Metropolitana\, Chile)
SUMMARY:Presentaciones de Candidatos a Director Escuela de Arquitectura UC 
 2017-2019
URL:https://fadeu-old.urantiacos.cl/agenda/evento/787-presentaciones-de-can
 didatos-a-director-escuela-de-arquitectura-uc-2017-2019
END:VEVENT
END:VCALENDAR
