BEGIN:VCALENDAR
VERSION:2.0
PRODID:-//https://fadeu-old.urantiacos.cl///NONSGML kigkonsult.se iCalcreator 2.10.15//
METHOD:PUBLISH
BEGIN:VEVENT
UID:20260419T122204UTC-5814PwrlWg@https://fadeu-old.urantiacos.cl/
DTSTAMP:20260419T122204Z
DESCRIPTION:Carry Somers\, co-fundadora de Fashion Revolution @Fash_Rev el 
 Movimiento de activismo por la moda m&aacute\;s grande del Mundo dictar&aa
 cute\; la charla 'C&oacute\;mo revolucionar la moda'\, d&oacute\;nde se pr
 ofundizar&aacute\; el rol de dise&ntilde\;adores y consumidores⁠.⁠El encue
 ntro contar&aacute\; con la exposici&oacute\;n del trabajo de dise&ntilde\
 ;adoras y dise&ntilde\;adores nacionales: Alejandra Bobadilla de Surorigen
 \, JD Juana D&iacute\;az\, Constanza Moreno de Ōbra\, Gabriel Zamora\, Flo
 rence Collin\, Leonora Musri\, Constanza Bielsa\, Docena (12na)\, Natalia 
 Urnia\, Francisca Tornero\, Milena Rojas.⁠⁠La visita Chile de Carry Somers
  se da en el contexto de su participaci&oacute\;n en @eXXpedition una expe
 dici&oacute\;n cient&iacute\;fica compuesta s&oacute\;lo por mujeres\, que
  recorre los oc&eacute\;anos investigando los efectos de los pl&aacute\;st
 icos y derivados\, en los oc&eacute\;anos. ⁠⁠_9 de marzo⁠_15.00⁠_Auditorio
  FADEU\, Campus Lo Contador\, El Comendador 1916\, Providencia.⁠⠀⁠Para ins
 cribirte en los eventos que se realizar&aacute\;n en Santiago\, visita htt
 p://www.fashionrevolution.cl ⁠⁠Los cupos son limitados.⁠⁠\n https://fadeu-
 old.urantiacos.cl/agenda/evento/2105-charla-como-revolucionar-la-moda
DTSTART:20200309T180000Z
DTEND:20200309T190000Z
LOCATION:Auditorio FADEU\, Campus Lo Contador PUC (El Comendador 1916\, Pro
 videncia\, Providencia\, Región Metropolitana\, Chile)
SUMMARY:Charla: Cómo revolucionar la moda
URL:https://fadeu-old.urantiacos.cl/agenda/evento/2105-charla-como-revoluci
 onar-la-moda
END:VEVENT
BEGIN:VEVENT
UID:20260419T122204UTC-5819mRekX1@https://fadeu-old.urantiacos.cl/
DTSTAMP:20260419T122204Z
DESCRIPTION:Se llevar&aacute\; a cabo en la Biblioteca de Lo Contador una e
 xposici&oacute\;n que destaca el rol de la mujer en la arquitectura entre 
 los siglos XX y XXI\, mediante trabajos originales de Violeta del Campo ju
 nto a material bibliogr&aacute\;fico contempor&aacute\;neo. Violeta del Ca
 mpo fue una arquitecta UC y una de las primeras mujeres en titularse de es
 ta carrera el a&ntilde\;o 1945\; sus cuadernos van desde 1927 hasta el a&n
 tilde\;o de su titulaci&oacute\;n. Trabaj&oacute\; como arquitecta en el D
 epartamento de Obras de la Municipalidad de Santiago.\nFecha_\n09 al 20 de
  marzo 2020\nHorario_\nLunes a viernes de 7.45 a 20.30 h.\nS&aacute\;bados
  de 9.00 a 13.00 hrs\nLugar_\nBiblioteca Lo Contador\nInvitan_\nBiblioteca
  Lo Contador\, Escuela de Arquitectura UC\n\nNoticiasContacto:&nbsp\;redes
 arq@uc.cl&nbsp\;| +56 2 2354 7747www.arquitectura.uc.cl https://fadeu-old.
 urantiacos.cl/agenda/evento/2093-exposicion-sonar-y-realizar-violeta-del-c
 ampo-moya
DTSTART:20200309T104500Z
DTEND:20200309T233000Z
LOCATION:Biblioteca Lo Contador (El Comendador 1916\, Providencia\, Región 
 Metropolitana\, Chile)
SUMMARY:Exposición “Soñar y realizar”: Violeta del Campo Moya
URL:https://fadeu-old.urantiacos.cl/agenda/evento/2093-exposicion-sonar-y-r
 ealizar-violeta-del-campo-moya
END:VEVENT
END:VCALENDAR
