BEGIN:VCALENDAR
VERSION:2.0
PRODID:-//https://fadeu-old.urantiacos.cl///NONSGML kigkonsult.se iCalcreator 2.10.15//
METHOD:PUBLISH
BEGIN:VEVENT
UID:20260423T201622UTC-3460uUjlwu@https://fadeu-old.urantiacos.cl/
DTSTAMP:20260423T201622Z
DESCRIPTION:Se informa a la comunidad que\, en el marco del proceso de nomi
 nación de Director del Instituto de Estudios Urbanos y Territoriales UC\, 
 se realizará una reunión abierta\, donde el profesor Luis Fuentes Arce\, n
 ominado como único candidato\, expondrá sus ideas y visión sobre el IEUT p
 ara los próximos años y recibirá consultas por parte de la comunidad.\nEst
 án convidados a participar profesores\, estudiantes y administrativos del 
 Instituto y de la Facultad.\nPosteriormente\, el día martes 14 de marzo\, 
 entre 9:00 y 15:30 hrs. se realizará la votación en la Sala de Consejo de 
 la Facultad\, a esta instancia serán convocados profesores de la Planta Or
 dinaria del Instituto. https://fadeu-old.urantiacos.cl/agenda/evento/765-p
 resentacion-de-candidato-a-director-ieut-uc-2017-2019
DTSTART:20170310T163000Z
DTEND:20170310T180000Z
LOCATION:Salón Sergio Larraín\, Campus Lo Contador ()
SUMMARY:Presentación de Candidato a Director IEUT UC 2017-2019
URL:https://fadeu-old.urantiacos.cl/agenda/evento/765-presentacion-de-candi
 dato-a-director-ieut-uc-2017-2019
END:VEVENT
BEGIN:VEVENT
UID:20260423T201622UTC-3465D71Rnk@https://fadeu-old.urantiacos.cl/
DTSTAMP:20260423T201622Z
DESCRIPTION:Conferencia Carme PinósCaixaForum Zaragoza\nCarme Pinós es arqu
 itecta titulada por la Escuela Técnica Superior de Arquitectura de Barcelo
 na. Funda su primer estudio junto al arquitecto Enric Miralles\, y posteri
 ormente\, en 1991\, funda el Estudio Carme Pinós. Ha sido profesora invita
 da en University of Illinois at Urbana-Champaign\, Kunstakademie de Dussel
 dorf\, Columbia University y en la Graduate School of Design de Harvard\, 
 entre otras universidades.\nEn 2016 recibió el Berkeley-Rupp Prize\, otorg
 ado por el College of Environmental Design (CED) de UC Berkley\, que premi
 a a un diseñador o arquitecto que 'haya realizado una contribución signifi
 cante en el avance por la igualdad de género en la arquitectura\, y cuyo t
 rabajo enfatice un compromiso con la sustentabilidad y la comunidad'.\nEn 
 esta ocasión presentará la obra Caixa Forum Zaragoza\, proyecto reconocido
  con el XXX Premio García Mercadal.\n&nbsp\;\n\n https://fadeu-old.urantia
 cos.cl/agenda/evento/799-conferencia-carme-pinos
DTSTART:20170310T130000Z
DTEND:20170310T143000Z
LOCATION:Auditorio Arquitectura UC\, Campus Lo Contador (el comendador 1916
 \, providencia)
SUMMARY:Conferencia Carme Pinós
URL:https://fadeu-old.urantiacos.cl/agenda/evento/799-conferencia-carme-pin
 os
END:VEVENT
END:VCALENDAR
