BEGIN:VCALENDAR
VERSION:2.0
PRODID:-//https://fadeu-old.urantiacos.cl///NONSGML kigkonsult.se iCalcreator 2.10.15//
METHOD:PUBLISH
BEGIN:VEVENT
UID:20260419T121247UTC-6899Ezj3rG@https://fadeu-old.urantiacos.cl/
DTSTAMP:20260419T121247Z
DESCRIPTION:Este seminario se enmarca en el proyecto de Redes Internacional
 es de Conicyt 'Territorio sin Fronteras' liderado por el Centro del Patrim
 onio. El objetivo es profundizar la estrecha relaci&oacute\;n que existe e
 ntre estos dos conceptos y sus declinaciones de cara a la informaci&oacute
 \;n de la categor&iacute\;a de paisajes culturales en la nueva ley de Patr
 imonio\, as&iacute\; como la voluntad de iniciar un trabajo para la nomina
 ci&oacute\;n Estrecho de Magallanes y Tierra del Fuego como paisaje cultur
 al y patrimonio de la humanidad.\n&nbsp\;\n https://fadeu-old.urantiacos.c
 l/agenda/evento/2103-seminario-patrimonio-y-paisaje
DTSTART:20200310T180000Z
DTEND:20200310T213000Z
LOCATION:Salón Sergio Larraín\, Campus Lo Contador ()
SUMMARY:Seminario: Patrimonio y Paisaje
URL:https://fadeu-old.urantiacos.cl/agenda/evento/2103-seminario-patrimonio
 -y-paisaje
END:VEVENT
END:VCALENDAR
