BEGIN:VCALENDAR
VERSION:2.0
PRODID:-//https://fadeu-old.urantiacos.cl///NONSGML kigkonsult.se iCalcreator 2.10.15//
METHOD:PUBLISH
BEGIN:VEVENT
UID:20260419T121251UTC-60224Aigrh@https://fadeu-old.urantiacos.cl/
DTSTAMP:20260419T121251Z
DESCRIPTION:La Escuela de Arquitectura UC da la bienvenida a toda la comuni
 dad con este evento que incluir&aacute\; charlas inaugurales\, presentacio
 nes de talleres y un foro con autoridades municipales\, desde las 10:30h h
 asta las 19:30 h.\nFecha_Mi&eacute\;rcoles 11 de marzo\, 2020\nLugar_Ma&nt
 ilde\;ana: Auditorio FADEUTarde: Por confirmar\nPrograma general_10.30 - 1
 0.45 Bienvenida del director Luis Eduardo Bresciani10.45 - 11.45 Presentac
 i&oacute\;n talleres Ejercitaci&oacute\;n11.45 - 12.45 Charla inaugural Ej
 ercitaci&oacute\;n | Juan Ignacio Baixas13.00 - 14.30 Foro con alcaldes15.
 15 - 15.50 Presentaci&oacute\;n talleres Investigaci&oacute\;n15.50 - 16.5
 0 Charla inaugural Investigaci&oacute\;n | Elvira P&eacute\;rez16.50 - 17.
 45 Presentaci&oacute\;n talleres Formaci&oacute\;n17.45 - 18.45 Charla ina
 ugural Formaci&oacute\;n | Sebasti&aacute\;n Gray18.45 - 19.30 Brindis ina
 uguraci&oacute\;n a&ntilde\;o acad&eacute\;mico\nInvita_Escuela de Arquite
 ctura UC\n\n\n\n\nNoticias\nContacto: redesarq@uc.cl | +56 2 2354 7747\nww
 w.arquitectura.uc.cl https://fadeu-old.urantiacos.cl/agenda/evento/2111-bi
 envenida-ano-academico-arq-uc-2020
DTSTART:20200311T133000Z
DTEND:20200311T223000Z
LOCATION:Auditorio FADEU\, Campus Lo Contador PUC (El Comendador 1916\, Pro
 videncia\, Providencia\, Región Metropolitana\, Chile)
SUMMARY:Bienvenida año académico ARQ UC 2020
URL:https://fadeu-old.urantiacos.cl/agenda/evento/2111-bienvenida-ano-acade
 mico-arq-uc-2020
END:VEVENT
END:VCALENDAR
