BEGIN:VCALENDAR
VERSION:2.0
PRODID:-//https://fadeu-old.urantiacos.cl///NONSGML kigkonsult.se iCalcreator 2.10.15//
METHOD:PUBLISH
BEGIN:VEVENT
UID:20260419T121251UTC-2184MF29jp@https://fadeu-old.urantiacos.cl/
DTSTAMP:20260419T121251Z
DESCRIPTION:La FADEU en conjunto con los Diplomados de las Escuelas de Arqu
 itectura y Dise&ntilde\;o\, realizar&aacute\;n un ciclo de charlas titulad
 as 'Reflexiones sobre Futuro'\, en la sala Brick de Las Condes Design. El 
 objetivo de dichas charlas es reflexionar sobre las condiciones actuales d
 e las disciplinas proyectuales y su desarrollo futuro\, a trav&eacute\;s d
 e una conversaci&oacute\;n con los propios Jefes de Programa de los Diplom
 ados que se imparten en Lo Contador.\nLa primera ser&aacute\; realizada po
 r la Jefa del Programa de Diplomado de Ilustración Naturalista de la Escu
 ela de Diseño UC\, Geraldine MacKinnon y se titula: 'Ilustrando Especies 
 Vegetales en la Era del Cambio Clim&aacute\;tico'.\nJueves 12 de marzo a l
 as 19.00hrs.\, Las Condes 9765.\n\nInscr&iacute\;bete en el siguiente link
 :&nbsp\;https://forms.gle/JrSL2yFNXg5unpXy5\n&nbsp\;\n\n https://fadeu-old
 .urantiacos.cl/agenda/evento/2097-charla-ilustrando-especies-vegetales-en-
 la-era-del-cambio-climatico
DTSTART:20200312T220000Z
DTEND:20200312T230000Z
LOCATION:Las Condes Design (Las Condes 9765\, Las Condes)
SUMMARY:Charla: Ilustrando Especies Vegetales en la Era del Cambio Climátic
 o
URL:https://fadeu-old.urantiacos.cl/agenda/evento/2097-charla-ilustrando-es
 pecies-vegetales-en-la-era-del-cambio-climatico
END:VEVENT
END:VCALENDAR
