BEGIN:VCALENDAR
VERSION:2.0
PRODID:-//https://fadeu-old.urantiacos.cl///NONSGML kigkonsult.se iCalcreator 2.10.15//
METHOD:PUBLISH
BEGIN:VEVENT
UID:20260423T201637UTC-4930DsvpBr@https://fadeu-old.urantiacos.cl/
DTSTAMP:20260423T201637Z
DESCRIPTION:Workshop Critical ConservationProfesores Michael Hays y Natalia
  Escobar (Harvard GSD) con Alejandro Crispiani (UC)\nEl seminario aspira a
  desarrollar conceptos y estrategias que permitan describir y prefigurar l
 a naturaleza transitoria y dinámica de la arquitectura\, el paisaje y la c
 iudad. Combina la discusión sobre diversos autores de filosofía de la hist
 oria y la conservación\, con la presentación de diversos casos de estudio 
 en los que las premisas de la permanencia y el sentido estable\, sobre las
  que se funda y con las cuales opera la conservación tradicional\, se han 
 vuelto imposibilidades tanto materiales como teoréticas.\nEl curso intenta
  establecer parámetros teóricos generales para una nueva experiencia y con
 ceptualización de la historia y de la memoria\, que se ilustrarán a través
  de ejemplos de la obra de arquitectos modernos y contemporáneos.\nConstar
 á de las siguientes actividades:\nPre-seminario de lectura de textosProfes
 or Alejandro Crispiani.Lunes 6 al viernes 10 de marzo de 2017.\nSeminario 
 Critical ConservationProfesores. K. Michael Hays y Natalia Escobar.Lunes 1
 3 al viernes 17 de marzo 2017\, 15.30 a 18.30 hrs.\nEsta actividad constar
 á de cinco clases teóricas a cargo de los profesores Hays y Escobar\, así 
 como en sesiones de discusión de casos chilenos referidos a la temática ge
 neral del seminario. Tanto las clases como las discusiones posteriores se 
 harán en idioma inglés.\nK. Michael Hays. Professor of Architectural Theor
 y at the Harvard University Graduate School of Design and Associate Dean f
 or Academic Affairs\, as well as Interim Chair for the Department of Archi
 tecture. Hays has played a central role in the development of the field of
  architectural theory and his work is internationally known. Hays received
  the Bachelor of Architecture degree from the Georgia Institute of Technol
 ogy in 1976. From MIT he received the Master of Architecture degree in Adv
 anced Studies in 1979\, and the Doctor of Philosophy in the History\, Theo
 ry\, and Criticism of Architecture and Art in 1990.\nNatalia Escobar. Inst
 ructor and PhD student in Architecture and Conservation Theory at Harvard 
 University. She teaches the core seminar on conservation theory at the Har
 vard GSD. Natalia holds a Master in Design Studies in Critical Conservatio
 n awarded with Distinction from the Harvard GSD\, and an MArch from the Un
 iveridad de Sevilla with a stint at École Nationale Supérieure d’Architect
 ure de Strasbourg.\nAlejandro Crispiani. Profesor y Jefe de la Línea de Te
 oría\, Historia y Crítica de la Escuela de Arquitectura de la Pontificia U
 niversidad Católica de Chile. Arquitecto\, Universidad Nacional de La Plat
 a\, Argentina\, 1984. Doctor en Historia Intelectual\, Universidad Naciona
 l de Quilmes\, Argentina\, 2008.\nClases abiertasLas postulaciones fueron 
 cerradas el 26 de diciembre de 2016. Interesados en asistir como oyentes a
  las clases (no a las discusiones) deben escribir al correo fjquinta @uc.c
 l\nInvitanMagister en Patrimonio Cultural UCMagister en Arquitectura UCEsc
 uela de Arquitectura UC\nColaboranDavid Rockefeller Center for Latin Ameri
 can StudiesCentro del Patrimonio UC\n&nbsp\;\n https://fadeu-old.urantiaco
 s.cl/agenda/evento/789-inicio-workshop-critical-conservation
DTSTART:20170313T183000Z
DTEND:20170313T213000Z
LOCATION:Auditorio Arquitectura UC\, Campus Lo Contador (el comendador 1916
 \, providencia)
SUMMARY:Inicio Workshop Critical Conservation
URL:https://fadeu-old.urantiacos.cl/agenda/evento/789-inicio-workshop-criti
 cal-conservation
END:VEVENT
END:VCALENDAR
