BEGIN:VCALENDAR
VERSION:2.0
PRODID:-//https://fadeu-old.urantiacos.cl///NONSGML kigkonsult.se iCalcreator 2.10.15//
METHOD:PUBLISH
BEGIN:VEVENT
UID:20260420T063900UTC-1356W1I4bh@https://fadeu-old.urantiacos.cl/
DTSTAMP:20260420T063900Z
DESCRIPTION:\nMario Ubilla S.\, Decano de la Facultad de Arquitectura\, Dis
 e&ntilde\;o y Estudios Urbanos y Jos&eacute\; Manuel Allard\, Director Esc
 uela de Dise&ntilde\;o\, invitan a la ceremonia de cambio de mando\, en qu
 e el profesor Rodrigo Ram&iacute\;rez asumir&aacute\; como nuevo Director 
 de la Escuela de Dise&ntilde\;o.\n&nbsp\;\nEsta actividad se llevar&aacute
 \; a cabo el mi&eacute\;rcoles 13 de marzo a las 13.00 horas\, en el Patio
  de Dise&ntilde\;o del Campus Lo Contador\, ubicado en El Comendador 1916\
 , Providencia.\n&nbsp\;\n&nbsp\;\n\n&nbsp\;\n https://fadeu-old.urantiacos
 .cl/agenda/evento/1804-diseno-uc-i-cambio-de-mando
DTSTART:20190313T160000Z
DTEND:20190313T170000Z
LOCATION:Patio de Diseño (El Comendador 1916)
SUMMARY:Diseño UC I Cambio de Mando
URL:https://fadeu-old.urantiacos.cl/agenda/evento/1804-diseno-uc-i-cambio-d
 e-mando
END:VEVENT
END:VCALENDAR
