BEGIN:VCALENDAR
VERSION:2.0
PRODID:-//https://fadeu-old.urantiacos.cl///NONSGML kigkonsult.se iCalcreator 2.10.15//
METHOD:PUBLISH
BEGIN:VEVENT
UID:20260419T121245UTC-8110vHNMPV@https://fadeu-old.urantiacos.cl/
DTSTAMP:20260419T121245Z
DESCRIPTION:Luis Eduardo Bresciani\, director de la Escuela de Arquitectura
  UC\, Elvira P&eacute\;rez\, jefa de programa de Mag&iacute\;ster en Patri
 monio Cultural UC\, y Umberto Bonomo\, director del Centro del Patrimonio 
 Cultural UC\, invitan cordialmente al&nbsp\;Conversatorio 'Patrimonio y es
 pacio p&uacute\;blico en crisis'\, actividad de&nbsp\;Inauguraci&oacute\;n
  del a&ntilde\;o acad&eacute\;mico 2020 del Programa de Mag&iacute\;ster e
 n Patrimonio Cultural UC.\nEl conversatorio propone debatir sobre la inter
 venci&oacute\;n y resignificaci&oacute\;n de monumentos p&uacute\;blicos y
  espacios patrimoniales acontecidos desde el 18 de octubre en Chile\, que 
 cuestionan y problematizan el papel y la representatividad del patrimonio 
 en el espacio p&uacute\;blico en tiempos de crisis social y pol&iacute\;ti
 ca.\nBienvenida\nUmberto Bonomo&nbsp\;| Director Centro del Patrimonio Cul
 tural UC\nPresentan\nLuis Eduardo Bresciani&nbsp\;| Director Escuela de Ar
 quitectura UC\nElvira P&eacute\;rez&nbsp\;| Jefa de programa Mag&iacute\;s
 ter en Patrimonio Cultural UC\nDebaten\nEmilio de la Cerda&nbsp\;| Arquite
 cto\, Subsecretario de Patrimonio Cultural\nMarisol Saborido&nbsp\;| Arqui
 tecta\, profesora Mag&iacute\;ster en Patrimonio Cultural UC\nSebasti&aacu
 te\;n Gray&nbsp\;| Arquitecto\, profesor en la Escuela de Arquitectura UC
 \nDaniela Marsal&nbsp\;| Historiadora\, directora Consultora Estudio Patri
 monio y Cultura\nModera\nLuis Eduardo Bresciani\n&nbsp\;\nOrganiza: Escuel
 a de Arquitectura UC\, Mag&iacute\;ster en Patrimonio Cultural UC\, Centro
  del Patrimonio Cultural UC. https://fadeu-old.urantiacos.cl/agenda/evento
 /2099-conversatorio-patrimonio-y-espacio-publico-en-crisis
DTSTART:20200313T163000Z
DTEND:20200313T173000Z
LOCATION:Auditorio FADEU\, Campus Lo Contador PUC (El Comendador 1916\, Pro
 videncia\, Providencia\, Región Metropolitana\, Chile)
SUMMARY:Conversatorio 'Patrimonio y espacio público en crisis'
URL:https://fadeu-old.urantiacos.cl/agenda/evento/2099-conversatorio-patrim
 onio-y-espacio-publico-en-crisis
END:VEVENT
BEGIN:VEVENT
UID:20260419T121245UTC-81171SnVAV@https://fadeu-old.urantiacos.cl/
DTSTAMP:20260419T121245Z
DESCRIPTION:Queremos invitarlos cordialmente al Homenaje a Alex Blanch a re
 alizarse el viernes 13 de marzo a las 12:00 hrs en la sala La Capilla. Est
 e homenaje ha sido preparado por la Facultad y la Escuela de Dise&ntilde\;
 o para reconocer la figura de quien fuera su Director entre el 2003 y el 2
 006\, adem&aacute\;s de participar como docente e investigador desde el 20
 00 hasta el 2016.&nbsp\;\nSu fallecimiento se produjo a fines de febrero\,
  cuando se desempe&ntilde\;aba como director de la nueva carrera de Dise&n
 tilde\;o de la Universidad de San Andr&eacute\;s en Buenos Aires\, Argenti
 na.\n&nbsp\;\n https://fadeu-old.urantiacos.cl/agenda/evento/2107-homenaje
 -alex-blanch
DTSTART:20200313T150000Z
DTEND:20200313T160000Z
LOCATION:Sala La Capilla\, campus Lo Contador (El Comendador 1916\, Provide
 ncia\, Región Metropolitana\, Chile)
SUMMARY:Homenaje Alex Blanch
URL:https://fadeu-old.urantiacos.cl/agenda/evento/2107-homenaje-alex-blanch
END:VEVENT
END:VCALENDAR
