BEGIN:VCALENDAR
VERSION:2.0
PRODID:-//https://fadeu-old.urantiacos.cl///NONSGML kigkonsult.se iCalcreator 2.10.15//
METHOD:PUBLISH
BEGIN:VEVENT
UID:20260421T014809UTC-9182cj7exn@https://fadeu-old.urantiacos.cl/
DTSTAMP:20260421T014809Z
DESCRIPTION:Este libro elaborado por la Fundaci&oacute\;n Cerros Isla re&ua
 cute\;ne la mirada de 7 autores y 2 fot&oacute\;grafos sobre el patrimonio
  natural y cultural presente en los cerros isla de Santiago\, as&iacute\; 
 como el trabajo de levantamiento y registro realizado por la Fundaci&oacut
 e\;n Cerros Isla a lo largo de 7 a&ntilde\;os.\nCerros Isla de Santiago ti
 ene como finalidad invitar a reflexionar sobre las ciudades que queremos\,
  enfatizando en la necesidad de planificar con una visi&oacute\;n a corto\
 , mediano y largo plazo\, donde tanto pol&iacute\;ticos\, privados y la so
 ciedad civil\, en conjunto\, nos hagamos responsables del desarrollo de un
 a ciudad y sociedad m&aacute\;s resiliente y equitativa\; una ciudad con l
 a misma calidad de vida para todos.\nLa actividad contar&aacute\; con la p
 resencia de acad&eacute\;micos y autoridades\, quienes discutir&aacute\;n 
 sobre los principales desaf&iacute\;os urbanos relacionados con los espaci
 os p&uacute\;blicos naturales de la ciudad.\nFecha: Mi&eacute\;rcoles 14 d
 e Marzo\, 18.00 hrs.\nLugar: Auditorio FADEU\, El Comendador 1916\, Provid
 encia.\nInvita: Arquitectura UC\nFundaci&oacute\;n Cerros Isla\nParticipan
 :mGORE y Facultad de Arquitectura\, Dise&ntilde\;o y Estudios Urbanos UC.
 \nOrganizan:&nbsp\;Fundaci&oacute\;n Cerros Isla\n\n&nbsp\;\n https://fade
 u-old.urantiacos.cl/agenda/evento/1449-lanzamiento-libro-cerros-isla-de-sa
 ntiago-construyendo-un-nuevo-imaginario-de-ciudad-a-partir-de-su-geografia
DTSTART:20180314T210000Z
DTEND:20180314T220000Z
LOCATION:Auditorio FADEU\, Campus Lo Contador PUC (El Comendador 1916\, Pro
 videncia\, Providencia\, Región Metropolitana\, Chile)
SUMMARY:Lanzamiento Libro “Cerros isla de Santiago: Construyendo un nuevo i
 maginario de ciudad a partir de su geografía
URL:https://fadeu-old.urantiacos.cl/agenda/evento/1449-lanzamiento-libro-ce
 rros-isla-de-santiago-construyendo-un-nuevo-imaginario-de-ciudad-a-partir-
 de-su-geografia
END:VEVENT
BEGIN:VEVENT
UID:20260421T014809UTC-9189UzN9B3@https://fadeu-old.urantiacos.cl/
DTSTAMP:20260421T014809Z
DESCRIPTION:El pr&oacute\;ximo martes 14 de marzo a las 13.30 hrs se realiz
 ar&aacute\; la conferencia de Bruno Fioretti. La presentaci&oacute\;n esta
 r&aacute\; a cargo de Jose Guti&eacute\;rrez\, socio de la oficina Bruno F
 ioretti Architekten.\nFecha: Martes 14 de Marzo\, 13.30 hrs.\nLugar: Sal&o
 acute\;n Sergio Larra&iacute\;n\, El Comendador 1936\, Providencia\nInvita
 : Escuela de Arquitectura UC\n https://fadeu-old.urantiacos.cl/agenda/even
 to/1450-conferencia-bruno-fioretti
DTSTART:20180314T163000Z
DTEND:20180314T173000Z
LOCATION:Salón Sergio Larraín\, Campus Lo Contador ()
SUMMARY:Conferencia Bruno Fioretti
URL:https://fadeu-old.urantiacos.cl/agenda/evento/1450-conferencia-bruno-fi
 oretti
END:VEVENT
END:VCALENDAR
