BEGIN:VCALENDAR
VERSION:2.0
PRODID:-//https://fadeu-old.urantiacos.cl///NONSGML kigkonsult.se iCalcreator 2.10.15//
METHOD:PUBLISH
BEGIN:VEVENT
UID:20260423T201726UTC-1972MDj6Bf@https://fadeu-old.urantiacos.cl/
DTSTAMP:20260423T201726Z
DESCRIPTION:Lanzamiento ARQ Docs 'K. Michael Hays'Aparici&oacute\;n y Mater
 ialidad\nK. Michael Hays es profesor titular en teor&iacute\;a de la arqui
 tectura y Decano Asociado para asuntos acad&eacute\;micos en la Graduate S
 chool of Design de la Universidad de Harvard\, donde adem&aacute\;s se des
 empe&ntilde\;a como Director Interino del Departamento de Arquitectura. Ha
 ys obtuvo su licenciatura en arquitectura en 1976 por el Georgia Institute
  of Technology\, y los grados de Master of Architecture in Advanced Studie
 s (1979) y Ph.D. en Historio\, Teor&iacute\;a y Cr&iacute\;tica de Arquite
 ctura y Arte (1990) por el MIT.\nSus investigaciones y estudios se han cen
 trado en el modernismo europeo y la teor&iacute\;a cr&iacute\;tica\, as&ia
 cute\; como en problemas te&oacute\;ricos de la pr&aacute\;ctica arquitect
 &oacute\;nica contempor&aacute\;nea. Entre otros libros\, es autor de Arch
 itecture&rsquo\;s Desire (2010) y editor de Architecture Theory since 1968
  (2000) y Oppositions Reader (1998).\nOrganizanEdiciones ARQ\, Arquitectur
 a UC\nColaboranCentro del Patrimonio Cultural UC\, Magister en Patrimonio 
 Cultural UC\, David Rockefeller Center for Latin American Studies\, Vicerr
 ector&iacute\;a de Investigaci&oacute\;n UC\n&nbsp\;\n\n&nbsp\; https://fa
 deu-old.urantiacos.cl/agenda/evento/801-lanzamiento-arq-docs-k-michael-hay
 s
DTSTART:20170315T220000Z
DTEND:20170315T233000Z
LOCATION:Auditorio Arquitectura UC\, Campus Lo Contador (el comendador 1916
 \, providencia)
SUMMARY:Lanzamiento ARQ Docs 'K. Michael Hays'
URL:https://fadeu-old.urantiacos.cl/agenda/evento/801-lanzamiento-arq-docs-
 k-michael-hays
END:VEVENT
BEGIN:VEVENT
UID:20260423T201726UTC-1979zfpIba@https://fadeu-old.urantiacos.cl/
DTSTAMP:20260423T201726Z
DESCRIPTION:1º Versión Talleres de Articulación: Nuevas Oportunidades para 
 una SmartCity\nLa actividad desarrollada por la Pontificia Universidad Cat
 ólica de Chile\, País Digital\, Inria Chile y Corfo tiene como propósito q
 ue los participantes desarrollen técnicas e instrumentos para la identific
 ación de problemas y oportunidades\, la ideación de propuestas y su consol
 idación por medio de prototipado rápido.\nEl taller\, junto con las soluci
 ones generadas\, se enmarca en los tres ejes estratégicos del Programa: Se
 guridad\, Medio Ambiente y Movilidad y será impar do por académicos de la 
 Escuela de Diseño y la Escuela de Ingeniería UC.\nSe desarrollarán 6 talle
 res\, divididos en 2 por cada eje estratégico. Cada uno estará compuesto p
 or 8 horas cronológicas\, divididas en 2 sesiones.\nEJE SEGURIDAD\nSesión 
 1: “Detección de Problemas y Oportunidades”Miércoles 15 de marzo de 14.00 
 a 18.00 hrs.\nSesión 2: “Generación de Ideas y Prototipado”Martes 28 de ma
 rzo de 9.00 a 13.00 hrs.Lo Contador UC (Los Navegantes 1919)\nEJE MEDIO AM
 BIENTE\nSesión 1: “Detección de Problemas y Oportunidades”Jueves 16 de mar
 zo de 9.00 a 13.00 hrs.\nSesión 2: “Generación de Ideas y Prototipado”Mart
 es 28 de marzo de 14.00 a 18.00 hrs.Lo Contador UC (Los Navegantes 1919)\n
 EJE MOVILIDAD\nSesión 1: “Detección de Problemas y Oportunidades”Martes 21
  de marzo de 14.00 a 18.00 hrs.\nSesión 2: “Generación de Ideas y Prototip
 ado”Martes 03 de abril de 9.00 a 13.00 hrs.Inria Chile (Apoquindo 2827\, p
 iso 2)\n+ Inscripciones y más información aquí.\n&nbsp\;\n https://fadeu-o
 ld.urantiacos.cl/agenda/evento/773-talleres-de-articulacion-nuevas-oportun
 idades-para-una-smartcity
DTSTART:20170315T170000Z
DTEND:20170315T210000Z
LOCATION:Campus Lo Contador (El Comendador 1916\, Providencia\, Providencia
 \, Región Metropolitana\, Chile)
SUMMARY:Talleres de articulación 'Nuevas oportunidades para una SmartCity'
URL:https://fadeu-old.urantiacos.cl/agenda/evento/773-talleres-de-articulac
 ion-nuevas-oportunidades-para-una-smartcity
END:VEVENT
BEGIN:VEVENT
UID:20260423T201726UTC-1987eAlH66@https://fadeu-old.urantiacos.cl/
DTSTAMP:20260423T201726Z
DESCRIPTION:OrganizanPontifícia Universidad Católica de ChileFacultad de Ar
 quitectura\, Diseño y Estudios Urbanos UCEscuela de Diseño UCCentro de Inn
 ovación UCMECESUP 3University College Dublin\n&nbsp\;\n https://fadeu-old.
 urantiacos.cl/agenda/evento/771-charla-ciencia-del-suelo-implicancias-para
 -un-desarrollo-sustentable
DTSTART:20170315T123000Z
DTEND:20170315T160000Z
LOCATION:Auditorio Arquitectura UC\, Campus Lo Contador (el comendador 1916
 \, providencia)
SUMMARY:Charla 'Ciencia del suelo: Implicancias para un desarrollo sustenta
 ble'
URL:https://fadeu-old.urantiacos.cl/agenda/evento/771-charla-ciencia-del-su
 elo-implicancias-para-un-desarrollo-sustentable
END:VEVENT
END:VCALENDAR
