BEGIN:VCALENDAR
VERSION:2.0
PRODID:-//https://fadeu-old.urantiacos.cl///NONSGML kigkonsult.se iCalcreator 2.10.15//
METHOD:PUBLISH
BEGIN:VEVENT
UID:20260420T063903UTC-6280xF3c6e@https://fadeu-old.urantiacos.cl/
DTSTAMP:20260420T063903Z
DESCRIPTION:El workshop &ldquo\;Redise&ntilde\;o Estaci&oacute\;n Central d
 e Santiago&rdquo\; concluye este viernes 15 de marzo a las 13.30 hrs. con 
 una sesi&oacute\;n abierta en que se presentar&aacute\;n propuestas para u
 n futuro desarrollo urbano del terminal ferroviario y sus sitios colindant
 es. El trabajo fue liderado por acad&eacute\;micos del Magister en Proyect
 o Urbano UC\, quienes contaron con la visita del profesor e investigador d
 e University College London\, Peter Bishop.\nEl &aacute\;rea en la que se 
 ubica la hist&oacute\;rica Estaci&oacute\;n Central es hoy uno de los punt
 os de mayor inter&eacute\;s para el desarrollo urbano dentro de las &aacut
 e\;reas centrales de la ciudad de Santiago. A trav&eacute\;s de los a&ntil
 de\;os\, este sector\, que en sus or&iacute\;genes fue principalmente un &
 aacute\;rea industrial asociada a la red sur de trenes de pasajeros y carg
 a\, es un punto de alta demanda en cuanto a comercio\, vivienda y servicio
 s. Desde el punto de vista del transporte\, el sector est&aacute\; fuertem
 ente marcado por el terminal de trenes sur\, estaciones de buses interregi
 onales\, y por la integraci&oacute\;n de estos sistemas a la red de Metro 
 de Santiago y buses en superficie.\nComo una anomal&iacute\;a de este acel
 erado proceso de crecimento\, y producto de una normativa d&eacute\;bil y 
 permisiva\, se ha generado un fen&oacute\;meno reciente de proyectos de gr
 an altura y extremadamente alta densidad (hasta 5\,000 habitantes por hect
 &aacute\;rea) en la zona poniente de la Estaci&oacute\;n. Esto motiva a re
 pensar y proponer una visi&oacute\;n clara de proyecto urbano para el sect
 or.\nLa visita del investigador Peter Bishop a nuestra universidad se real
 iza en el contexto de dos workshops relacionados con sistemas de transport
 e en Santiago. En el primero de ellos se desarrollaron propuestas para sit
 ios en desuso que dej&oacute\; la construcci&oacute\;n de la L&iacute\;nea
  6 del Metro. Los resultados ser&aacute\;n expuestos tanto en Santiago com
 o en Londres. El profesor Bishop realiz&oacute\; adem&aacute\;s dos confer
 encias sobre &ldquo\;Incremental Urbanism&rdquo\; y &ldquo\;Kings Cross re
 development&rdquo\; las que se pueden revisar en este link.\n&nbsp\;\n&nbs
 p\;\n https://fadeu-old.urantiacos.cl/agenda/evento/1810-workshop-rediseno
 -estacion-central-de-santiago
DTSTART:20190315T163000Z
DTEND:20190315T180000Z
LOCATION:Sala 332-333 (El Comendador 1916\, Providencia)
SUMMARY:Workshop “Rediseño Estación Central de Santiago” 
URL:https://fadeu-old.urantiacos.cl/agenda/evento/1810-workshop-rediseno-es
 tacion-central-de-santiago
END:VEVENT
END:VCALENDAR
