BEGIN:VCALENDAR
VERSION:2.0
PRODID:-//https://fadeu-old.urantiacos.cl///NONSGML kigkonsult.se iCalcreator 2.10.15//
METHOD:PUBLISH
BEGIN:VEVENT
UID:20260423T201622UTC-8059ggllDt@https://fadeu-old.urantiacos.cl/
DTSTAMP:20260423T201622Z
DESCRIPTION:Jeannette Plaut y Marcelo Sarovic\, Directores de Constructo ju
 nto con el Alcalde de la Municipalidad de Las Condes\, Joaqu&iacute\;n Lav
 &iacute\;n\, invita a la inauguraci&oacute\;n del YAP CONSTRUCTO 7 'Despu&
 eacute\;s del Domo de los arquitectos Torres + Reutter + Harada + Straub'.
  El programa YAP_CONSTRUCTO est&aacute\; asociado al MoMA de Nueva York y 
 se realiza con el Patrocinio de la Municipalidad de Las Condes y el &aacut
 e\;rea de arquitectura del CNCA.\n&nbsp\;\n\n&nbsp\; https://fadeu-old.ura
 ntiacos.cl/agenda/evento/821-inauguracion-del-yap-constructo-7-despues-del
 -domo-de-los-arquitectos-torres-reutter-harada-straub
DTSTART:20170316T220000Z
DTEND:20170316T233000Z
LOCATION:Parque Araucano\, Av. Pdte. Kennedy Lateral 4777\, Las Condes (Av.
  Pdte. Kennedy Lateral 4777\, Las Condes\, Región Metropolitana\, Chile)
SUMMARY:Inauguración del YAP CONSTRUCTO 7 'Después del Domo de los arquitec
 tos Torres + Reutter + Harada + Straub'
URL:https://fadeu-old.urantiacos.cl/agenda/evento/821-inauguracion-del-yap-
 constructo-7-despues-del-domo-de-los-arquitectos-torres-reutter-harada-str
 aub
END:VEVENT
BEGIN:VEVENT
UID:20260423T201622UTC-8064vunpsF@https://fadeu-old.urantiacos.cl/
DTSTAMP:20260423T201622Z
DESCRIPTION:Este seminario abordará temas de sustentabilidad y ciclo de vid
 a del producto a empresas de los principales sectores productivos de Chile
 . Participarán Nick Holden (University College Dublin)\, Nicola Borregaard
  (Coordinadora División de Desarrollo Sustentable del ministerio del Medio
 ambiente)\, Thomas Oldfiel (University College Dublin)\, Margarita Ducci (
 Directora Red Pacto Global Chile)\, Eoin White (University College Dublin)
 \, Antonia Biggs (ministerio del Medioambiente) y Alexander Wotherspoon (G
 erdau AZA S.A.).\nOrganiza y financiaPontifícia Universidad Católica de Ch
 ileFacultad de Arquitectura\, Diseño y Estudios Urbanos UCEscuela de Diseñ
 o UCCentro de Innovación UCMECESUP 3University College Dublin\n&nbsp\;\n h
 ttps://fadeu-old.urantiacos.cl/agenda/evento/785-seminario-internacional-c
 iclo-de-vida-y-sustentabilidad-para-los-sectores-productivos-de-chile
DTSTART:20170316T173000Z
DTEND:20170316T190000Z
LOCATION:Centro de Innovación UC Campus San Joaquin  (Vicuña Mackenna 4860\
 , Macul\, Región Metropolitana\, Chile)
SUMMARY:Seminario internacional 'Ciclo de vida y sustentabilidad para los s
 ectores productivos de Chile'
URL:https://fadeu-old.urantiacos.cl/agenda/evento/785-seminario-internacion
 al-ciclo-de-vida-y-sustentabilidad-para-los-sectores-productivos-de-chile
END:VEVENT
BEGIN:VEVENT
UID:20260423T201622UTC-8068O11B0r@https://fadeu-old.urantiacos.cl/
DTSTAMP:20260423T201622Z
DESCRIPTION:1º Versión Talleres de Articulación: Nuevas Oportunidades para 
 una SmartCity\nLa actividad desarrollada por la Pontificia Universidad Cat
 ólica de Chile\, País Digital\, Inria Chile y Corfo tiene como propósito q
 ue los participantes desarrollen técnicas e instrumentos para la identific
 ación de problemas y oportunidades\, la ideación de propuestas y su consol
 idación por medio de prototipado rápido.\nEl taller\, junto con las soluci
 ones generadas\, se enmarca en los tres ejes estratégicos del Programa: Se
 guridad\, Medio Ambiente y Movilidad y será impar do por académicos de la 
 Escuela de Diseño y la Escuela de Ingeniería UC.\nSe desarrollarán 6 talle
 res\, divididos en 2 por cada eje estratégico. Cada uno estará compuesto p
 or 8 horas cronológicas\, divididas en 2 sesiones.\nEJE SEGURIDAD\nSesión 
 1: “Detección de Problemas y Oportunidades”Miércoles 15 de marzo de 14.00 
 a 18.00 hrs.\nSesión 2: “Generación de Ideas y Prototipado”Martes 28 de ma
 rzo de 9.00 a 13.00 hrs.Lo Contador UC (Los Navegantes 1919)\nEJE MEDIO AM
 BIENTE\nSesión 1: “Detección de Problemas y Oportunidades”Jueves 16 de mar
 zo de 9.00 a 13.00 hrs.\nSesión 2: “Generación de Ideas y Prototipado”Mart
 es 28 de marzo de 14.00 a 18.00 hrs.Lo Contador UC (Los Navegantes 1919)\n
 EJE MOVILIDAD\nSesión 1: “Detección de Problemas y Oportunidades”Martes 21
  de marzo de 14.00 a 18.00 hrs.\nSesión 2: “Generación de Ideas y Prototip
 ado”Martes 03 de abril de 9.00 a 13.00 hrs.Inria Chile (Apoquindo 2827\, p
 iso 2)\n+ Inscripciones y más información aquí.\n&nbsp\;\n https://fadeu-o
 ld.urantiacos.cl/agenda/evento/777-talleres-de-articulacion-nuevas-oportun
 idades-para-una-smartcity
DTSTART:20170316T170000Z
DTEND:20170316T210000Z
LOCATION:Campus Lo Contador (El Comendador 1916\, Providencia\, Providencia
 \, Región Metropolitana\, Chile)
SUMMARY:Talleres de articulación 'Nuevas oportunidades para una SmartCity'
URL:https://fadeu-old.urantiacos.cl/agenda/evento/777-talleres-de-articulac
 ion-nuevas-oportunidades-para-una-smartcity
END:VEVENT
END:VCALENDAR
