BEGIN:VCALENDAR
VERSION:2.0
PRODID:-//https://fadeu-old.urantiacos.cl///NONSGML kigkonsult.se iCalcreator 2.10.15//
METHOD:PUBLISH
BEGIN:VEVENT
UID:20260419T121252UTC-6055R3H51x@https://fadeu-old.urantiacos.cl/
DTSTAMP:20260419T121252Z
DESCRIPTION:Los invitamos el pr&oacute\;ximo martes 17 de marzo\, a las 9:3
 0 hrs\, a la actividad&nbsp\;'Jane Jacobs y la ciudad para todas y todos:&
 nbsp\;El rol de las mujeres&nbsp\;en la planificaci&oacute\;n urbana'\, a 
 realizarse en&nbsp\;Sal&oacute\;n Sergio Larra&iacute\;n\,&nbsp\;Campus Lo
  Contador UC.&nbsp\;El Comendador 1916\, Providencia.\nInscripciones&nbsp\
 ;aqu&iacute\;\n&nbsp\;\n https://fadeu-old.urantiacos.cl/agenda/evento/210
 9-suspendida-charla-jane-jacobs-y-la-ciudad-para-todas-y-todos-el-rol-de-l
 as-mujeres-en-la-planificacion-urbana
DTSTART:20200317T123000Z
DTEND:20200317T133000Z
LOCATION:Salón Sergio Larraín\, Campus Lo Contador ()
SUMMARY:¡SUSPENDIDA! Charla: Jane Jacobs y la ciudad para todas y todos: El
  rol de las mujeres en la planificación urbana
URL:https://fadeu-old.urantiacos.cl/agenda/evento/2109-suspendida-charla-ja
 ne-jacobs-y-la-ciudad-para-todas-y-todos-el-rol-de-las-mujeres-en-la-plani
 ficacion-urbana
END:VEVENT
END:VCALENDAR
