BEGIN:VCALENDAR
VERSION:2.0
PRODID:-//https://fadeu-old.urantiacos.cl///NONSGML kigkonsult.se iCalcreator 2.10.15//
METHOD:PUBLISH
BEGIN:VEVENT
UID:20260420T063812UTC-6617ACLSo3@https://fadeu-old.urantiacos.cl/
DTSTAMP:20260420T063812Z
DESCRIPTION:Elvira P&eacute\;rez\, Jefa del programa de Mag&iacute\;ster en
  Patrimonio Cultural\, y Umberto Bonomo\, Director del Centro del Patrimon
 io Cultural de la Pontificia Universidad Cat&oacute\;lica de Chile\, invit
 an a la&nbsp\;Charla Magistral 'Arquitectura y Desarrollo Rural a trav&eac
 ute\;s del Patrimonio Cultural: El Valle del Colca\, Per&uacute\;'&nbsp\;p
 or&nbsp\;Juan De la Serna Torroba.\nPonencia a cargo del arquitecto Juan D
 e la Serna\, acerca de su experiencia en el Valle del Colca\, Per&uacute\;
 \, donde junto a la comunidad local y con el apoyo de la Agencia de Cooper
 aci&oacute\;n Espa&ntilde\;ola Internacional de Desarrollo (AECID)\, logra
 ron restaurar y poner en valor la arquitectura y construcci&oacute\;n loca
 l como parte de un plan integral de desarrollo.\n'El patrimonio es un recu
 rso que debidamente gestionado\, con planificaci&oacute\;n estrat&eacute\;
 gica\, valoraci&oacute\;n y apropiaci&oacute\;n de gesti&oacute\;n institu
 cional\, estrategias de conservaci&oacute\;n\, innovaci&oacute\;n y capaci
 taci&oacute\;n local\, puede generar desarrollo.'.\nJuan De la Serna Torro
 ba&nbsp\;es Arquitecto y Urbanista por la Universidad Polit&eacute\;cnica 
 de Madrid (UPM). M&aacute\;ster en Intervenci&oacute\;n del Patrimonio Arq
 uitect&oacute\;nico por la UPM. Especializaci&oacute\;n en Gesti&oacute\;n
  del Patrimonio Cultural en el &aacute\;mbito de la Cooperaci&oacute\;n al
  Desarrollo. Desde 1993\, forma parte del equipo de expertos del Programa 
 P&gt\;D Patrimonio para el Desarrollo de la Agencia Espa&ntilde\;ola de Co
 operaci&oacute\;n Internacional para el Desarrollo (AECID)\, siendo respon
 sable en Per&uacute\; (1993-2002 y 2005-2019) y Guatemala (2003-2004) de l
 os proyectos de cooperaci&oacute\;n en conservaci&oacute\;n y gesti&oacute
 \;n del patrimonio cultural como recurso para el desarrollo. En Per&uacute
 \; ha dirigido la restauraci&oacute\;n de la Sacrist&iacute\;a del Convent
 o de San Francisco (Lima)\, Casona de San Marcos (Lima)\, entre otras obra
 s\; la rehabilitaci&oacute\;n de los 'tambos' del Barrio del Solar (Arequi
 pa)\; los planes maestros de los centros hist&oacute\;ricos de Arequipa\, 
 Cajamarca\, Cusco y Huamanga\; entre otros proyectos.\nOrganizan: Mag&iacu
 te\;ster en Patrimonio Cultural UC\, Centro del Patrimonio Cultural UC.Pat
 rocinan: Agencia de Cooperaci&oacute\;n Espa&ntilde\;ola Internacional de 
 Desarrollo (AECID) del Ministerio de Asuntos Exteriores y Cooperaci&oacute
 \;n de Espa&ntilde\;a\, Corporaci&oacute\;n Procultura.\nEntrada liberada\
 , cupos limitados. Inscripciones al correo&nbsp\;magisterpatrimonio@uc.cl
 \n https://fadeu-old.urantiacos.cl/agenda/evento/1812-charla-magistral-arq
 uitectura-y-desarrollo-rural-a-traves-del-patrimonio-cultural-el-valle-del
 -colca-peru-por-juan-de-la-serna-torroba
DTSTART:20190318T213000Z
DTEND:20190318T223000Z
LOCATION:Salón Sergio Larraín\, Campus Lo Contador ()
SUMMARY:Charla Magistral 'Arquitectura y Desarrollo Rural a través del Patr
 imonio Cultural: El Valle del Colca\, Perú' por Juan De la Serna Torroba.
URL:https://fadeu-old.urantiacos.cl/agenda/evento/1812-charla-magistral-arq
 uitectura-y-desarrollo-rural-a-traves-del-patrimonio-cultural-el-valle-del
 -colca-peru-por-juan-de-la-serna-torroba
END:VEVENT
BEGIN:VEVENT
UID:20260420T063812UTC-66295LENkU@https://fadeu-old.urantiacos.cl/
DTSTAMP:20260420T063812Z
DESCRIPTION:&nbsp\;&nbsp\;\n\nRetomando una tradici&oacute\;n de direccione
 s pasadas\, la 'Expotalleres' es una instancia para compartir con todos lo
 s estudiantes y profesores de arquitectura\, pero tambi&eacute\;n con la c
 omunidad de Lo Contador\, los trabajos destacados desarrollados durante el
  semestre previo\, con el objetivo de propiciar un espacio de di&aacute\;l
 ogo e intercambio en torno a los proyectos\, fortaleciendo el debate arqui
 tect&oacute\;nico\, fomentando la excelencia acad&eacute\;mica y promovien
 do el encuentro de nuestra escuela.\n&nbsp\;\nFecha inauguraci&oacute\;n_
 \nLunes 18 de marzo de 2019\, 13.30 h.&nbsp\;\n&nbsp\;\n&nbsp\;\nFecha exp
 osici&oacute\;n_\n18 - 22 de marzo de 2019\n&nbsp\;\nLugar_\nCorredor Caso
 na Lo Contador. El Comendador 1916\, Providencia\n&nbsp\;\nInvitan_\nEscue
 la de Arquitectura UC&nbsp\;\n&nbsp\;\nNoticiasContacto:&nbsp\;redesarq@uc
 .cl&nbsp\;| +56 2 2354 7747www.arquitectura.uc.c https://fadeu-old.urantia
 cos.cl/agenda/evento/1799-expotalleres-arq-uc
DTSTART:20190318T163000Z
DTEND:20190318T173000Z
LOCATION:Corredor oriente de La Casona (El Comendador 1916\, Providencia\, 
 Región Metropolitana\, Chile)
SUMMARY:Expotalleres ARQ UC
URL:https://fadeu-old.urantiacos.cl/agenda/evento/1799-expotalleres-arq-uc
END:VEVENT
END:VCALENDAR
