BEGIN:VCALENDAR
VERSION:2.0
PRODID:-//https://fadeu-old.urantiacos.cl///NONSGML kigkonsult.se iCalcreator 2.10.15//
METHOD:PUBLISH
BEGIN:VEVENT
UID:20260419T122126UTC-7238fUmNh5@https://fadeu-old.urantiacos.cl/
DTSTAMP:20260419T122126Z
DESCRIPTION:La FADEU en conjunto con los Diplomados de las Escuelas de Arqu
 itectura y Dise&ntilde\;o\, realizar&aacute\;n un ciclo de charlas titulad
 as 'Reflexiones sobre Futuro'\, en la sala Brick de Las Condes Design. El 
 objetivo de dichas charlas es reflexionar sobre las condiciones actuales d
 e las disciplinas proyectuales y su desarrollo futuro\, a trav&eacute\;s d
 e una conversaci&oacute\;n con los propios Jefes de Programa de los Diplom
 ados que se imparten en Lo Contador.\nLa segunda charla ser&aacute\; reali
 zada por el Jefe del Programa de Diplomado BIM de la Escuela de Arquitectu
 ra UC\, Juan Eduardo Ojeda y se titula: 'Metodolog&iacute\;a BIM. Arquitec
 tura e Industrias\, nuevas tendencias y tecnolog&iacute\;as digitales'.\nM
 i&eacute\;rcoles 18 de marzo a las 19.00hrs.\, Las Condes 9765.\nInscr&iac
 ute\;bete en el siguiente link:&nbsp\;&nbsp\;https://forms.gle/ajrMt1VSdYW
 2fVnb8\n&nbsp\;\n https://fadeu-old.urantiacos.cl/agenda/evento/2113-suspe
 ndida-charla-metodologia-bim-arquitectura-e-industrias-nuevas-tendencias-y
 -tecnologias-digitales
DTSTART:20200318T220000Z
DTEND:20200318T230000Z
LOCATION:Las Condes Design (Av. Las Condes 9765\, Las Condes)
SUMMARY:¡SUSPENDIDA! Charla: 'Metodología BIM. Arquitectura e Industrias\, 
 nuevas tendencias y tecnologías digitales'
URL:https://fadeu-old.urantiacos.cl/agenda/evento/2113-suspendida-charla-me
 todologia-bim-arquitectura-e-industrias-nuevas-tendencias-y-tecnologias-di
 gitales
END:VEVENT
END:VCALENDAR
