BEGIN:VCALENDAR
VERSION:2.0
PRODID:-//https://fadeu-old.urantiacos.cl///NONSGML kigkonsult.se iCalcreator 2.10.15//
METHOD:PUBLISH
BEGIN:VEVENT
UID:20260420T063812UTC-2856ECHe7S@https://fadeu-old.urantiacos.cl/
DTSTAMP:20260420T063812Z
DESCRIPTION:Como es tradicional\, los invitamos muy cordialmente a celebrar
  la misa del Patrono del Campus Lo Contador\; San Jos&eacute\; Carpintero.
 &nbsp\;La eucarist&iacute\;a se llevar&aacute\; a cabo el d&iacute\;a&nbsp
 \;19&nbsp\;&nbsp\;de marzo a las 13.00 hrs. en La Capilla.&nbsp\;\n\n&nbsp
 \; https://fadeu-old.urantiacos.cl/agenda/evento/1793-celebracion-de-san-j
 ose-patrono-de-la-facultad
DTSTART:20190319T160000Z
DTEND:20190319T170000Z
LOCATION:Capilla Lo Contador (El Comendador 1916\, Providencia\, Región Met
 ropolitana\, Chile)
SUMMARY:Celebración de San José\, Patrono de la Facultad
URL:https://fadeu-old.urantiacos.cl/agenda/evento/1793-celebracion-de-san-j
 ose-patrono-de-la-facultad
END:VEVENT
BEGIN:VEVENT
UID:20260420T063812UTC-2860HUU2wJ@https://fadeu-old.urantiacos.cl/
DTSTAMP:20260420T063812Z
DESCRIPTION:En el marco del Seminario Internacional organizado por el COES&
 nbsp\;'Cohesi&oacute\;n y redes de sociabilidad'\,&nbsp\;y en colaboraci&o
 acute\;n con el proyecto Fondecyt 1161550\, el profesor&nbsp\;Mario L. Sma
 ll&nbsp\;realizar&aacute\; la conferencia&nbsp\;Social Capital and Network
 s.\nEsta actividad se realizar&aacute\; el d&iacute\;a&nbsp\;mi&eacute\;rc
 oles&nbsp\;19 de marzo de 9:00 a 12:00&nbsp\;en la Sala Colorada del Centr
 o de Extensi&oacute\;n&nbsp\;UC\, ubicado en la Casa Central\, Alameda 390
 .\nCharla en ingl&eacute\;s con traducci&oacute\;n.\n&nbsp\;\nInscripcione
 s&nbsp\;aqu&iacute\;\n&nbsp\;\nMario L. Small\, Ph.D.\, Grafstein Family P
 rofessor at Harvard University\, is the author of award-winning books and 
 articles on networks\, poverty\, organizations\, culture\, methods\, neigh
 borhoods\, institutions\, and other topics.&nbsp\; He is currently using l
 arge-scale administrative data to understand isolation in cities\, studyin
 g how people use their networks to meet their needs\, and exploring the ep
 istemological foundations of qualitative research.&nbsp\; His latest book 
 is Someone To Talk To (Oxford).&nbsp\; A study of how people decide whom t
 o approach when seeking support\, the book is an inquiry into human nature
 \, a critique of network analysis\, and a discourse on the role of qualita
 tive research in the big-data era.\n&nbsp\;\n&nbsp\;\n https://fadeu-old.u
 rantiacos.cl/agenda/evento/1806-seminario-internacional-organizado-por-el-
 coes-cohesion-y-redes-de-sociabilidad
DTSTART:20190319T120000Z
DTEND:20190319T150000Z
LOCATION:Sala Colorada\, Centro de Extensión UC (Alameda 390)
SUMMARY:Seminario Internacional organizado por el COES 'Cohesión y redes de
  sociabilidad'
URL:https://fadeu-old.urantiacos.cl/agenda/evento/1806-seminario-internacio
 nal-organizado-por-el-coes-cohesion-y-redes-de-sociabilidad
END:VEVENT
END:VCALENDAR
