BEGIN:VCALENDAR
VERSION:2.0
PRODID:-//https://fadeu-old.urantiacos.cl///NONSGML kigkonsult.se iCalcreator 2.10.15//
METHOD:PUBLISH
BEGIN:VEVENT
UID:20260421T014853UTC-8562bv28JJ@https://fadeu-old.urantiacos.cl/
DTSTAMP:20260421T014853Z
DESCRIPTION:Ruth Verde Zein_\nArchitect\, PhD Professor of Theory and Desig
 n at Mackenzie University\, S&atilde\;o Paulo\, Brazil. Member of CICA - I
 nternational Committee of Architectural Critics. Member of DOCOMOMO Intern
 ational\, coordinates Docomomo Brazil/S&atilde\;o Paulo&rsquo\;s chapter. 
 Former editor of Projeto magazine. Has participated in several seminars an
 d given conferences and courses in Brazil and abroad. Has more than a hund
 red articles published and a dozen books on Brazilian and Latin American m
 odern and contemporary architecture.\nCurr&iacute\;culo cient&iacute\;fico
  completo: http://lattes.cnpq.br/8375309081976653\nAnat Falbel_\nAnat Falb
 el Received her Ph. D in Architecture and Urbanism from the University of 
 S&atilde\;o Paulo\, in 2003\, with the thesis ͞Lucjan Korngold: the trajec
 tory of an immigrant architect͟\, dealing with the subject of &eacute\;mig
 r&eacute\;s architects\, between the 40&rsquo\;s and 60&rsquo\;s in the ci
 ty of S&atilde\;o Paulo. A Canadian Center of Architecture Visiting schola
 r (2013)\, she was also awarded Docomomo Summer Grant. She participated in
  the organization of Docomomo International Conference ͞Impressions Transa
 tlantiques: le dialogue entre architectures nationale et &eacute\;tranger 
 au Br&eacute\;sil\, 1930-1960͟\, in Paris\, 2005\, as well the EAHN FAUSP 
 Conference Architectural Electives Affinities: correspondences\, transfers
 \, inter/multidisciplinarity\, 2013. Presently she is one of the organizer
 s of the Urban Photography Film and Video EAHN Working group. In 2011 she 
 curated the exhibitions ͞Exile and Modernity: The space of the foreigner i
 n the city of Sao Paulo͟ and in 2013 ͞Vagabond Stars: Memories of the Jewi
 sh Theater in Brazil͟ Presently she is a lecturer and researcher at the Fe
 deral University of Rio de Janeiro (FAU/UFRJ).\nBetween many articles she 
 also edited and published Bruno Zevi Architettura e hebraismo: Mendelsohn.
  Editora Perspectiva. (edition\, translation\, introduction\, 2002)\; tran
 slator and editor of Joseph Rykwert&rsquo\;s The house of Adam in Paradise
 \, (2002)\, The Idea of the City (2006) and The Dancing Column (2015)\, by
  Editora Perspectiva (2015). In the second half of 2000\, she began dedica
 ting herself to the issue of visual culture transferences beginning with t
 he work of the German born photographer Peter Scheier in Brazil\, as in ͞P
 eter Scheier: transpar&ecirc\;ncia e vis&otilde\;es de utopia͟\, in As con
 stru&ccedil\;&otilde\;es de Brasilia. S&atilde\;o Paulo: Instituto Moreira
  Salles\, 2010\; or ͞Le photographe Peter Scheier: la transparence et le p
 alimpseste͟\, in Soci&eacute\;t&eacute\;s &amp\; Repres&eacute\;ntations n
 umero especial L&rsquo\;architecture et ses images. Ed. Gerard Monnier\, E
 velyne Cohen\, edit.\, Paris: Publications de la Sorbonne\, n. 30\, dez.\,
  2010.\nanatfalbel@uol.com.brFecha: Martes 20 de marzo de 2018\, 13.00 hrs
 .\nLugar: Auditorio FCV. El Comendador 1936\, Providencia\nInvitan:\nEscue
 la de Arquitectura UC\n&nbsp\;\n https://fadeu-old.urantiacos.cl/agenda/ev
 ento/1458-conferencia-brasil-moderno
DTSTART:20180320T160000Z
DTEND:20180320T170000Z
LOCATION:Auditorio Fernando Castillo Velasco. Edificio ARQ (El Comendador 1
 936\, Providencia\, Región Metropolitana\, Chile)
SUMMARY:Conferencia 'Brasil Moderno'
URL:https://fadeu-old.urantiacos.cl/agenda/evento/1458-conferencia-brasil-m
 oderno
END:VEVENT
END:VCALENDAR
