BEGIN:VCALENDAR
VERSION:2.0
PRODID:-//https://fadeu-old.urantiacos.cl///NONSGML kigkonsult.se iCalcreator 2.10.15//
METHOD:PUBLISH
BEGIN:VEVENT
UID:20260420T063934UTC-58984drEtV@https://fadeu-old.urantiacos.cl/
DTSTAMP:20260420T063934Z
DESCRIPTION:El pr&oacute\;ximo jueves 21 de marzo se llevar&aacute\; a cabo
  el panel de discusi&oacute\;n&nbsp\;Chilean Architecture as a Common Fiel
 d of Knowledge\,&nbsp\;el que contar&aacute\; con las presentaciones de&nb
 sp\;Alejandra Celed&oacute\;n&nbsp\;(arquitecta Universidad de Chile y doc
 ente ARQ UC)\,&nbsp\;Francisco D&iacute\;az&nbsp\;(editor Ediciones ARQ)\,
 &nbsp\;Arturo Garc&iacute\;a &amp\; Ignacio Garc&iacute\;a Partarrieu&nbsp
 \;(Umwelt) y&nbsp\;Tom&aacute\;s Villal&oacute\;n&nbsp\;(arquitecto Univer
 sidad de Chile y docente ARQ UC). Moderan&nbsp\;Felipe De Ferrari&nbsp\;(P
 lan Comun / OnArchitecture) y&nbsp\;J&oslash\;rg Himmelreich&nbsp\;(archit
 hese).\nEsta conversaci&oacute\;n tiene como objetivo reflexionar sobre la
  pr&aacute\;ctica de la arquitectura chilena contempor&aacute\;nea con un 
 enfoque en la generaci&oacute\;n joven de dise&ntilde\;adores. &iquest\;Cu
 &aacute\;les son los temas\, trayectorias y perspectivas m&aacute\;s relev
 antes dentro de sus exploraciones te&oacute\;ricas y proyectos de construc
 ci&oacute\;n? &iquest\;C&oacute\;mo las consideraciones estructurales\, co
 nceptuales y est&eacute\;ticas responden a las condiciones sociales\, pol&
 iacute\;ticas\, geogr&aacute\;ficas y econ&oacute\;micas o las desaf&iacut
 e\;an? &iquest\;C&oacute\;mo se relacionan las estrategias chilenas espec&
 iacute\;ficas con la reflexi&oacute\;n de los discursos globales?\n* El ev
 ento es una colaboraci&oacute\;n entre&nbsp\;Revista Architese&nbsp\;y&nbs
 p\;la escuela de Arquitectura de la Pontificia Universidad Cat&oacute\;lic
 a de Chile. Los extractos de la discusi&oacute\;n ser&aacute\;n publicados
  en&nbsp\;archithese 3.2019 Chile\, tomo que se podr&aacute\; pedir en l&i
 acute\;nea a partir de septiembre de 2019 a trav&eacute\;s&nbsp\;dearchith
 ese.ch\nMayor informaci&oacute\;n en este&nbsp\;link\n&nbsp\;\nFecha_\nJue
 ves 21 de marzo de 2019\, 15.00 h.\n&nbsp\;\nLugar_\nHall edificio ARQ UC
 \nCampus Lo Contador\nEl Comendador 1936\, Providencia\nSantiago\, Chile\n
 &nbsp\;\nInvitan_\nRevista Architese\nEscuela Arquitectura UC\n&nbsp\;\n\n
 &nbsp\;\nNoticiasContacto:&nbsp\;redesarq@uc.cl&nbsp\;| +56 2 2354 7747www
 .arquitectura.uc.cl https://fadeu-old.urantiacos.cl/agenda/evento/1801-pan
 el-discussion-chilean-architecture-as-a-common-field-of-knowledge
DTSTART:20190321T180000Z
DTEND:20190321T190000Z
LOCATION:Hall Arquitectura UC (El Comendador 1936\, Providencia\, Región Me
 tropolitana\, Chile)
SUMMARY:Panel discussion 'Chilean Architecture as a Common Field of Knowled
 ge'
URL:https://fadeu-old.urantiacos.cl/agenda/evento/1801-panel-discussion-chi
 lean-architecture-as-a-common-field-of-knowledge
END:VEVENT
BEGIN:VEVENT
UID:20260420T063934UTC-5908Kw3Ux5@https://fadeu-old.urantiacos.cl/
DTSTAMP:20260420T063934Z
DESCRIPTION:La arquitecta y acad&eacute\;mica de la escuela de Arquitectura
  UC\, Cecilia Puga\, dictar&aacute\; la tercera de las conferencias inaugu
 rales de los talleres de pregrado.&nbsp\;\n&nbsp\;\nCecilia Puga\nEs arqui
 tecta de la Pontificia Universidad Cat&oacute\;lica de Chile (1990) con es
 tudios en Historia y Restauraci&oacute\;n de Monumentos Arquitect&oacute\;
 nicos de la Sapienza Universit&agrave\; de Roma\, becada por el Ministerio
  de Asuntos Externos de Italia (19871989). En el &aacute\;mbito acad&eacut
 e\;mico\, ha sido profesora visitante en la Universidad de Texas\, Austin 
 (2007-2015)\, en el GSD de Harvard (2009) y en el BIAarch de Barcelona (20
 11)\, entre otros. Actualmente es profesora en la ETH Z&uuml\;rich y en la
  Escuela de Arquitectura UC\, donde dirige el taller de segundo a&ntilde\;
 o. En 2014 gan&oacute\; el concurso internacional para el Palacio Pereira\
 , hoy en construcci&oacute\;n\, y entre sus &uacute\;ltimos proyectos est&
 aacute\;n el Terminal Internacional de Pasajeros de Magallanes y el dise&n
 tilde\;o de infraestructura para uso p&uacute\;blico en el Parque Nacional
  Queulat en la Patagonia.\nFecha_\nJueves 21 de marzo de 2019\, 13.30 h.\n
 &nbsp\;\nLugar_\nAuditorio FCV. El Comendador 1936\, Providencia\n&nbsp\;
 \nInvitan_\nEscuela de Arquitectura UC&nbsp\;\n&nbsp\;\n\n&nbsp\;&nbsp\;\n
 NoticiasContacto:&nbsp\;redesarq@uc.cl&nbsp\;| +56 2 2354 7747www.arquitec
 tura.uc.cl https://fadeu-old.urantiacos.cl/agenda/evento/1815-conferencia-
 inaugural-talleres-de-ejercitacion-cecilia-puga
DTSTART:20190321T163000Z
DTEND:20190321T173000Z
LOCATION:Auditorio Fernando Castillo Velasco. Edificio ARQ (El Comendador 1
 936\, Providencia\, Región Metropolitana\, Chile)
SUMMARY:Conferencia inaugural Talleres de Ejercitación | Cecilia Puga
URL:https://fadeu-old.urantiacos.cl/agenda/evento/1815-conferencia-inaugura
 l-talleres-de-ejercitacion-cecilia-puga
END:VEVENT
BEGIN:VEVENT
UID:20260420T063934UTC-5915UAuIGG@https://fadeu-old.urantiacos.cl/
DTSTAMP:20260420T063934Z
DESCRIPTION:Seminario organizado por el&nbsp\;Mag&iacute\;ster en Arquitect
 ura del Paisaje&nbsp\;UC\, el Fondo Semilla 2018 'Infraestructura Verde Ur
 bana' y David Rockefeller Center for Latin American Studies\,&nbsp\;el cua
 l se&nbsp\;plantea&nbsp\;como un espacio de reflexi&oacute\;n y discusi&oa
 cute\;n en torno a los&nbsp\;R&iacute\;os Urbanos&nbsp\;como espacios de o
 portunidad para el desarrollo de infraestructura verde a escala metropolit
 ana\, en Santiago de Chile\, convocando al &aacute\;mbito p&uacute\;blico 
 y acad&eacute\;mico nacional e internacional para abordar esta tem&aacute\
 ;tica.\nExponen_\nRichard Forman&nbsp\;(Harvard Graduate School of Design)
 \nCluster Infraestructura Verde R&iacute\;o Maipo&nbsp\;(Fondo Semilla Esc
 uela de Arquitectura UC)Catalina Picon&nbsp\;(Fundaci&oacute\;n Cerros Isl
 a)\nSandra Iturriaga&nbsp\;(Mapocho 42k)\nIv&aacute\;n Poduje&nbsp\;(Escue
 la de Arquitectura UC)\n&nbsp\;\nPrograma_\n08:30 &ndash\; 09:00&nbsp\;Acr
 editaci&oacute\;n y recepci&oacute\;n de asistentes\n&nbsp\;\n09:00 &ndash
 \; 09:15&nbsp\;Palabras de BienvenidaExpone: director de la escuela de Arq
 uitectura UC y directora DRCLAS\n&nbsp\;\n09:15 &ndash\; 09:30&nbsp\;Intro
 ducci&oacute\;n:&nbsp\;Cluster Infraestructura Verde R&iacute\;o MaipoExpo
 ne:&nbsp\;Osvaldo Moreno. Jefe de Magister en Arquitectura del Paisaje\, y
 &nbsp\;Arturo Lyon\, Coordinador del Cluster Infraestructura Verde R&iacut
 e\;o Maipo.\n&nbsp\;\n09:30 &ndash\; 10:20&nbsp\;Keynote Speech:&nbsp\;Gre
 en Infrastructure\, Urban Ecology\, and Urban Region Plans\nExpone:&nbsp\;
 Richard Forman. Ec&oacute\;logo del paisaje y Profesor del Graduate School
  Of Design y Harvard College\, Universidad de Harvard.\n&nbsp\;\n10:20 &nd
 ash\; 10:40&nbsp\;Ronda de Preguntas\n&nbsp\;\n10:40 &ndash\; 11:10&nbsp\;
 Coffee Break\n&nbsp\;\n11:10 &ndash\; 11:40&nbsp\;Mosaico Ecol&oacute\;gic
 o Urbano: Criterios para el desarrollo de la Regi&oacute\;n Metropolitana
 \nExpone:&nbsp\;Catalina Picon.&nbsp\;Directora Fundaci&oacute\;n Cerros I
 sla.\n&nbsp\;\n11:40 &ndash\; 12:10&nbsp\;Mapocho 42K: corredor verde metr
 opolitano para la integraci&oacute\;n social. Experiencias y desaf&iacute\
 ;os.\nExpone:&nbsp\;Sandra Iturriaga. Directora Mapocho 42k_Lab.\n&nbsp\;
 \n12:10 &ndash\; 12:40 Anillo Verde y Parques Fluviales en Santiago de Chi
 le.\nExpone:&nbsp\;Ivan Poduje.&nbsp\;Arquitecto Urbanista. Acad&eacute\;m
 ico de la Escuela de Arquitectura\, Pontificia Universidad Cat&oacute\;lic
 a de Chile.\n&nbsp\;\n12:40 &ndash\; 13:10&nbsp\;Mesa redonda de preguntas
  y comentarios.Participan expositores. Feedback&nbsp\;Richard FormanModera
 dora:&nbsp\;Carolina Katz. Investigadora Cluster Infraestructura Verde R&i
 acute\;o Maipo.\n&nbsp\;\nCierre del Evento\n&nbsp\;\nEste seminario es un
  evento abierto con previa inscripci&oacute\;n que se enmarca en una serie
  de actividades que buscan relevar tem&aacute\;ticas relacionadas al paisa
 je\, infraestructura verde y planificaci&oacute\;n ecol&oacute\;gica de ci
 udades\, entre las que destaca la realizaci&oacute\;n del&nbsp\;Workshop d
 e investigaci&oacute\;n &ldquo\;R&iacute\;os urbanos\, paisaje y planifica
 ci&oacute\;n ecol&oacute\;gica&rdquo\;&nbsp\;el d&iacute\;a viernes 22 de 
 marzo en nuestra facultad\, el cual plantea compartir junto a&nbsp\;Richar
 d Forman&nbsp\;una jornada de intercambio de visiones\, m&eacute\;todos y 
 resultados de investigaciones relacionadas al paisaje\, orientadas a refle
 xionar sobre el potencial rol de los r&iacute\;os urbanos como sistemas es
 tructurantes para la sustentabilidad y resiliencia de nuestras ciudades. E
 n esta jornada\, el profesor Richard Forman\, ec&oacute\;logo del paisaje 
 y profesor en el Graduate School Of Design y el Harvard College en la Univ
 ersidad de Harvard\, lanzar&aacute\; su libro &ldquo\;Town Ecology: For th
 e Land of Towns and Villages&rdquo\;.\n&nbsp\;\nFecha seminario_\n21 de ma
 rzo\, 9 a 13 h.\n&nbsp\;\nLugar_\nAuditorio FADEU\nEl Comendador 1916\, Pr
 ovidencia\n&nbsp\;\nOrganizan_Mag&iacute\;ster en Arquitectura del Paisaje
 Fondo Semilla 2018 'Infraestructura Verde Urbana'\nDavid Rockefeller Cente
 r for Latin American Studies\n&nbsp\;\nPatrocinan_Fundaci&oacute\;n Cerros
  IslaIALE\nAuspicia_DRCLAS&nbsp\;\nInscripci&oacute\;n_\nFormulario de Ins
 cripci&oacute\;n\nCupos limitados\n&nbsp\;\n*Consultas e informaciones a:&
 nbsp\;magistermapa@uc.cl\n\n&nbsp\; https://fadeu-old.urantiacos.cl/agenda
 /evento/1811-seminario-rios-urbanos-hacia-una-vision-de-infraestructura-ve
 rde-metropolitana-para-santiago-de-chile
DTSTART:20190321T120000Z
DTEND:20190321T160000Z
LOCATION:Auditorio FADEU\, Campus Lo Contador PUC (El Comendador 1916\, Pro
 videncia\, Providencia\, Región Metropolitana\, Chile)
SUMMARY:Seminario 'Ríos urbanos: hacia una visión de infraestructura verde 
 metropolitana para Santiago de Chile”
URL:https://fadeu-old.urantiacos.cl/agenda/evento/1811-seminario-rios-urban
 os-hacia-una-vision-de-infraestructura-verde-metropolitana-para-santiago-d
 e-chile
END:VEVENT
END:VCALENDAR
