BEGIN:VCALENDAR
VERSION:2.0
PRODID:-//https://fadeu-old.urantiacos.cl///NONSGML kigkonsult.se iCalcreator 2.10.15//
METHOD:PUBLISH
BEGIN:VEVENT
UID:20260421T014851UTC-7057ss0kdR@https://fadeu-old.urantiacos.cl/
DTSTAMP:20260421T014851Z
DESCRIPTION: https://fadeu-old.urantiacos.cl/agenda/evento/1463-charla-doco
 momo-iveta-cerna
DTSTART:20180323T213000Z
DTEND:20180323T223000Z
LOCATION:Auditorio FADEU\, Campus Lo Contador PUC (El Comendador 1916\, Pro
 videncia\, Providencia\, Región Metropolitana\, Chile)
SUMMARY:Charla Docomomo: Iveta Cerná
URL:https://fadeu-old.urantiacos.cl/agenda/evento/1463-charla-docomomo-ivet
 a-cerna
END:VEVENT
BEGIN:VEVENT
UID:20260421T014851UTC-70601nzXJn@https://fadeu-old.urantiacos.cl/
DTSTAMP:20260421T014851Z
DESCRIPTION:AOA FORUM on &ldquo\;Contemporary Architectural Design and Mode
 rn AOA Heritage&rdquo\; Presentations:TEODORO FERN&Aacute\;NDEZ - PEDRO GU
 BBINS - GUILLERMO HEVIA - SEBASTI&Aacute\;N IRARR&Aacute\;ZAVAL - PABLO SA
 RIC - CARLOS EDUARDO COMASSession Coordinators: Francisco D&iacute\;az &am
 p\; Rayna Razmilic\n&nbsp\;\n https://fadeu-old.urantiacos.cl/agenda/event
 o/1474-aoa-forum-on-contemporary-architectural-design-and-modern-aoa-herit
 age
DTSTART:20180323T200000Z
DTEND:20180323T210000Z
LOCATION:Auditorio FADEU\, Campus Lo Contador PUC (El Comendador 1916\, Pro
 videncia\, Providencia\, Región Metropolitana\, Chile)
SUMMARY:AOA FORUM on “Contemporary Architectural Design and Modern AOA Heri
 tage” 
URL:https://fadeu-old.urantiacos.cl/agenda/evento/1474-aoa-forum-on-contemp
 orary-architectural-design-and-modern-aoa-heritage
END:VEVENT
BEGIN:VEVENT
UID:20260421T014851UTC-7063nTUSoG@https://fadeu-old.urantiacos.cl/
DTSTAMP:20260421T014851Z
DESCRIPTION: https://fadeu-old.urantiacos.cl/agenda/evento/1462-charla-doco
 momo-carlos-eduardo-comas
DTSTART:20180323T183000Z
DTEND:20180323T193000Z
LOCATION:Auditorio FADEU\, Campus Lo Contador PUC (El Comendador 1916\, Pro
 videncia\, Providencia\, Región Metropolitana\, Chile)
SUMMARY:Charla Docomomo: Carlos Eduardo Comas
URL:https://fadeu-old.urantiacos.cl/agenda/evento/1462-charla-docomomo-carl
 os-eduardo-comas
END:VEVENT
BEGIN:VEVENT
UID:20260421T014851UTC-7065sewjfJ@https://fadeu-old.urantiacos.cl/
DTSTAMP:20260421T014851Z
DESCRIPTION: https://fadeu-old.urantiacos.cl/agenda/evento/1465-charla-doco
 momo-ruth-verde-zein
DTSTART:20180323T180000Z
DTEND:20180323T190000Z
LOCATION:Auditorio FADEU\, Campus Lo Contador PUC (El Comendador 1916\, Pro
 videncia\, Providencia\, Región Metropolitana\, Chile)
SUMMARY:Charla Docomomo: Ruth Verde Zein
URL:https://fadeu-old.urantiacos.cl/agenda/evento/1465-charla-docomomo-ruth
 -verde-zein
END:VEVENT
BEGIN:VEVENT
UID:20260421T014851UTC-70675euvMR@https://fadeu-old.urantiacos.cl/
DTSTAMP:20260421T014851Z
DESCRIPTION: https://fadeu-old.urantiacos.cl/agenda/evento/1464-charla-doco
 momo-jose-gutierrez-marquez
DTSTART:20180323T153000Z
DTEND:20180323T163000Z
LOCATION:Auditorio FADEU\, Campus Lo Contador PUC (El Comendador 1916\, Pro
 videncia\, Providencia\, Región Metropolitana\, Chile)
SUMMARY:Charla Docomomo: José Gutiérrez Márquez
URL:https://fadeu-old.urantiacos.cl/agenda/evento/1464-charla-docomomo-jose
 -gutierrez-marquez
END:VEVENT
BEGIN:VEVENT
UID:20260421T014851UTC-70693xlIPD@https://fadeu-old.urantiacos.cl/
DTSTAMP:20260421T014851Z
DESCRIPTION:El seminario se realizar&aacute\; el 23 de marzo\, de 8:45 a 13
 :30 hrs.\, y contar&aacute\; con exposiciones de destacados investigadores
  internacionales\, como Phillip Ross y Linda Kahl.\nEsta actividad est&aac
 ute\; dirigida a ejecutivos y profesionales de &aacute\;reas de Innovaci&o
 acute\;n\, Dise&ntilde\;o\, Arquitectura\, Construcci&oacute\;n\, Ingenier
 &iacute\;a y todos quienes deseen conocer m&aacute\;s acerca de los nuevos
  tipos de materiales que se est&aacute\;n desarrollando en el mundo.\nFech
 a_\nViernes 23 de marzo\, 8.45 a 13.30 hrs.\nLugar_\nAuditorio Principal d
 el Centro de Innovaci&oacute\;n UC. Av. Vicu&ntilde\;a Mackenna 4860\, Mac
 ul. Acceso a estacionamientos de pago por Av. Vicu&ntilde\;a Mackenna.\nIn
 vitan_\nCentro de Innovaci&oacute\;n UC\, Anacleto Angelini\nFacultad de A
 rquitectura\, Dise&ntilde\;o y Estudios Urbanos UC\nLaboratorio de Biofabr
 icaci&oacute\;n FADEU\nLink de inscripci&oacute\;n_ aqu&iacute\;\n&nbsp\;
 \n https://fadeu-old.urantiacos.cl/agenda/evento/1472-seminario-biofabrica
 ndo-el-futuro
DTSTART:20180323T114500Z
DTEND:20180323T163000Z
LOCATION:Auditorio Centro de Innovación\, 1 piso (Av. Vicuña Mackenna 4860\
 , Macul\, La Florida\, Región Metropolitana\, Chile)
SUMMARY:Seminario 'Biofabricando el futuro'
URL:https://fadeu-old.urantiacos.cl/agenda/evento/1472-seminario-biofabrica
 ndo-el-futuro
END:VEVENT
END:VCALENDAR
