BEGIN:VCALENDAR
VERSION:2.0
PRODID:-//https://fadeu-old.urantiacos.cl///NONSGML kigkonsult.se iCalcreator 2.10.15//
METHOD:PUBLISH
BEGIN:VEVENT
UID:20260419T121250UTC-9888MpgVfj@https://fadeu-old.urantiacos.cl/
DTSTAMP:20260419T121250Z
DESCRIPTION:&nbsp\;\n https://fadeu-old.urantiacos.cl/agenda/evento/2101-su
 spendida-charla-la-ciudad-y-las-palabras-teju-cole
DTSTART:20200326T163000Z
DTEND:20200326T173000Z
LOCATION:Auditorio Fernando Castillo Velasco. Edificio ARQ (El Comendador 1
 936\, Providencia\, Región Metropolitana\, Chile)
SUMMARY:¡SUSPENDIDA!: Charla La Ciudad y las Palabras: Teju Cole
URL:https://fadeu-old.urantiacos.cl/agenda/evento/2101-suspendida-charla-la
 -ciudad-y-las-palabras-teju-cole
END:VEVENT
END:VCALENDAR
