BEGIN:VCALENDAR
VERSION:2.0
PRODID:-//https://fadeu-old.urantiacos.cl///NONSGML kigkonsult.se iCalcreator 2.10.15//
METHOD:PUBLISH
BEGIN:VEVENT
UID:20260421T000924UTC-412017eCVM@https://fadeu-old.urantiacos.cl/
DTSTAMP:20260421T000924Z
DESCRIPTION:Re-aprendiendo a dise&ntilde\;ar: Experimentos pedag&oacute\;gi
 cos con STS en talleres de dise&ntilde\;o es la tem&aacute\;tica de la rem
 ozada nueva edici&oacute\;n de Revista Dise&ntilde\;a a cargo de Renato Be
 rnasconi\, quien hace unos meses asumi&oacute\; la direcci&oacute\;n de es
 ta publicaci&oacute\;n de cultura del dise&ntilde\;o.Como editores invitad
 os participan Ignacio Far&iacute\;as y Tom&aacute\;s S&aacute\;nchez Criad
 o (TU M&uacute\;nich).\nCu&aacute\;ndo: Martes 27 de marzo\, 19:00 hrs.D&o
 acute\;nde: D&oacute\;nde: Auditorio Arquitectura\, Campus Lo Contador.\n&
 nbsp\;\n https://fadeu-old.urantiacos.cl/agenda/evento/1466-lanzamiento-re
 vista-disena
DTSTART:20180327T220000Z
DTEND:20180327T233000Z
LOCATION:Auditorio Fernando Castillo Velasco. Edificio ARQ (El Comendador 1
 936\, Providencia\, Región Metropolitana\, Chile)
SUMMARY:Lanzamiento Revista Diseña
URL:https://fadeu-old.urantiacos.cl/agenda/evento/1466-lanzamiento-revista-
 disena
END:VEVENT
END:VCALENDAR
