BEGIN:VCALENDAR
VERSION:2.0
PRODID:-//https://fadeu-old.urantiacos.cl///NONSGML kigkonsult.se iCalcreator 2.10.15//
METHOD:PUBLISH
BEGIN:VEVENT
UID:20260421T001024UTC-3339XeTb2i@https://fadeu-old.urantiacos.cl/
DTSTAMP:20260421T001024Z
DESCRIPTION:El Equipo de &Aacute\;lbum: revista sobre patrimonio cultural i
 nvita al lanzamiento de su primer n&uacute\;mero\, Patrimonio y Memoria.\n
 La actividad se realizar&aacute\; el d&iacute\;a mi&eacute\;rcoles 28 de m
 arzo a las 19:00 horas\, en el Sal&oacute\;n Sergio Larra&iacute\;n\, Camp
 us Lo Contador de la Pontificia Universidad de Chile\, ubicado en El Comen
 dador 1916\, comuna de Providencia.\nRevista &Aacute\;lbum surge del inter
 &eacute\;s de un equipo interdisciplinario de profesionales ligados al pat
 rimonio cultural por promover la discusi&oacute\;n y reflexi&oacute\;n sob
 re el patrimonio cultural en Chile\, a trav&eacute\;s de la creaci&oacute\
 ;n de un espacio para el di&aacute\;logo que d&eacute\; cuenta de la diver
 sidad de actores y miradas que componen el debate.\nParticipar&aacute\;n d
 el lanzamiento los integrantes de Revista &Aacute\;lbum\, y el acad&eacute
 \;mico de la Escuela de Arquitectura UC\, Horacio Torrent.\nLa entrada ser
 &aacute\; liberada\, previa inscripci&oacute\;n en: https://goo.gl/forms/0
 jm3Fni6DDrXjbSg2\nAl finalizar el evento se servir&aacute\; un vino de hon
 or.\nFecha_\nMi&eacute\;rcoles 28 de marzo\, 19.00 hrs.\nLugar_\nSal&oacut
 e\;n Sergio Larra&iacute\;n. Campus Lo Contador PUC. El Comendador 1916\, 
 Providencia.\nOrganizan_\n&Aacute\;lbum\, revista sobre patrimonio cultura
 l.\n&nbsp\;\n https://fadeu-old.urantiacos.cl/agenda/evento/1475-lanzamien
 to-revista-digital-album
DTSTART:20180328T220000Z
DTEND:20180328T230000Z
LOCATION:Salón Sergio Larraín\, Campus Lo Contador ()
SUMMARY: Lanzamiento Revista Digital Álbum
URL:https://fadeu-old.urantiacos.cl/agenda/evento/1475-lanzamiento-revista-
 digital-album
END:VEVENT
END:VCALENDAR
