BEGIN:VCALENDAR
VERSION:2.0
PRODID:-//https://fadeu-old.urantiacos.cl///NONSGML kigkonsult.se iCalcreator 2.10.15//
METHOD:PUBLISH
BEGIN:VEVENT
UID:20260420T063807UTC-0008f2mO9E@https://fadeu-old.urantiacos.cl/
DTSTAMP:20260420T063807Z
DESCRIPTION:Conferencia de la profesora de la Universidade Federal de Rio G
 rande do Sul de Brasil\, Claudia Costa Cabral\, en el marco del proyecto F
 ondecyt 'Arquitectura y urbanismo en el laboratorio del desarrollo'\, lide
 rado por el profesor de la Escuela de Arquitectura UC\, Horacio Torrent.&n
 bsp\;\n&nbsp\;\nModernidad y figuraci&oacute\;n en la arquitectura de la c
 iudad moderna en Am&eacute\;rica Latina\n&nbsp\;\n\nLa integraci&oacute\;n
  de las artes pl&aacute\;sticas en la arquitectura tuvo un papel vital en 
 el desarrollo de la arquitectura y de la ciudad modernas en Am&eacute\;ric
 a Latina\, moldeada por una variedad de circunstancias y enfoques\, no sie
 mpre coincidentes. La conferencia examina la persistencia de la escultura 
 figurativa en la construcci&oacute\;n del espacio moderno en Am&eacute\;ri
 ca Latina\, del bloque del Ministerio de la Educaci&oacute\;n en Rio de Ja
 neiro (1936-45) a la inauguraci&oacute\;n de Bras&iacute\;lia (1956-61).\n
 La representaci&oacute\;n naturalista de la figura humana en el arte perte
 nece a un corpus acad&eacute\;mico\, que muy bien se podr&iacute\;a descri
 bir como opuesto a las b&uacute\;squedas de una formulaci&oacute\;n abstra
 cta del espacio arquitect&oacute\;nico. Asimismo\, desde la inclusi&oacute
 \;n de la figura femenina en bronce de Georg Kolbe en el Pabell&oacute\;n 
 de Barcelona por Mies a las in&uacute\;meras aportaciones latinoamericanas
 \, la persistencia de la escultura figurativa en el espacio moderno no pue
 de ser descartada como mero epifen&oacute\;meno. Adem&aacute\;s\, dicho te
 ma representa una visi&oacute\;n del problema de la integraci&oacute\;n de
  las artes que se podr&iacute\;a considerar como antit&eacute\;tica con re
 specto a otros ideales de la s&iacute\;ntesis de las artes en la tradici&o
 acute\;n moderna. La presentaci&oacute\;n buscar&aacute\; se&ntilde\;alar 
 que una noci&oacute\;n de la s&iacute\;ntesis de las artes guiada por el p
 aradigma barroco de la unidad iconogr&aacute\;fica parece haber subsistido
  como categor&iacute\;a interpretativa para la cr&iacute\;tica\, mientras 
 la pr&aacute\;ctica arquitect&oacute\;nica mostraba perspectivas distintas
 .\nCl&aacute\;udia Costa Cabral\, Arquitecta (Universidade Federal do Rio 
 Grande do Sul)\, Doctora en Arquitectura (Universitat Polit&egrave\;cnica 
 de Catalunya)\, Profesora Titular de la Facultad de Arquitectura de la Uni
 versidade Federal do Rio Grande do Sul. Es investigadora del CNPq &ndash\;
  Consejo Nacional de Desarrollo Cient&iacute\;fico y Tecnol&oacute\;gico\,
  y Coordinadora del Grupo de Investigaci&oacute\;n Estudios de Arquitectur
 a Moderna Latinoamericana (PROPAR-UFRGS/CNPq). Es autora de art&iacute\;cu
 los y cap&iacute\;tulos de libros publicados en Brasil y en el extranjero 
 (Argentina\, Chile\, Espa&ntilde\;a\, Estados Unidos\, Holanda). Fue Coord
 inadora de DOCOMOMO Brasil en el bienio 2012-2013.\nFecha_\nViernes 29 de 
 marzo de 2019\, 12 h.&nbsp\;\n&nbsp\;\nLugar_\nSal&oacute\;n SLGM\nEl Come
 ndador 1936\, Providencia\n&nbsp\;\nOrganizan_\nProyecto Fondecyt #1181290
 \nEscuela de Arquitectura UC&nbsp\;&nbsp\;\n&nbsp\;\n&nbsp\;\n&nbsp\; http
 s://fadeu-old.urantiacos.cl/agenda/evento/1819-conferencia-modernidad-y-fi
 guracion-en-la-arquitectura-de-la-ciudad-moderna-en-america-latina-claudia
 -costa-cabral
DTSTART:20190329T150000Z
DTEND:20190329T160000Z
LOCATION:Salón Sergio Larraín\, Campus Lo Contador ()
SUMMARY:Conferencia 'Modernidad y figuración en la arquitectura de la ciuda
 d moderna en América Latina' | Claudia Costa Cabral
URL:https://fadeu-old.urantiacos.cl/agenda/evento/1819-conferencia-modernid
 ad-y-figuracion-en-la-arquitectura-de-la-ciudad-moderna-en-america-latina-
 claudia-costa-cabral
END:VEVENT
BEGIN:VEVENT
UID:20260420T063808UTC-0026vzC8gi@https://fadeu-old.urantiacos.cl/
DTSTAMP:20260420T063807Z
DESCRIPTION:Conferencia&nbsp\;'The City as Microchip' del profesor de teor&
 iacute\;a en el Karlsruhe Institute of Technology de Alemania\, Georg Vrac
 hliotis\, en el marco del curso 'Arquitectura y la Tradici&oacute\;n Moder
 na' del profesor de la Escuela de Arquitectura UC\, Horacio Torrent.\n&nbs
 p\;\n&nbsp\;\nThe City as Microchip\n&nbsp\;\nThe lecture 'The City as Mic
 rochip'\, will discuss the radical proposals of Swiss Architect Fritz Hall
 er (1924-2012)\, friend and colleague of Konrad Wachsmann. Haller is prima
 rily remembered for his design of the modular furniture system USM. Howeve
 r\, this furniture system was in fact only the modest demonstration of a m
 uch larger theory concerning urban planning at a planetary scale. This urb
 an theory were nothing less than one of the most enigmatic and perhaps las
 t attempts in the 20th century to create an outline for new forms of perce
 ption about infrastructural space and landscape and to transfer that which
  is technically invisible into a geometric form.\n&nbsp\;\n&nbsp\;\nLa con
 ferencia 'The City as Microchip'\, discutir&aacute\; las propuestas radica
 les del arquitecto suizo Fritz Haller (1924-2012)\, amigo y colega de Konr
 ad Wachsmann. Haller es recordado principalmente por su dise&ntilde\;o del
  sistema de muebles modulares USM. Sin embargo\, este sistema de muebles e
 ra\, de hecho\, solo la modesta demostraci&oacute\;n de una teor&iacute\;a
  mucho m&aacute\;s amplia sobre la planificaci&oacute\;n urbana a escala p
 lanetaria. Esta teor&iacute\;a urbana fue nada menos que uno de los intent
 os m&aacute\;s enigm&aacute\;ticos y quiz&aacute\;s los &uacute\;ltimos en
  el siglo XX para crear un esquema para las nuevas formas de percepci&oacu
 te\;n sobre el espacio infraestructural&nbsp\;y el paisaje&nbsp\;y para tr
 ansferir lo que es t&eacute\;cnicamente invisible a una forma geom&eacute\
 ;trica.\n&nbsp\;\n&nbsp\;\n\nGeorg Vrachliotis&nbsp\;is Professor of Archi
 tecture Theory and director of the&nbsp\;saai&nbsp\;| archive for architec
 ture and civil engineering at the Karlsruhe Institute of Technology (KIT).
  He was appointed Dean of the Faculty of Architecture in 2016. He is the c
 urator and (co)author of 'Architecture and Technical Thinking in the Age o
 f Cybernetics' (2009)\, 'Structuralism Reloaded. Rule-Based Design in Arch
 itecture and Urbanism&ldquo\; (2011)\, 'Fritz Haller. Architect and Resear
 cher' (2014) and of 'Frei Otto. Thinking by Modeling' (2017).\nGeorg Vrach
 liotis&nbsp\;es profesor de teor&iacute\;a de la arquitectura y director d
 e&nbsp\;saai&nbsp\;| archivo de arquitectura e ingenier&iacute\;a civil en
  Karlsruhe Institute of Technology (KIT). Fue nombrado decano de la Facult
 ad de Arquitectura en 2016. Es curador y (co) autor de 'Architecture and T
 echnical Thinking in the Age of Cybernetics' (2009)\, 'Structuralism Reloa
 ded. Rule-Based Design in Architecture and Urbanism&ldquo\; (2011)\, 'Frit
 z Haller. Architect and Researcher' (2014) y de 'Frei Otto. Thinking by Mo
 deling' (2017).\n\nFecha_\nViernes 29 de marzo de 2019\, 10 h.\n&nbsp\;\n&
 nbsp\;\n&nbsp\;\nLugar_\nSal&oacute\;n SLGM\nEl Comendador 1936\, Providen
 cia\n&nbsp\;\n&nbsp\;\n&nbsp\;\nOrganizan_\nProyecto Fondecyt #1181290\nEs
 cuela de Arquitectura UC&nbsp\;\n&nbsp\;\n&nbsp\;\n&nbsp\;\nNoticiasContac
 to:&nbsp\;redesarq@uc.cl&nbsp\;| +56 2 2354 7747www.arquitectura.uc.cl htt
 ps://fadeu-old.urantiacos.cl/agenda/evento/1820-conferencia-the-city-as-mi
 crochip-georg-vrachliotis
DTSTART:20190329T130000Z
DTEND:20190329T140000Z
LOCATION:Salón Sergio Larraín\, Campus Lo Contador ()
SUMMARY:Conferencia 'The City as Microchip' | Georg Vrachliotis
URL:https://fadeu-old.urantiacos.cl/agenda/evento/1820-conferencia-the-city
 -as-microchip-georg-vrachliotis
END:VEVENT
END:VCALENDAR
