BEGIN:VCALENDAR
VERSION:2.0
PRODID:-//https://fadeu-old.urantiacos.cl///NONSGML kigkonsult.se iCalcreator 2.10.15//
METHOD:PUBLISH
BEGIN:VEVENT
UID:20260421T001024UTC-4082UF6UHW@https://fadeu-old.urantiacos.cl/
DTSTAMP:20260421T001024Z
DESCRIPTION:El pr&oacute\;ximo lunes 02 de Abril&nbsp\; se realizar&aacute\
 ; el lanzamienton del&nbsp\;17avo volumen de la serie ARQ Docs\, dedicado 
 al autor ingl&eacute\;s Adrian Forty. El libro recoge dos ensayos de Forty
 : 'Descripci&oacute\;n de Arquitectura\, &iquest\;Realidad o Ficci&oacute\
 ;n?' y 'Primitivo\, la palabra y el concepto'.\n&nbsp\;\n&nbsp\;\nAdrian F
 orty&nbsp\;es Profesor Em&eacute\;rito de Historia de la Arquitectura en l
 a Escuela de Arquitectura de Bartlett\, University College of London (UCL)
 \, Inglaterra\, donde fund&oacute\; el programa de Maestr&iacute\;a en His
 toria de la Arquitectura. Es autor de Objects of Desire (Nueva York: Panth
 eon Books\, 1986)\, Words and Buildings\, Vocabulary of Modern Architectur
 e (Nueva York: Thames &amp\; Hudson\, 2000)\, y Concrete and Culture\, a M
 aterial History (Londres: Reaction books\, 2012). Obtuvo su BA (Honores) e
 n Historia Moderna\, Universidad de Oxford (1969)\; tambi&eacute\;n es MA 
 en Historia del Arte Europeo Courtauld Institute of Art\, Londres (1971)\;
  y Doctor en Arquitectura\, Universidad de Londres (1989). Fue presidente 
 de la European Architectural History Network 2010-14.\n&nbsp\;\n&nbsp\;\nF
 echa: Lunes 02 de Abril\, 19.00 hrs.\n&nbsp\;\n&nbsp\;\nLugar: Auditorio F
 CV. Campus Lo Contador. El Comendador 1936\, Providencia.\n&nbsp\;\n&nbsp\
 ;\nOrganizan: Ediciones ARQ\n&nbsp\;\n\n&nbsp\; https://fadeu-old.urantiac
 os.cl/agenda/evento/1478-lanzamiento-arq-docs-adrian-forty
DTSTART:20180402T220000Z
DTEND:20180402T230000Z
LOCATION:Auditorio Fernando Castillo Velasco. Edificio ARQ (El Comendador 1
 936\, Providencia\, Región Metropolitana\, Chile)
SUMMARY:Lanzamiento ARQ Docs: Adrian Forty
URL:https://fadeu-old.urantiacos.cl/agenda/evento/1478-lanzamiento-arq-docs
 -adrian-forty
END:VEVENT
BEGIN:VEVENT
UID:20260421T001024UTC-4088f6zwwf@https://fadeu-old.urantiacos.cl/
DTSTAMP:20260421T001024Z
DESCRIPTION:De la Villa a la C&eacute\;lula' junto al simposio con que culm
 ina\, se enfoca en la vivienda social y colectiva\, entendida esta no sola
 mente de relevancia para la ciudad\, sino como un problema eminentemente a
 rquitect&oacute\;nico.\nEl workshop revisar&aacute\; hist&oacute\;ricament
 e soluciones habitacionales de la ciudad de Santiago contrast&aacute\;ndol
 as con proyectos internacionales.&nbsp\;Cuestionaremos la definici&oacute\
 ;n de la palabra 'villa'\, la cual se ha usado para designar arquitectura 
 muy distintas: desde la 'villa palladiana' a la villa como poblaci&oacute\
 ;n\, y la villa como proyecto colectivo.\nSe cuestionar&aacute\; el rol de
  la vivienda como pieza urbana (en tanto pieza-bloque\, pieza-continua\, y
  pieza-torre) re-evaluando de forma cr&iacute\;tica las intervenciones emb
 lem&aacute\;ticas: de 'villas'\, 'unidades habitacionales'\, y 'remodelaci
 ones' a la 'c&eacute\;lula habitacional'. El taller debatir&aacute\; y exa
 minar&aacute\; - a trav&eacute\;s de estrategias de representaci&oacute\;n
  gr&aacute\;fica y pict&oacute\;rica\, diferentes posibilidades de estruct
 uras organizativas gen&eacute\;ricas (tipolog&iacute\;as fundamentales) qu
 e puedan evaluar cr&iacute\;ticamente l&oacute\;gicas ya aceptadas\, como 
 las de la propiedad\, la divisi&oacute\;n entre el trabajo y lo dom&eacute
 \;stico y la inmigraci&oacute\;n\, como nuevas 'formas de vida'.\nEn tres 
 semanas consecutivas\, los alumnos pondr&aacute\;n a prueba las posibilida
 des de reinvenci&oacute\;n de la manzana t&iacute\;pica del pericentro de 
 Santiago estructurada en base a lotes de 9 x 18 metros\, asumiendo &eacute
 \;ste como el laboratorio de especulaci&oacute\;n.\nCupos disponibles para
  estudiantes de Pregrado y Programas de Magister de la Escuela de Arquitec
 tura UC en pr&oacute\;xima toma de ramos (1 y 2 de marzo)\n*Pronto m&aacut
 e\;s informaci&oacute\;n sobre el seminario (abierto y gratuito)\nProfesor
 es:Alejandra Celed&oacute\;n (MARQ)Alvaro Arancibia (MPUR)\nInvitados Inte
 rnacionales:Sam Jacoby (AA/RCA Londres)Francesco Marullo (UIC Chicago)Max 
 Khalen (AA Londres)\nInvitados Locales:Francisco D&iacute\;azFelipe de Fer
 rariSebastian Irarr&aacute\;zavalRodrigo P&eacute\;rez de ArceFrancisco Qu
 intanaNicol&aacute\;s Stutzin\nSAM JACOBYDirector\, Projective Cities (MPh
 il in Architecture and Urban Design)Sam Jacoby is a chartered architect wi
 th an AA Diploma and a doctorate from the Technische Universit&auml\;t Ber
 lin in architectural history and theory. He teaches at the AA since 2002\,
  and in addition has taught at the University of Nottingham\, the Universi
 ty College London (The Bartlett School of Architecture)\, the Staatliche A
 kademie der Bildenden K&uuml\;nste Stuttgart\, and the Royal College of Ar
 t. Jacoby has also worked for architectural and planning offices in the UK
 \, Germany\, USA\, and Malaysia after training as a cabinet-maker in Germa
 ny.\nFRANCESCO MARULLOArchitect and educator based in Chicago and Rotterda
 m. PhD in History and Theory of Architecture from the Delft University of 
 Technology. Assistant Professor at the UIC School of Architecture in Chica
 go. Previously has taught design studios and theory seminars at The Berlag
 e Institute\, TU Delft\, the Rotterdam Academy of Architecture\, the Roma 
 Tre University. Marullo has worked with the Office for Metropolitan Archit
 ecture\, Matteo Mannini Architects\, and DOGMA. Founding member of the res
 earch collective The City as a Project.\nMAX KAHLENAA Dipl (Hons)\, Archit
 ekt AKNW (Germany). Director and co-founder of Dyvik Kahlen. Max studied a
 t Stuttgart State Academy of Art and Design and then at the Architectural 
 Association School of Architecture in London\, where he graduated with Hon
 ours in 2008. Lahlen was tutor at Architectural Association from 2009 to 2
 015\, running design units in the First Year\, Diploma School and Media Sc
 hools. He regularly contributes to the academic discourse as a guest criti
 c and lecturer for leading academic institutions in London and abroad.\n&n
 bsp\;\n\n&nbsp\;\n https://fadeu-old.urantiacos.cl/agenda/evento/1444-work
 shop-internacional-from-villa-to-cell
DTSTART:20180402T030000Z
LOCATION:Campus Lo Contador (El Comendador 1916\, Providencia\, Providencia
 \, Región Metropolitana\, Chile)
SUMMARY:Workshop Internacional From Villa to Cell
URL:https://fadeu-old.urantiacos.cl/agenda/evento/1444-workshop-internacion
 al-from-villa-to-cell
END:VEVENT
END:VCALENDAR
