BEGIN:VCALENDAR
VERSION:2.0
PRODID:-//https://fadeu-old.urantiacos.cl///NONSGML kigkonsult.se iCalcreator 2.10.15//
METHOD:PUBLISH
BEGIN:VEVENT
UID:20260421T001024UTC-50804hohHa@https://fadeu-old.urantiacos.cl/
DTSTAMP:20260421T001024Z
DESCRIPTION:Presentaci&oacute\;n a cargo de Wilfried Kuehn y Briony Fer sob
 re museograf&iacute\;a y dise&ntilde\;o curatorial. Modera Soledad Garc&ia
 cute\;a.\nBriony Fer\nEs Profesora de Historia del Arte. Se gradu&oacute\;
  de la Universidad de Sussex con BA (Honores) en Historia del Arte (major)
  en 1979. Luego pas&oacute\; al Departamento de Historia de la Teor&iacute
 \;a e Historia del Arte en la Universidad de Essex\, donde su investigaci&
 oacute\;n doctoral sobre las vanguardias rusas y francesas fue supervisada
  por el profesor Dawn Ades y el profesor Michael Podro.Es galardonada con 
 su doctorado en 1988.En 1980 se uni&oacute\; al Departamento de Historia d
 el Arte de la Open University como profesora trabajando en cursos innovado
 res y publicando ensayos en los libros de texto de &lsquo\;Modernidad y Mo
 dernismo&rsquo\;\, publicados conjuntamente por la prensa de la Open Unive
 rsity y de Yale University en 1993.Se uni&oacute\; a University College en
  1990 y se hizo profesora adjunta en 1997 y profesora de planta en 2005.Ha
  publicado extensamente sobre el siglo XX y el arte contempor&aacute\;neo.
 \nWilfried Kuehn\nNacido en Hamburgo (1967)\, K&uuml\;ehn estudi&oacute\; 
 arquitectura en Mil&aacute\;n y Lisboa. En 2001 fund&oacute\; junto a Joha
 nnes K&uuml\;ehn y Simona Malvezzi el estudio K&uuml\;ehn Malvezzi en Berl
 &iacute\;n\, que ha desarrollado un amplio portafolio de proyectos vincula
 dos a la exposici&oacute\;n y reorganizaci&oacute\;n de colecciones de art
 e hist&oacute\;rico y contempor&aacute\;neo\, a espacios institucionales d
 e uso p&uacute\;blico y al manejo y preservaci&oacute\;n de edificios hist
 &oacute\;ricos en Viena\, Frankfurt y Berl&iacute\;n. Entre ellos\, el pro
 yecto para la colecci&oacute\;n Julia Stoschek en Dusseldorf (2007)\, nomi
 nado al Premio Internacional Mies van der Rohe\, adem&aacute\;s de numeros
 os montajes de exposiciones en Austria y Alemania.\nFecha_Martes 03 de Abr
 il\, 19.00 hrs.\nLugar_Auditorio FCV. El Comendador 1936\, Providencia.\nO
 rganizan_EARQ UC + MSSA+ Estudio Com&uacute\;n\n&nbsp\;\n https://fadeu-ol
 d.urantiacos.cl/agenda/evento/1484-ciclo-estado-del-arte-wilfried-kuehn-br
 iony-fer
DTSTART:20180403T220000Z
DTEND:20180403T230000Z
LOCATION:Auditorio FADEU\, Campus Lo Contador PUC (El Comendador 1916\, Pro
 videncia\, Providencia\, Región Metropolitana\, Chile)
SUMMARY:Ciclo 'Estado del Arte' / Wilfried Kuehn + Briony Fer
URL:https://fadeu-old.urantiacos.cl/agenda/evento/1484-ciclo-estado-del-art
 e-wilfried-kuehn-briony-fer
END:VEVENT
BEGIN:VEVENT
UID:20260421T001024UTC-50882fwt7T@https://fadeu-old.urantiacos.cl/
DTSTAMP:20260421T001024Z
DESCRIPTION:En el marco del pre-lanzamiento de CONCIENCIA URBANA (Proyecto 
 Explora-UC de divulgaci&oacute\;n de la ciencia y la tecnolog&iacute\;a 20
 17-2018)\, Inga Gryl\, Directora del Departamento de Geograf&iacute\;a y D
 id&aacute\;ctica de Estudios Generales\, Universidad de Duisburg-Essen\, A
 lemania\, dictar&aacute\; la Conferencia titulada 'Ciudadan&iacute\;a Espa
 cial&rdquo\;.\nLa actividad se realizar&aacute\; el martes 3 de Abril\, 20
 18 de 10:00 a 12:00\, en el Auditorio de Arquitectura. Campus Lo Contador 
 - PUC.\nCONCIENCIA URBANA es un proyecto Explora-UC que busca contribuir a
 l desarrollo del pensamiento espacial critico en estudiantes de ense&ntild
 e\;anza secundaria del Gran Santiago\, ofreciendo una herramienta digital 
 interactiva que buscara conectar la vida cotidiana de los adolescentes y j
 &oacute\;venes con el fen&oacute\;meno urbano y su complejidad. Esto\, con
  el fin de desafiar\, ampliar\, explorar\, transformar\, compartir y comun
 icar la conciencia urbana de una generaci&oacute\;n que en la &uacute\;lti
 ma d&eacute\;cada se han transformado en un actor pol&iacute\;tico de rele
 vancia nacional.\nEn este sentido\, CONCIENCIA URBANA\, como parte del Obs
 ervatorio de Ciudades UC (OCUC)\, se inscribe en la misi&oacute\;n de recu
 perar el sentido p&uacute\;blico de los sistemas de an&aacute\;lisis de in
 formaci&oacute\;n geogr&aacute\;fica\, para comenzar a ser utilizados como
  herramienta de reflexi&oacute\;n y comunicaci&oacute\;n en el debate p&ua
 cute\;blico sobre la ciudad.\n&nbsp\;\n&nbsp\; https://fadeu-old.urantiaco
 s.cl/agenda/evento/1477-pre-lanzamiento-conciencia-urbana-conferencia-ciud
 adania-espacial-por-inga-gryl
DTSTART:20180403T130000Z
DTEND:20180403T150000Z
LOCATION:Auditorio Fernando Castillo Velasco. Edificio ARQ (El Comendador 1
 936\, Providencia\, Región Metropolitana\, Chile)
SUMMARY:Pre-lanzamiento Conciencia Urbana | CONFERENCIA “Ciudadanía Espacia
 l' por INGA GRYL
URL:https://fadeu-old.urantiacos.cl/agenda/evento/1477-pre-lanzamiento-conc
 iencia-urbana-conferencia-ciudadania-espacial-por-inga-gryl
END:VEVENT
END:VCALENDAR
