BEGIN:VCALENDAR
VERSION:2.0
PRODID:-//https://fadeu-old.urantiacos.cl///NONSGML kigkonsult.se iCalcreator 2.10.15//
METHOD:PUBLISH
BEGIN:VEVENT
UID:20260420T045857UTC-5849ZcUjaW@https://fadeu-old.urantiacos.cl/
DTSTAMP:20260420T045857Z
DESCRIPTION:El pr&oacute\;ximo mi&eacute\;rcoles 3 de abril se realizar&aac
 ute\; el lanzamiento del libro 'Baixas y del R&iacute\;o. Arquitectura'\, 
 el que contar&aacute\; adem&aacute\;s con los comentarios&nbsp\; de los ar
 quitectos Enrique Browne y Luis Izquierdo.&nbsp\;\nLas obras\, proyectos\,
  dise&ntilde\;os y escritos contenidos en este libro no solo presentan las
  tres d&eacute\;cadas del trabajo de la oficina de arquitectura Baixas y d
 el R&iacute\;o\, sino tambi&eacute\;n muestran el medio siglo de trayector
 ia profesional de Juan Ignacio Baixas\, uno de sus fundadores.\nLa origina
 lidad del trabajo de esta oficina va de la mano con una condici&oacute\;n 
 poco habitual: al 'saber hacer'\, visible en sus obras y dise&ntilde\;os\,
  se suma el 'saber explicar lo que se hace'\, tal como se puede leer en la
 s memorias de cada proyecto.\nAs&iacute\;\, esta publicaci&oacute\;n pone 
 de relieve otra caracter&iacute\;stica esencial que comparten Juan Ignacio
  Baixas y Enrique del R&iacute\;o (y que los diferencia de muchos de sus p
 ares): nunca han dejado de ense&ntilde\;ar arquitectura y han mantenido de
  forma permanente el compromiso en la formaci&oacute\;n de futuros arquite
 ctos. En este sentido\, esta monograf&iacute\;a no busca simplemente prese
 ntar al lector la arquitectura de Baixasy Del R&iacute\;o\; el objetivo\, 
 m&aacute\;s bien\, es ense&ntilde\;arla.&nbsp\;\nCu&aacute\;ndo: mi&eacute
 \;rcoles 3 abril 2019Hora: 19:00 horasD&oacute\;nde: Auditorio FADEU\n htt
 ps://fadeu-old.urantiacos.cl/agenda/evento/1822-lanzamiento-libro-baixas-y
 -del-rio-arquitectura
DTSTART:20190403T220000Z
DTEND:20190403T230000Z
LOCATION:Auditorio FADEU\, Campus Lo Contador PUC (El Comendador 1916\, Pro
 videncia\, Providencia\, Región Metropolitana\, Chile)
SUMMARY:Lanzamiento libro: 'Baixas y del Río. Arquitectura'
URL:https://fadeu-old.urantiacos.cl/agenda/evento/1822-lanzamiento-libro-ba
 ixas-y-del-rio-arquitectura
END:VEVENT
BEGIN:VEVENT
UID:20260420T045857UTC-58568bZoST@https://fadeu-old.urantiacos.cl/
DTSTAMP:20260420T045857Z
DESCRIPTION:Reflejo del quehacer de la Escuela de Dise&ntilde\;o UC el 2018
 \, Expo T&iacute\;tulo se ha constituido como&nbsp\;la exposici&oacute\;n 
 de proyectos destacados de los estudiantes que obtuvieron su t&iacute\;tul
 o con distinci&oacute\;n\, en esta escuela.\nCompuesta por 42&nbsp\;&nbsp\
 ;proyectos\, esta muestra abarca diferentes &aacute\;reas de la disciplina
  y sus tem&aacute\;ticas apuntan a relevar los m&uacute\;ltiples campos de
  intervenci&oacute\;n del Dise&ntilde\;o\, connotando proyectos que provie
 nen de &aacute\;reas como la gr&aacute\;fica\, el Dise&ntilde\;o Industria
 l\, la teor&iacute\;a\, el Dise&ntilde\;o de Servicio\, lo Textil y la Sus
 tentabilidad\, entre otros campos.\n https://fadeu-old.urantiacos.cl/agend
 a/evento/1807-suspendida-i-expotitulo-2018
DTSTART:20190403T160000Z
DTEND:20190403T170000Z
LOCATION:1 Piso Edificio Diseño (Los Navegantes 1916)
SUMMARY:SUSPENDIDA I Expotitulo 2018
URL:https://fadeu-old.urantiacos.cl/agenda/evento/1807-suspendida-i-expotit
 ulo-2018
END:VEVENT
END:VCALENDAR
