BEGIN:VCALENDAR
VERSION:2.0
PRODID:-//https://fadeu-old.urantiacos.cl///NONSGML kigkonsult.se iCalcreator 2.10.15//
METHOD:PUBLISH
BEGIN:VEVENT
UID:20260423T190708UTC-1943tRi7MZ@https://fadeu-old.urantiacos.cl/
DTSTAMP:20260423T190708Z
DESCRIPTION:6&ordf\; sesi&oacute\;n del ciclo de discusi&oacute\;n organiza
 do por el MARQ UC\nEn la sexta versi&oacute\;n Alejandra Celed&oacute\;n\,
  Pedro Correa\, Francisco D&iacute\;az\, Max N&uacute\;&ntilde\;ez\, Crist
 i&aacute\;n Izquierdo y Nicol&aacute\;s Stutzin discutir&aacute\;n sobre l
 as &uacute\;ltimas dos versiones de los pabellones para YAP_Constructo: &l
 dquo\;Tu reflexi&oacute\;n&rdquo\; de los arquitectos Guillermo Hevia y Ni
 col&aacute\;s Urz&uacute\;a y &ldquo\;M&aacute\;s all&aacute\; del domo&rd
 quo\; de los arquitectos Claudio Torres\, Yuji Harada\, Clarita Reutter y 
 Emile Straub.\nInvitanMagister en Arquitectura UCArquitectura UC\n&nbsp\;
 \n https://fadeu-old.urantiacos.cl/agenda/evento/857-serie-discusion-y-cri
 tica-de-edificios-pabellones
DTSTART:20170404T213000Z
DTEND:20170404T230000Z
LOCATION:Auditorio Arquitectura UC\, Campus Lo Contador (el comendador 1916
 \, providencia)
SUMMARY:Serie Discusión y Crítica de Edificios 'Pabellones'
URL:https://fadeu-old.urantiacos.cl/agenda/evento/857-serie-discusion-y-cri
 tica-de-edificios-pabellones
END:VEVENT
END:VCALENDAR
