BEGIN:VCALENDAR
VERSION:2.0
PRODID:-//https://fadeu-old.urantiacos.cl///NONSGML kigkonsult.se iCalcreator 2.10.15//
METHOD:PUBLISH
BEGIN:VEVENT
UID:20260421T000948UTC-6212xnWUGJ@https://fadeu-old.urantiacos.cl/
DTSTAMP:20260421T000948Z
DESCRIPTION:El 4 de abril 2018\, se dictar&aacute\; la Charla 'Menos es abu
 rrido. Dise&ntilde\;o gr&aacute\;fico posmoderno en Chile\, 1985- 2000'\, 
 investigaci&oacute\;n que plantea la existencia de una sensibilidad posmod
 erna en el dise&ntilde\;o gr&aacute\;fico chileno elaborado entre los año
 s 1985 y 2000\, a partir del an&aacute\;lisis de productos gr&aacute\;fico
 s que presentaron una experimentación en los códigos visuales empleados.
 \nA cargo de la Dise&ntilde\;adora UC\, Alejandra Neira\, la investigaci&o
 acute\;n que fue financiada por el Fondo Nacional de Desarrollo Cultural y
  las Artes\, Convocatoria 2016\, indaga sobre un tema poco explorado y a v
 eces subjetivo\, siendo posible hacer una lectura a trav&eacute\;s del rec
 orrido hist&oacute\;rico de que efectivamente hubo una sensibilidad posmod
 erna en el trabajo realizado por algunos profesionales y acad&eacute\;mico
 s del pa&iacute\;s\, quienes estuvieron m&aacute\;s vinculados a publicaci
 ones de avanzada o en contacto con universidades relacionadas con esta pos
 tura\, a veces antimoderna\, pero tambi&eacute\;n necesaria para explorar 
 m&aacute\;s all&aacute\; de los agotados esquemas que impuso el Movimiento
  Moderno.\n&nbsp\;&ldquo\;Si entendemos la noci&oacute\;n de &ldquo\;pos-m
 odernismo&rdquo\; como un abandono del orden previamente establecido por l
 a racionalidad y universalidad que impuso el Movimiento Moderno al adoptar
  ideas fragmentadas y locales\, se&nbsp\;podr&iacute\;a decir que la mir&i
 acute\;ada de estilos gr&aacute\;ficos desarrollados en Chile durante el p
 eriodo de estudio\, son acogidos por los principios del dise&ntilde\;o gr&
 aacute\;fico posmoderno&rdquo\;\, explica Alejandra Neira.\nLa investigaci
 &oacute\;n y charla culminar&aacute\; con una exhibici&oacute\;n de refere
 ntes gr&aacute\;ficos en la el Patio del Sal&oacute\;n Sergio Larra&iacute
 \;n.\nBiograf&iacute\;a&nbsp\;\nAlejandra Neira Rom&aacute\;n (1991\, Sant
 iago de Chile). Dise&ntilde\;adora de la Pontificia Universidad Cat&oacute
 \;lica de Chile. Fue ayudante de la primera versi&oacute\;n del Diplomado 
 de Visualizaci&oacute\;n de Datos y del Departamento se Estudios Tipogr&aa
 cute\;ficos en el a&ntilde\;o 2016. Particip&oacute\; del proyecto FONDART
  &ldquo\;Historia de la Infograf&iacute\;a en Chile 1945-2015&rdquo\; del 
 investigador Gonzalo Morales.\nGanadora de un Fondart Nacional Convocatori
 a 2016\, con su proyecto &ldquo\;Menos es Aburrido. Dise&ntilde\;o gr&aacu
 te\;fico posmoderno en Chile\, 1985-2000&rdquo\;. Actualmente trabaja en e
 l departamento de comunicaciones del Hospital de Urgencia Asistencia P&uac
 ute\;blica (HUAP)\, ex Posta Central.  \n https://fadeu-old.urantiacos.cl/
 agenda/evento/1480-charla-menos-es-aburrido-diseno-grafico-posmoderno-en-c
 hile-1985-2000
DTSTART:20180404T220000Z
DTEND:20180404T230000Z
LOCATION:Salón Sergio Larraín\, Campus Lo Contador ()
SUMMARY:Charla 'Menos es aburrido. Diseño gráfico posmoderno en Chile\, 198
 5 - 2000'
URL:https://fadeu-old.urantiacos.cl/agenda/evento/1480-charla-menos-es-abur
 rido-diseno-grafico-posmoderno-en-chile-1985-2000
END:VEVENT
BEGIN:VEVENT
UID:20260421T000948UTC-6221PECMVk@https://fadeu-old.urantiacos.cl/
DTSTAMP:20260421T000948Z
DESCRIPTION:Tetsuo Kondo\, socio fundador de la oficina de arquitectura jap
 onesa Tetsuo Kondo Architects\, quien es el primer invitado del semestre e
 n dirigir uno de los Workshops del Taller de Especialidad MArq 2018\, pres
 entar&aacute\; en detalle su pr&aacute\;ctica en una charla magistral abie
 rta a todo p&uacute\;blico. &Eacute\;sta se realizar&aacute\; el mi&eacute
 \;rcoles 04 de abril a las 19.00 hrs.\nTetsuo Kondo es Arquitecto (1999) p
 or el Nagoya Institute of Technology en Nagoya\, Jap&oacute\;n. Entre 1999
  y 2006 trabaj&oacute\; junto a Kazuyo Sejima y Ryue Nishizawa en Sanaa (P
 ritzker 2010) y actualmente desarrolla su labor docente en la Tokyo Univer
 sity of Science\, la Japan Women&rsquo\;s University y la Universidad de H
 osei.\nEstablece su pr&aacute\;ctica independiente en 2006\, con sede en T
 okyo. Dentro de su obra\, que abarca proyectos de arquitectura\, dise&ntil
 de\;o e instalaciones art&iacute\;sticas\, destacan proyectos como la Hous
 e with Gardens (Kanagawa\, 2007)\, la instalaci&oacute\;n A Path in the Fo
 rest (Tallin\, 2011) o la serie Cloudscapes\, presentada por primera vez e
 n la Bienal de Venecia del 2010. Ha obtenido numerosos reconocimientos\, c
 omo el Residential Architecture Award otorgado por la Sociedad de Arquitec
 tos e Ingenieros de Tokyo (2008) o el Gran Premio en la Competencia de Dis
 e&ntilde\;o de Sillas (2009).\nFecha_Mi&eacute\;rcoles 04 de abril\, 19.00
  hrs.\nLugar_Auditorio FCV. Campus Lo Contador. El Comendador 1936\, Provi
 dencia.\nInvitan_MARQ UCArquitectura UC\nLink_http://www.tetsuokondo.jp\n&
 nbsp\;\n https://fadeu-old.urantiacos.cl/agenda/evento/1490-conferencia-ma
 gistral-tetsuo-kondo
DTSTART:20180404T220000Z
DTEND:20180404T230000Z
LOCATION:Auditorio Fernando Castillo Velasco. Edificio ARQ (El Comendador 1
 936\, Providencia\, Región Metropolitana\, Chile)
SUMMARY:Conferencia Magistral Tetsuo Kondo
URL:https://fadeu-old.urantiacos.cl/agenda/evento/1490-conferencia-magistra
 l-tetsuo-kondo
END:VEVENT
BEGIN:VEVENT
UID:20260421T000948UTC-6227fuaDww@https://fadeu-old.urantiacos.cl/
DTSTAMP:20260421T000948Z
DESCRIPTION:Seminario 'La prefabricaci&oacute\;n en hormig&oacute\;n armado
  en el contexto internacional'Pre-Fabricated Structural Systems in an Inte
 rnational Context.\nOrganizado por Pedro Alonso\, en colaboraci&oacute\;n 
 con la Escuela de Dise&ntilde\;o\, Pontificia Universidad Cat&oacute\;lica
  de Chile y la Vicerrector&iacute\;a de Investigaci&oacute\;n - VRI.\nEl s
 eminario explora el car&aacute\;cter transnacional de sistemas de prefabri
 caci&oacute\;n en hormig&oacute\;n armado. Teniendo en consideraci&oacute\
 ;n antecedentes hist&oacute\;ricos y contempor&aacute\;neos\, propone una 
 mirada interdisciplinaria que incluye el impacto de nuevas tecnolog&iacute
 \;as en el debate sobre sistemas estructurales de hormig&oacute\;n armado.
  El objetivo principal es comprender relaciones t&eacute\;cnicas y tipol&o
 acute\;gicas entre sistemas\, con el fin de explorar sus &lsquo\;migracion
 es&rsquo\; y &lsquo\;adaptaci&oacute\;n&rsquo\; en distintos contextos cul
 turales\, pol&iacute\;ticos\, y sociales\, presentes y futuros.\nFecha_Mi&
 eacute\;rcoles 04 de abril\, 15.00 - 18.00 hrs.\nLugar_Auditorio FCV. El C
 omendador 1936\, Providencia.\nPrograma_15:00 hrsPresentaci&oacute\;n y bi
 envenida.- Pedro Alonso\, Subdirector de Investigaci&oacute\;n y Postgrado
  de la Escuela de Arquitectura Pontificia Universidad Cat&oacute\;lica de 
 Chile.15:20 hrsLa prefabricaci&oacute\;n en hormig&oacute\;n armado en el 
 contexto internacional.Large-concrete panel prefabrication in an Internati
 onal Context.- Pedro Ignacio Alonso\, PUC Santiago15:40 hrsLa red sueca D3
  y su relaci&oacute\;n con el sistema Ohlsson &amp\; Skarne S66The D3 netw
 ork in Sweden with focus on Ohlsson &amp\; Skarne S66- Erik Stenberg\, Roy
 al Institute of Technology (KTH)\, Estocolmo.16:00 hrsTecnolog&iacute\;as 
 digitales e impresi&oacute\;n 3D: un Nuevo acercamiento a la comprensi&oac
 ute\;n de los sistemas estructurales de hormig&oacute\;n armado.Digital 3D
  Printing technologies: a new approach to the understanding of structural 
 concrete systems.- Helena Westerlind\, Royal Institute of Technology (KTH)
 \, Estocolmo.16:20 hrsSistemas constructivos como procesamiento de datos.B
 uilding systems as data processing.- Jos&eacute\; Hern&aacute\;ndez\, PUC 
 Santiago16:40 hrsPaneles de pel&iacute\;culaMovie panels- Hugo Palmarola\,
  PUC Santiago17:00 hrsLes Bleuets\, Paris: el sistema de Paul BossardLes B
 leuets\, Paris: Paul Bossard&rsquo\;s system- Adrian Forty. Bartlett Schoo
 l of Architecture\, University College of London.17:20 hrsMesa redonda.18:
 00 hrsCierre.\n\n&nbsp\;\nParticipantes_\nAdrian Forty&nbsp\;es Profesor E
 m&eacute\;rito de Historia de la Arquitectura en la Escuela de Arquitectur
 a Bartlett\, UCL\, donde fund&oacute\; el programa de Maestr&iacute\;a en 
 Historia de la Arquitectura. Es autor de los libros Objects of Desire\, Wo
 rds and Buildings\, A Vocabulary of Modern Architecture\, y Concrete and C
 ulture\, a Material History\, publicado en 2012. Fue presidente del Europe
 an Architectural History Network 2010-14.Erik Stenberg&nbsp\;es arquitecto
  y profesor asociado en la Escuela de Arquitectura KTH y el Medio Ambiente
  Construido en Estocolmo\, Suecia. Actualmente es el subdirector del Centr
 o KTH para un Entorno Construido Sostenible (www.chs.kth.se) donde est&aac
 ute\; construyendo un Laboratorio de Casas Sustentables. Stenberg vivi&oac
 ute\; en Tensta desde 1999 hasta 2011 y fue el responsable de iniciar la e
 xposici&oacute\;n de viviendas Tensta Bo 2006\, Tensta Arkitekturskola en 
 2009\, y Welfare Panels: The Pre-Fabricated Structural Systems of the Swed
 ish Million Program Era in an International Context en la galer&iacute\;a 
 Testa Konsthall de Estocolmo (2017).Helena Westerlind&nbsp\;es candidata a
  doctora en la escuela de arquitectura del Instituto Real de Tecnolog&iacu
 te\;a (KTH) en Estocolmo y parte de la red InnoChain de la Comunidad Europ
 ea. Posee un diploma por la Architectural Association (RIBA/ARB Part 2) y 
 ha trabajado en oficinas en Berl&iacute\;n\, Nueva Delhi y Madrid. Su trab
 ajo se centra en la relaci&oacute\;n entre ideas y materiales y c&oacute\;
 mo las tecnolog&iacute\;as digitales influencian nuestra visi&oacute\;n e 
 interacci&oacute\;n con la materia. Su tesis doctoral investiga espec&iacu
 te\;ficamente las consecuencias de introducci&oacute\;n de fabricaci&oacut
 e\;n aditiva en hormig&oacute\;n y c&oacute\;mo modifica las restricciones
  que condicionan su uso actualmente\, como la dependencia del encofrado o 
 la prefabricaci&oacute\;n y estandarizaci&oacute\;n de componentes.Hugo Pa
 lmarola&nbsp\;es dise&ntilde\;ador de la Pontificia Universidad Cat&oacute
 \;lica de Chile (2004) y Magister en Teor&iacute\;a e Historia del Dise&nt
 ilde\;o Industrial por la Universidad Nacional Aut&oacute\;noma de M&eacut
 e\;xico (2010). Palmarola obtuvo el Le&oacute\;n de Plata de la 14.&ordf\;
  Bienal de Arquitectura de Venecia por el Pabell&oacute\;n de Chile Monoli
 th Controversies\, curado junto a Pedro Alonso (2014). Ambos son autores d
 e los libros Panel (Architectural Association\, 2014) y Monolith Controver
 sies (Hatje Cantz\, 2014)\, libro que obtuvo el DAM Architectural Book Awa
 rd del Deutsches Architekturmuseum y la Frankfurt Book Fair (2014). Actual
 mente es profesor e investigador en la Escuela de Dise&ntilde\;o de la Pon
 tificia Universidad Cat&oacute\;lica de Chile.Jos&eacute\; Hern&aacute\;nd
 ez es arquitecto e instructor de la Escuela de Arquitectura de la Universi
 dad Cat&oacute\;lica de Chile. Sus intereses de investigaci&oacute\;n se c
 entran en la historia y teor&iacute\;a de la arquitectura digital y c&oacu
 te\;mo las nuevas tecnolog&iacute\;as cambian los procesos de producci&oac
 ute\;n. Ha trabajado como programador y dise&ntilde\;ador de interacci&oac
 ute\;n en varias exposiciones en Santiago y el extranjero. Su trabajo prof
 esional aplica tecnolog&iacute\;as digitales para optimizar o automatizar 
 procesos en un amplio rango de disciplinas\, incluyendo fabricaci&oacute\;
 n digital\, planificaci&oacute\;n urbana\, an&aacute\;lisis de costos\, vi
 sualizaci&oacute\;n y dise&ntilde\;o arquitect&oacute\;nico.Pedro Ignacio 
 Alonso&nbsp\;es Arquitecto y Magister en Arquitectura\, Pontificia Univers
 idad Cat&oacute\;lica de Chile\, 2000. Doctor en Arquitectura\, Architectu
 ral Association School of Architecture\, Reino Unido\, 2008. Profesor Asoc
 iado en la Pontificia Universidad Cat&oacute\;lica de Chile\, profesor vis
 itante en Architectural Association\, y Princeton-Mellon Fellow 2015-2016 
 en Princeton University. Entre sus publicaciones destacan Panel (Londres: 
 Architectural Association\, 2014)\, Acr&oacute\;nimo (Santiago: ARQ\, 2016
 )\, y Space Race Archaeologies: Photography\, Biographies\, and Design (Be
 rlin: DOM\, 2016).\nNoticias\nContacto: redesarq(at)uc.cl | +56 2 2354 774
 7www.arquitectura.uc.cl\n&nbsp\; https://fadeu-old.urantiacos.cl/agenda/ev
 ento/1469-la-prefabricacion-en-hormigon-armado-en-el-contexto-internaciona
 l
DTSTART:20180404T180000Z
DTEND:20180404T210000Z
LOCATION:Auditorio Fernando Castillo Velasco. Edificio ARQ (El Comendador 1
 936\, Providencia\, Región Metropolitana\, Chile)
SUMMARY:La prefabricación en hormigón armado en el contexto internacional
URL:https://fadeu-old.urantiacos.cl/agenda/evento/1469-la-prefabricacion-en
 -hormigon-armado-en-el-contexto-internacional
END:VEVENT
BEGIN:VEVENT
UID:20260421T000948UTC-62469SUUuN@https://fadeu-old.urantiacos.cl/
DTSTAMP:20260421T000948Z
DESCRIPTION:El mi&eacute\;rcoles 4 de abril se llevar&aacute\; acabo la pri
 mera versi&oacute\;n del nuevo ciclo de charlas titulado 'Di&aacute\;logo 
 Permanente con la Arquitectura'. Las dos conferencias inaugurales estar&aa
 cute\;n a cargo de los arquitectos y docentes de la escuela Rodrigo P&eacu
 te\;rez de Arce y Diego Grass\, quienes presentar&aacute\;n respectivament
 e a las oficinas de arquitectura A+P Smithson y Atelier Bow-Wow.\nEl nuevo
  ciclo del &aacute\;rea de Extensi&oacute\;n de la Escuela de Arquitectura
  UC\, nace de la publicaci&oacute\;n del libro titulado 'Un di&aacute\;log
 o permanente con la arquitectura'\, lanzado en el marco de la XX Bienal de
  Arquitectura y Urbanismo ''Di&aacute\;logos Impostergables'\, el pasado 4
  de noviembre de 2017. En la publicaci&oacute\;n de Ediciones ARQ particip
 aron m&aacute\;s de 100 profesores\, reuniendo a trav&eacute\;s de texto e
  im&aacute\;genes\, un di&aacute\;logo con la arquitectura como pr&aacute\
 ;ctica reflexiva y expresi&oacute\;n de cultura. ''Articulando distintas p
 ersonas y tiempos\, se busca contribuir a que nuestra disciplina tenga may
 or peso en las decisiones que afectan a lo p&uacute\;blico. En esa tarea\,
  sin embargo\, lo fundamental es no olvidar que ni la urgencia por respond
 er a las preguntas ni la necesaria capacidad de escuchar al entorno pueden
  soslayar una condici&oacute\;n realmente impostergable: que antes de entr
 ar en un di&aacute\;logo\, tenemos que saber bien qu&eacute\; decir''.\nEl
  formato del ciclo ser&aacute\; una conversaci&oacute\;n distendida entre 
 exponentes y aistentes\, a realizarse en los per&iacute\;odos de almuerzo\
 , de 13.30 - 15:00 hrs. Cada versi&oacute\;n contar&aacute\; con dos invit
 ados\, quienes presentar&aacute\;n por separado obras y/o personajes notab
 les en la Arquitectura\, sirviendo dichas presentaciones de plataformas pa
 ra abrir la discusi&oacute\;n sobre diferentes tem&aacute\;ticas que no de
 ben dejar de ser permanentes en la discusi&oacute\;n de nuestra disciplina
  y en su rol en la cultura\, di&aacute\;logos que sean capaces de seguir i
 nformando las decisiones del presente y de abrir escenarios futuros.\nFech
 a_Mi&eacute\;rcoles 04 de abril de 2018\, 13.30 - 15.00 hrs.\nLugar_Hall e
 dificio de Arquitectura UC. Campus Lo Contador. El Comendador 1936\, Provi
 dencia.\nOrganizan_EARQ UC + Estudio Com&uacute\;n\n https://fadeu-old.ura
 ntiacos.cl/agenda/evento/1492-ciclo-dialogo-permanente-con-la-arquitectura
 -1
DTSTART:20180404T163000Z
DTEND:20180404T180000Z
LOCATION:Hall Arquitectura UC (El Comendador 1936\, Providencia\, Región Me
 tropolitana\, Chile)
SUMMARY:Ciclo 'Diálogo Permanente con la Arquitectura' #1
URL:https://fadeu-old.urantiacos.cl/agenda/evento/1492-ciclo-dialogo-perman
 ente-con-la-arquitectura-1
END:VEVENT
END:VCALENDAR
